{"text_format":"1","workbook":"xlsx","n_sheets":15,"sheets":["Manual DST"," Input oud","Input","Overall results","Results PHA","calc results PHA","factsheet PHA","Results Lipids for Bio-diesel","calc results lipids","factsheet Lipids for Bio-diesel","Results Oil-Char-Acetic acid","calc results cellulose","factsheet Oil-Char-Acetic Acid","Decision rules"," lists & calculation "],"not_rendered":{"charts":6,"images":15,"macros":1,"external_links":0,"defined_names":5,"comments":8,"pivot_tables":0},"unopened":[],"bounds":{"document_bytes":16777216,"sheet_cells":100000,"rows_first":2000,"rows_last":500,"rows_between":2000,"halvings":0,"cell_chars":16384,"cell_head_chars":4096},"cells_cut":0,"cells_raw":0,"read":"whole","date_system":"1900"}

{"sheet":"Manual DST","index":0,"n_rows":40,"n_cols":2,"rows_kept":40,"cut":false,"hidden":false,"merged":[]}
[]
[]
[]
[]
[]
[]
[]
[]
[null,"https://www.nweurope.eu/projects/project-search/wow-wider-business-opportunities-for-raw-materials-from-wastewater/"]
[]
[]
[]
[]
[null,"DECISION SUPPORT TOOL"]
[null,"The Decision Support Tool (DST) is a tool that offers organizations that operate sewage treatment plants a comprehensive decision making framework on the re-use of (carbon elements in) sewage for the production of valuable products. This tool is meant for water authorities (policy makers, sewage treatment plant operators) and factory owners to see if their sewage is suitable for:"]
[]
[null,"֍ Production of the bioplastic PHA (polyhydroxyalkanoates):"]
[null,"PHA is a fully degradable bioplastic that can be produced by bacteria that are present in a sewage treatment plant (STP). First secondary sludge is used to grow bacteria with a high PHA production capacity. Next, the water fraction of primary sludge which contains volatile fatty acids (VFAs) is fed to these bacteria. The bacteria will convert the VFAs into PHA and store this PHA inside their cells. In the last step, the PHA is chemically extracted from the bacteria."]
[]
[null,"֍ Production of bio-diesel:"]
[null,"The effluent from the primary treatment often contains fats and oils. These fats and oils can be converted into lipids by the bacteria species Microthrix parcivella. The lipids produced by Microthrix can be used for the production of bio-diesel. The conversion of fats and oils into lipids by Microthrix will be done in a Microthrix parvicella Selecting Reactor (MPSR). The effluent from the primary treatment will be fed to this MPSR."]
[]
[null,"֍ Production of oil, (bio)char and acetic acid from cellulose:"]
[null,"The influent of a sewage treatment plant often contains cellulose (toilet paper). This cellulose can be used for the production of oil, (bio)char and acetic acid. In a first step, special cellulose screens will filter the influent of the STP. The filtered fraction will mainly consist of cellulose, some other organics and a fraction of sand. After dewatering, the harvested cellulosic screenings are dried, pelletised and fed to a pyrolysis process. During the pyrolysis process, carbon chains are disintegrated into different fractions: oil, (bio)char and acetic acid. The oil can be used as (bio)fuel, the (bio)char can be used to remove medicines from sewage water and the acetic acid can possibly be used in the production of the bioplastic PHA."]
[]
[null,"How does the DST work?"]
[null,"INPUT"]
[null,"- The DST consists of a tab 'Input' in which you need to fill in a set of parameters regarding one or more (up to 50) sewage treatment plants and the composition of the influent stream of     \n   these sewage treatment plants. In the 'input tab' is explained which information you need to fill in."]
[null,"RESULTS"]
[null,"- The input data is used to determine whether a sewage treatment plant is suitable for the three given technologies. The overall results can be found in the tab 'Overall results'. More detailed information about each of the three technologies can be found in the tabs 'Results PHA', 'Results Lipids for Bio-diesel' and 'Results for Oil-Char-Acetic acid'."]
[null,"- Consult the tabs 'factsheet PHA', 'factsheet Lipids for Bio-diesel' or 'factsheet Oil-Char-Acetic Acid' for additional information."]
[null,"* These tabs give an overview of possible effects on other processes of the sewage treatment plant, these effects are not related to the input values filled in on the input tab"]
[null,"* These tabs give a broad overview on the technical, economical, environmental & sustainability and social aspects of the technology"]
[null,"GENERAL INFORMATION"]
[null,"- Make sure to adjust your viewing display so you can read all information in the Decision Support Tool"]
[null,"- If a box contains a red triangle in the top right corner, additional information can be found (explanation, instruction) if you move the cursor in the box"]
[]
[]
[null,"Which decision rules are used?"]
[null,"The last tab of this decision tool (decision rules) gives and overview of all the decision rules that are used to decide if a sewage treatment plant is suitable for the three given technologies. "]

{"sheet":" Input oud","index":1,"n_rows":22,"n_cols":26,"rows_kept":22,"cut":false,"hidden":true,"merged":[[19,2,19,8],[9,1,9,2],[4,1,4,2],[5,1,5,2],[6,1,6,2],[7,1,7,2],[8,1,8,2],[10,1,10,2],[14,1,14,2],[15,1,15,3],[11,1,11,2],[12,1,12,2],[13,1,13,2],[10,6,11,6]]}
[null,"DECISION SUPPORT TOOL"]
[null,null,null,null,null,null,null,null,null,null,null,"primary treatment",null,"% households",null,"amount PE","households&PE","BOD/COD",null,"COD",null,null,null,null,"Overall"]
[]
[null,null,null,"INPUT COLUMN \n(add your information in this column)","PHA\n(bioplastics)","Bio-diesel\n(from lipids)","Oil - Char - Acetic Acid\n(from cellulose)",null,null,null,"PHA",{"$f":"IF($D$9=\"No\",0,IF($D$9=\"Yes\",2,\"\"))","v":2},null,null,null,{"$f":"IF(AND(D12<=40000,D12>0),0,IF(D12>=80000,2,IF(AND(D12>=40000,D12<=79999),1,\"\")))","v":1},null,{"$f":"IF(AND(D13<=0.2,D13>0),0,IF(D13>=0.4,2,IF(AND(D13>=0.2,D13<=0.4),1,\"\")))","v":""},null,null,null,{"$f":"IF(AND(#REF!<=50000,#REF!>0),0,IF(#REF!>=100000,2,IF(AND(#REF!>=50000,#REF!<=99999),1,\"\")))","v":{"$error":"#REF!"}},null,"alles groen",{"$f":"AND(L4=2,P4=2,R4=2)","v":false},{"$f":"IF(Y4=TRUE,1,0)","v":0}]
[null,"General information",null,null,null,null,null,null,null,null,null,"no = 0",null,null,null,"<40000 = 0",null,"<0,2 = 0",null,null,null,null,null,"min 1 oranje ",{"$f":"OR(L4=0,P4=0,R4=0)","v":false},{"$f":"IF(Y5=TRUE,1,0)","v":0}]
[null,"Name stream / sewage treatment plant",null,null,null,null,null,null,null,null,null,null,null,null,null,"40000 - 80000 = 1",null,"0,2 - 0,4 = 1",null,null,null,null,null,"min 1 geel ",{"$f":"OR(L4=1,P4=1,R4=1)","v":true},{"$f":"IF(Y6=\"WAAR\",1,0)","v":0}]
[null,"Location",null,null,null,null,null,null,null,null,null,"yes = 2",null,null,null,">80000 = 2",null,">0,4 = 2"]
[null,"Current set-up of sewage treatment plant"]
[null,"Primary treatment",null,"Yes",null,null,null,null,null,null,"LIPIDS",null,null,null,null,{"$f":"IF(AND(D12<=20000,D12>0),0,IF(D12>=50000,2,IF(AND(D12>20000,D12<=49999),1,\"\")))","v":1},null,null,null,{"$f":"IF(AND(D14<=450,D14>0),0,IF(D14>=600,2,IF(AND(D14>450,D14<=599),1,\"\")))","v":""},null,null,null,"alles groen",{"$f":"AND(P9=2,T9=2)","v":false},{"$f":"IF(Y9=TRUE,1,0)","v":0}]
[null,"Composition of input stream",null,null,null,null,null,null,null,null,null,null,null,null,null,"<20000 = 0",null,null,null,"<450 mg/l = 0",null,null,null,"min 1 oranje ",{"$f":"OR(P9=0,T9=0)","v":false},{"$f":"IF(Y10=TRUE,1,0)","v":0}]
[null,"Percentage sewage water from households",null,"25-50%",null,null,null,null,null,null,null,null,null,null,null,"20000 - 50000 = 1",null,null,null,"450-600 mg/l = 1",null,null,null,"min 1 geel ",{"$f":"OR(P9=1,T9=1)","v":true},{"$f":"IF(Y11=\"WAAR\",1,0)","v":0}]
[null,"Amount of Population Equivalents (PE)",null,41000,null,null,null,null,null,null,null,null,null,null,null,">50000 = 2",null,null,null,">600 mg/l = 2"]
[null,"BOD/COD ratio"]
[null,"COD (mg/l)",null,null,null,null,null,null,null,null,"CELLULOSE",null,null,{"$f":"IF($D$11=\"<25%\",0,IF($D$11=\">50%\",2,IF($D$11=\"25-50%\",1,\"\")))","v":1},null,{"$f":"IF(AND(D12<25000,D12>0),0,IF(D12>=40000,2,IF(AND(D12>=25000,D12<=39999),1,\"\")))","v":2},{"$f":"IF($Q$15<2,0,IF($Q$15>=3,2,IF($Q$15=2,1,\"\")))","v":2},null,null,null,null,null,null,"alles groen",{"$f":"AND(P14=2,N14=2)","v":false},{"$f":"IF(Y14=TRUE,1,0)","v":0}]
[null,null,null,null,null,null,null,null,null,null,null,null,null,"< 25%",null,"<25000 = 0",{"$f":"N14+P14","v":3},null,null,null,null,null,null,"min 1 oranje ",{"$f":"OR(P14=0,N14=0)","v":false},{"$f":"IF(Y15=TRUE,1,0)","v":0}]
[null,"Final result",null,null,null,null,null,null,null,null,null,null,null,"25 - 50%",null,"25000 - 40000 = 1",null,null,null,null,null,null,null,"min 1 geel ",{"$f":"OR(P14=1,N14=1)","v":true},{"$f":"IF(Y16=\"WAAR\",1,0)","v":0}]
[null,null,null,null,null,null,null,null,null,null,null,null,null,">50%",null,">40000 = 2"]
[null,null,"= Input of information indicates that the input stream of the sewage treatment plant is promising for this technique"]
[null,null,"= Based on the given input it is not yet clear if the input stream of the sewage treatment plant is suitable for this technique.  A more detailed consideration is needed."]
[null,null,"= The composition of the input stream of the sewage treatment plant indicates that implementation of this technique at this STP only is probably NOT feasible\n(NOTE:  other aspects such as combined implementation of the technique at several STPs or desire to reduce organic load of STP could make technique feasible, see factsheets)"]
[null,null,"= Not all parameters of the input stream are filled in. Result cannot be determined"]
[null,null,"= parameter not relevant for this application"]

{"sheet":"Input","index":2,"n_rows":65,"n_cols":8,"rows_kept":65,"cut":false,"hidden":false,"merged":[[3,0,3,11],[5,0,5,11],[7,0,7,11],[4,0,4,11],[10,3,10,6]]}
["DECISION SUPPORT TOOL - DATA INPUT"]
[]
["INSTRUCTION"]
["* In this tab 'input' you can fill in data from up to 50 sewage treatment plants. Information can be filled in in the cells coloured n and n"]
["* A) First you have to choose which method is used to calculate the population equivalent for the sewage treatment plants that you are testing. There is an option menu for this (row 11)."]
["* B) gives the standard value for the BOD/COD-ratio that will be used in the calculation if no BOD and/or COD concentration is filled in in column G and/or H. In this case, a standard BOD/COD-ratio of 0,5 will be used in the \n   Decision Support Tool. This value is based on average BOD/COD ratios in the influent of sewage treatment plants in Europe. The standard BOD/COD ratio can be changed in this cell if you have information about the actual \n   BOD/COD ratios of the influent at your sewage treatment plants."]
["* In Column A and B you can put in information about the name a the sewage treatment plant and the location (city, region)"]
["* In column D, E, F, G and H you have to fill in specific information about (the influent of) the sewage treatment plant. Column D and F have an option menu. Additional information can be found in the cells with a red \n    triangle if you move your cursor over the cell."]
[]
[]
["A) Which method do you use for calculation of Population Equivalents? "]
["B) Standard value for BOD/COD-ratio (only used if BOD and/or COD concentration is NOT known)",null,null,0.5]
[]
[null,"Name Sewage Treatment Plant","Location","Primary treatment","Percentage sewage from households","Amount of \nPopulation Equivalents","BOD","COD"]
[null,null,null,"yes/no","%","PE","mg/l","mg/l"]
[1]
[2]
[3]
[4]
[5]
[6]
[7]
[8]
[9]
[10]
[11]
[12]
[13]
[14]
[15]
[16]
[17]
[18]
[19]
[20]
[21]
[22]
[23]
[24]
[25]
[26]
[27]
[28]
[29]
[30]
[31]
[32]
[33]
[34]
[35]
[36]
[37]
[38]
[39]
[40]
[41]
[42]
[43]
[44]
[45]
[46]
[47]
[48]
[49]
[50]

{"sheet":"Overall results","index":3,"n_rows":55,"n_cols":11,"rows_kept":55,"cut":false,"hidden":false,"merged":[[22,8,22,23],[23,8,23,23],[24,8,24,23],[26,8,26,23],[24,7,25,7],[25,8,25,23]]}
[]
[null,"DECISION SUPPORT TOOL - RESULTS OVERALL"]
[]
[null,"Name Sewage Treatment Plant","Location","PHA\n(bioplastics)","Bio-diesel\n(from lipids)","Oil - Char - Acetic Acid\n(from cellulose)"]
[]
[1,{"$f":"IF(Input!B16=\"\",\"\",Input!B16)","v":""},{"$f":"IF(Input!C16=\"\",\"\",Input!C16)","v":""}]
[2,{"$f":"IF(Input!B17=\"\",\"\",Input!B17)","v":""},{"$f":"IF(Input!C17=\"\",\"\",Input!C17)","v":""}]
[3,{"$f":"IF(Input!B18=\"\",\"\",Input!B18)","v":""},{"$f":"IF(Input!C18=\"\",\"\",Input!C18)","v":""}]
[4,{"$f":"IF(Input!B19=\"\",\"\",Input!B19)","v":""},{"$f":"IF(Input!C19=\"\",\"\",Input!C19)","v":""}]
[5,{"$f":"IF(Input!B20=\"\",\"\",Input!B20)","v":""},{"$f":"IF(Input!C20=\"\",\"\",Input!C20)","v":""}]
[6,{"$f":"IF(Input!B21=\"\",\"\",Input!B21)","v":""},{"$f":"IF(Input!C21=\"\",\"\",Input!C21)","v":""}]
[7,{"$f":"IF(Input!B22=\"\",\"\",Input!B22)","v":""},{"$f":"IF(Input!C22=\"\",\"\",Input!C22)","v":""}]
[8,{"$f":"IF(Input!B23=\"\",\"\",Input!B23)","v":""},{"$f":"IF(Input!C23=\"\",\"\",Input!C23)","v":""}]
[9,{"$f":"IF(Input!B24=\"\",\"\",Input!B24)","v":""},{"$f":"IF(Input!C24=\"\",\"\",Input!C24)","v":""}]
[10,{"$f":"IF(Input!B25=\"\",\"\",Input!B25)","v":""},{"$f":"IF(Input!C25=\"\",\"\",Input!C25)","v":""}]
[11,{"$f":"IF(Input!B26=\"\",\"\",Input!B26)","v":""},{"$f":"IF(Input!C26=\"\",\"\",Input!C26)","v":""}]
[12,{"$f":"IF(Input!B27=\"\",\"\",Input!B27)","v":""},{"$f":"IF(Input!C27=\"\",\"\",Input!C27)","v":""}]
[13,{"$f":"IF(Input!B28=\"\",\"\",Input!B28)","v":""},{"$f":"IF(Input!C28=\"\",\"\",Input!C28)","v":""}]
[14,{"$f":"IF(Input!B29=\"\",\"\",Input!B29)","v":""},{"$f":"IF(Input!C29=\"\",\"\",Input!C29)","v":""}]
[15,{"$f":"IF(Input!B30=\"\",\"\",Input!B30)","v":""},{"$f":"IF(Input!C30=\"\",\"\",Input!C30)","v":""}]
[16,{"$f":"IF(Input!B31=\"\",\"\",Input!B31)","v":""},{"$f":"IF(Input!C31=\"\",\"\",Input!C31)","v":""}]
[17,{"$f":"IF(Input!B32=\"\",\"\",Input!B32)","v":""},{"$f":"IF(Input!C32=\"\",\"\",Input!C32)","v":""}]
[18,{"$f":"IF(Input!B33=\"\",\"\",Input!B33)","v":""},{"$f":"IF(Input!C33=\"\",\"\",Input!C33)","v":""},null,null,null,null,null,"Input of information indicates that the input stream of the sewage treatment plant is promising for this technique"]
[19,{"$f":"IF(Input!B34=\"\",\"\",Input!B34)","v":""},{"$f":"IF(Input!C34=\"\",\"\",Input!C34)","v":""},null,null,null,null,null,"Based on the given input it is not yet clear if the input stream of the sewage treatment plant is suitable for this technique. A more detailed consideration is needed."]
[20,{"$f":"IF(Input!B35=\"\",\"\",Input!B35)","v":""},{"$f":"IF(Input!C35=\"\",\"\",Input!C35)","v":""},null,null,null,null,null,"The composition of the input stream of the sewage treatment plant indicates that implementation of this technique at this sewage treatment plant only is probably NOT feasible."]
[21,{"$f":"IF(Input!B36=\"\",\"\",Input!B36)","v":""},{"$f":"IF(Input!C36=\"\",\"\",Input!C36)","v":""},null,null,null,null,null,"(NOTE: other aspects such as combined implementation of the technique at several STPs or desire to reduce organic load of STP could make technique feasible, see factsheets for more information)"]
[22,{"$f":"IF(Input!B37=\"\",\"\",Input!B37)","v":""},{"$f":"IF(Input!C37=\"\",\"\",Input!C37)","v":""},null,null,null,null,null,"Not all necessary input parameters are filled in in the 'Input' tab. The result cannot be determined."]
[23,{"$f":"IF(Input!B38=\"\",\"\",Input!B38)","v":""},{"$f":"IF(Input!C38=\"\",\"\",Input!C38)","v":""}]
[24,{"$f":"IF(Input!B39=\"\",\"\",Input!B39)","v":""},{"$f":"IF(Input!C39=\"\",\"\",Input!C39)","v":""},null,null,null,null,null,"PHA","Bio-diesel","Oil - Char-Acetic acid"]
[25,{"$f":"IF(Input!B40=\"\",\"\",Input!B40)","v":""},{"$f":"IF(Input!C40=\"\",\"\",Input!C40)","v":""},null,null,null,null,"Promising",{"$f":"'calc results PHA'!S12","v":0},{"$f":"'calc results lipids'!S12","v":0},{"$f":"'calc results cellulose'!U12","v":0}]
[26,{"$f":"IF(Input!B41=\"\",\"\",Input!B41)","v":""},{"$f":"IF(Input!C41=\"\",\"\",Input!C41)","v":""},null,null,null,null,"Not yet clear",{"$f":"'calc results PHA'!S13","v":0},{"$f":"'calc results lipids'!S13","v":0},{"$f":"'calc results cellulose'!U13","v":0}]
[27,{"$f":"IF(Input!B42=\"\",\"\",Input!B42)","v":""},{"$f":"IF(Input!C42=\"\",\"\",Input!C42)","v":""},null,null,null,null,"Not suitable",{"$f":"'calc results PHA'!S14","v":0},{"$f":"'calc results lipids'!S14","v":0},{"$f":"'calc results cellulose'!U14","v":0}]
[28,{"$f":"IF(Input!B43=\"\",\"\",Input!B43)","v":""},{"$f":"IF(Input!C43=\"\",\"\",Input!C43)","v":""},null,null,null,null,"Total",{"$f":"SUM(I30:I32)","v":0},{"$f":"SUM(J30:J32)","v":0},{"$f":"SUM(K30:K32)","v":0}]
[29,{"$f":"IF(Input!B44=\"\",\"\",Input!B44)","v":""},{"$f":"IF(Input!C44=\"\",\"\",Input!C44)","v":""}]
[30,{"$f":"IF(Input!B45=\"\",\"\",Input!B45)","v":""},{"$f":"IF(Input!C45=\"\",\"\",Input!C45)","v":""}]
[31,{"$f":"IF(Input!B46=\"\",\"\",Input!B46)","v":""},{"$f":"IF(Input!C46=\"\",\"\",Input!C46)","v":""}]
[32,{"$f":"IF(Input!B47=\"\",\"\",Input!B47)","v":""},{"$f":"IF(Input!C47=\"\",\"\",Input!C47)","v":""}]
[33,{"$f":"IF(Input!B48=\"\",\"\",Input!B48)","v":""},{"$f":"IF(Input!C48=\"\",\"\",Input!C48)","v":""}]
[34,{"$f":"IF(Input!B49=\"\",\"\",Input!B49)","v":""},{"$f":"IF(Input!C49=\"\",\"\",Input!C49)","v":""}]
[35,{"$f":"IF(Input!B50=\"\",\"\",Input!B50)","v":""},{"$f":"IF(Input!C50=\"\",\"\",Input!C50)","v":""}]
[36,{"$f":"IF(Input!B51=\"\",\"\",Input!B51)","v":""},{"$f":"IF(Input!C51=\"\",\"\",Input!C51)","v":""}]
[37,{"$f":"IF(Input!B52=\"\",\"\",Input!B52)","v":""},{"$f":"IF(Input!C52=\"\",\"\",Input!C52)","v":""}]
[38,{"$f":"IF(Input!B53=\"\",\"\",Input!B53)","v":""},{"$f":"IF(Input!C53=\"\",\"\",Input!C53)","v":""}]
[39,{"$f":"IF(Input!B54=\"\",\"\",Input!B54)","v":""},{"$f":"IF(Input!C54=\"\",\"\",Input!C54)","v":""}]
[40,{"$f":"IF(Input!B55=\"\",\"\",Input!B55)","v":""},{"$f":"IF(Input!C55=\"\",\"\",Input!C55)","v":""}]
[41,{"$f":"IF(Input!B56=\"\",\"\",Input!B56)","v":""},{"$f":"IF(Input!C56=\"\",\"\",Input!C56)","v":""}]
[42,{"$f":"IF(Input!B57=\"\",\"\",Input!B57)","v":""},{"$f":"IF(Input!C57=\"\",\"\",Input!C57)","v":""}]
[43,{"$f":"IF(Input!B58=\"\",\"\",Input!B58)","v":""},{"$f":"IF(Input!C58=\"\",\"\",Input!C58)","v":""}]
[44,{"$f":"IF(Input!B59=\"\",\"\",Input!B59)","v":""},{"$f":"IF(Input!C59=\"\",\"\",Input!C59)","v":""}]
[45,{"$f":"IF(Input!B60=\"\",\"\",Input!B60)","v":""},{"$f":"IF(Input!C60=\"\",\"\",Input!C60)","v":""}]
[46,{"$f":"IF(Input!B61=\"\",\"\",Input!B61)","v":""},{"$f":"IF(Input!C61=\"\",\"\",Input!C61)","v":""}]
[47,{"$f":"IF(Input!B62=\"\",\"\",Input!B62)","v":""},{"$f":"IF(Input!C62=\"\",\"\",Input!C62)","v":""}]
[48,{"$f":"IF(Input!B63=\"\",\"\",Input!B63)","v":""},{"$f":"IF(Input!C63=\"\",\"\",Input!C63)","v":""}]
[49,{"$f":"IF(Input!B64=\"\",\"\",Input!B64)","v":""},{"$f":"IF(Input!C64=\"\",\"\",Input!C64)","v":""}]
[50,{"$f":"IF(Input!B65=\"\",\"\",Input!B65)","v":""},{"$f":"IF(Input!C65=\"\",\"\",Input!C65)","v":""}]

{"sheet":"Results PHA","index":4,"n_rows":55,"n_cols":12,"rows_kept":55,"cut":false,"hidden":false,"merged":[[27,11,27,28],[28,11,28,28],[24,11,24,28],[25,10,26,10],[23,11,23,28],[25,11,25,28],[26,11,26,28]]}
[]
[null,"DECISION SUPPORT TOOL - RESULTS PHA"]
[]
[null,"Name Sewage Treatment Plant","Location","Primary treatment","Percentage sewage from households","Amount of \nPopulation Equivalents","BOD/COD","COD","OVERALL"]
[null,null,null,"yes/no","%","PE","--","mg/l"]
[1,{"$f":"IF(Input!B16=\"\",\"\",Input!B16)","v":""},{"$f":"IF(Input!C16=\"\",\"\",Input!C16)","v":""},{"$f":"IF(Input!D16=\"\",\"\",Input!D16)","v":""},null,{"$f":"IF(Input!F16=\"\",\"\",Input!F16)","v":""},{"$f":"IF(AND(Input!G16=\"\",Input!H16=\"\"),\"\",(IF(Input!H16=\"\",Input!$D$12,(IF(Input!G16=\"\",Input!$D$12,(Input!G16/Input!H16))))))","v":""}]
[2,{"$f":"IF(Input!B17=\"\",\"\",Input!B17)","v":""},{"$f":"IF(Input!C17=\"\",\"\",Input!C17)","v":""},{"$f":"IF(Input!D17=\"\",\"\",Input!D17)","v":""},null,{"$f":"IF(Input!F17=\"\",\"\",Input!F17)","v":""},{"$f":"IF(AND(Input!G17=\"\",Input!H17=\"\"),\"\",(IF(Input!H17=\"\",Input!$D$12,(IF(Input!G17=\"\",Input!$D$12,(Input!G17/Input!H17))))))","v":""}]
[3,{"$f":"IF(Input!B18=\"\",\"\",Input!B18)","v":""},{"$f":"IF(Input!C18=\"\",\"\",Input!C18)","v":""},{"$f":"IF(Input!D18=\"\",\"\",Input!D18)","v":""},null,{"$f":"IF(Input!F18=\"\",\"\",Input!F18)","v":""},{"$f":"IF(AND(Input!G18=\"\",Input!H18=\"\"),\"\",(IF(Input!H18=\"\",Input!$D$12,(IF(Input!G18=\"\",Input!$D$12,(Input!G18/Input!H18))))))","v":""}]
[4,{"$f":"IF(Input!B19=\"\",\"\",Input!B19)","v":""},{"$f":"IF(Input!C19=\"\",\"\",Input!C19)","v":""},{"$f":"IF(Input!D19=\"\",\"\",Input!D19)","v":""},null,{"$f":"IF(Input!F19=\"\",\"\",Input!F19)","v":""},{"$f":"IF(AND(Input!G19=\"\",Input!H19=\"\"),\"\",(IF(Input!H19=\"\",Input!$D$12,(IF(Input!G19=\"\",Input!$D$12,(Input!G19/Input!H19))))))","v":""}]
[5,{"$f":"IF(Input!B20=\"\",\"\",Input!B20)","v":""},{"$f":"IF(Input!C20=\"\",\"\",Input!C20)","v":""},{"$f":"IF(Input!D20=\"\",\"\",Input!D20)","v":""},null,{"$f":"IF(Input!F20=\"\",\"\",Input!F20)","v":""},{"$f":"IF(AND(Input!G20=\"\",Input!H20=\"\"),\"\",(IF(Input!H20=\"\",Input!$D$12,(IF(Input!G20=\"\",Input!$D$12,(Input!G20/Input!H20))))))","v":""}]
[6,{"$f":"IF(Input!B21=\"\",\"\",Input!B21)","v":""},{"$f":"IF(Input!C21=\"\",\"\",Input!C21)","v":""},{"$f":"IF(Input!D21=\"\",\"\",Input!D21)","v":""},null,{"$f":"IF(Input!F21=\"\",\"\",Input!F21)","v":""},{"$f":"IF(AND(Input!G21=\"\",Input!H21=\"\"),\"\",(IF(Input!H21=\"\",Input!$D$12,(IF(Input!G21=\"\",Input!$D$12,(Input!G21/Input!H21))))))","v":""}]
[7,{"$f":"IF(Input!B22=\"\",\"\",Input!B22)","v":""},{"$f":"IF(Input!C22=\"\",\"\",Input!C22)","v":""},{"$f":"IF(Input!D22=\"\",\"\",Input!D22)","v":""},null,{"$f":"IF(Input!F22=\"\",\"\",Input!F22)","v":""},{"$f":"IF(AND(Input!G22=\"\",Input!H22=\"\"),\"\",(IF(Input!H22=\"\",Input!$D$12,(IF(Input!G22=\"\",Input!$D$12,(Input!G22/Input!H22))))))","v":""}]
[8,{"$f":"IF(Input!B23=\"\",\"\",Input!B23)","v":""},{"$f":"IF(Input!C23=\"\",\"\",Input!C23)","v":""},{"$f":"IF(Input!D23=\"\",\"\",Input!D23)","v":""},null,{"$f":"IF(Input!F23=\"\",\"\",Input!F23)","v":""},{"$f":"IF(AND(Input!G23=\"\",Input!H23=\"\"),\"\",(IF(Input!H23=\"\",Input!$D$12,(IF(Input!G23=\"\",Input!$D$12,(Input!G23/Input!H23))))))","v":""}]
[9,{"$f":"IF(Input!B24=\"\",\"\",Input!B24)","v":""},{"$f":"IF(Input!C24=\"\",\"\",Input!C24)","v":""},{"$f":"IF(Input!D24=\"\",\"\",Input!D24)","v":""},null,{"$f":"IF(Input!F24=\"\",\"\",Input!F24)","v":""},{"$f":"IF(AND(Input!G24=\"\",Input!H24=\"\"),\"\",(IF(Input!H24=\"\",Input!$D$12,(IF(Input!G24=\"\",Input!$D$12,(Input!G24/Input!H24))))))","v":""}]
[10,{"$f":"IF(Input!B25=\"\",\"\",Input!B25)","v":""},{"$f":"IF(Input!C25=\"\",\"\",Input!C25)","v":""},{"$f":"IF(Input!D25=\"\",\"\",Input!D25)","v":""},null,{"$f":"IF(Input!F25=\"\",\"\",Input!F25)","v":""},{"$f":"IF(AND(Input!G25=\"\",Input!H25=\"\"),\"\",(IF(Input!H25=\"\",Input!$D$12,(IF(Input!G25=\"\",Input!$D$12,(Input!G25/Input!H25))))))","v":""}]
[11,{"$f":"IF(Input!B26=\"\",\"\",Input!B26)","v":""},{"$f":"IF(Input!C26=\"\",\"\",Input!C26)","v":""},{"$f":"IF(Input!D26=\"\",\"\",Input!D26)","v":""},null,{"$f":"IF(Input!F26=\"\",\"\",Input!F26)","v":""},{"$f":"IF(AND(Input!G26=\"\",Input!H26=\"\"),\"\",(IF(Input!H26=\"\",Input!$D$12,(IF(Input!G26=\"\",Input!$D$12,(Input!G26/Input!H26))))))","v":""}]
[12,{"$f":"IF(Input!B27=\"\",\"\",Input!B27)","v":""},{"$f":"IF(Input!C27=\"\",\"\",Input!C27)","v":""},{"$f":"IF(Input!D27=\"\",\"\",Input!D27)","v":""},null,{"$f":"IF(Input!F27=\"\",\"\",Input!F27)","v":""},{"$f":"IF(AND(Input!G27=\"\",Input!H27=\"\"),\"\",(IF(Input!H27=\"\",Input!$D$12,(IF(Input!G27=\"\",Input!$D$12,(Input!G27/Input!H27))))))","v":""}]
[13,{"$f":"IF(Input!B28=\"\",\"\",Input!B28)","v":""},{"$f":"IF(Input!C28=\"\",\"\",Input!C28)","v":""},{"$f":"IF(Input!D28=\"\",\"\",Input!D28)","v":""},null,{"$f":"IF(Input!F28=\"\",\"\",Input!F28)","v":""},{"$f":"IF(AND(Input!G28=\"\",Input!H28=\"\"),\"\",(IF(Input!H28=\"\",Input!$D$12,(IF(Input!G28=\"\",Input!$D$12,(Input!G28/Input!H28))))))","v":""}]
[14,{"$f":"IF(Input!B29=\"\",\"\",Input!B29)","v":""},{"$f":"IF(Input!C29=\"\",\"\",Input!C29)","v":""},{"$f":"IF(Input!D29=\"\",\"\",Input!D29)","v":""},null,{"$f":"IF(Input!F29=\"\",\"\",Input!F29)","v":""},{"$f":"IF(AND(Input!G29=\"\",Input!H29=\"\"),\"\",(IF(Input!H29=\"\",Input!$D$12,(IF(Input!G29=\"\",Input!$D$12,(Input!G29/Input!H29))))))","v":""}]
[15,{"$f":"IF(Input!B30=\"\",\"\",Input!B30)","v":""},{"$f":"IF(Input!C30=\"\",\"\",Input!C30)","v":""},{"$f":"IF(Input!D30=\"\",\"\",Input!D30)","v":""},null,{"$f":"IF(Input!F30=\"\",\"\",Input!F30)","v":""},{"$f":"IF(AND(Input!G30=\"\",Input!H30=\"\"),\"\",(IF(Input!H30=\"\",Input!$D$12,(IF(Input!G30=\"\",Input!$D$12,(Input!G30/Input!H30))))))","v":""}]
[16,{"$f":"IF(Input!B31=\"\",\"\",Input!B31)","v":""},{"$f":"IF(Input!C31=\"\",\"\",Input!C31)","v":""},{"$f":"IF(Input!D31=\"\",\"\",Input!D31)","v":""},null,{"$f":"IF(Input!F31=\"\",\"\",Input!F31)","v":""},{"$f":"IF(AND(Input!G31=\"\",Input!H31=\"\"),\"\",(IF(Input!H31=\"\",Input!$D$12,(IF(Input!G31=\"\",Input!$D$12,(Input!G31/Input!H31))))))","v":""}]
[17,{"$f":"IF(Input!B32=\"\",\"\",Input!B32)","v":""},{"$f":"IF(Input!C32=\"\",\"\",Input!C32)","v":""},{"$f":"IF(Input!D32=\"\",\"\",Input!D32)","v":""},null,{"$f":"IF(Input!F32=\"\",\"\",Input!F32)","v":""},{"$f":"IF(AND(Input!G32=\"\",Input!H32=\"\"),\"\",(IF(Input!H32=\"\",Input!$D$12,(IF(Input!G32=\"\",Input!$D$12,(Input!G32/Input!H32))))))","v":""}]
[18,{"$f":"IF(Input!B33=\"\",\"\",Input!B33)","v":""},{"$f":"IF(Input!C33=\"\",\"\",Input!C33)","v":""},{"$f":"IF(Input!D33=\"\",\"\",Input!D33)","v":""},null,{"$f":"IF(Input!F33=\"\",\"\",Input!F33)","v":""},{"$f":"IF(AND(Input!G33=\"\",Input!H33=\"\"),\"\",(IF(Input!H33=\"\",Input!$D$12,(IF(Input!G33=\"\",Input!$D$12,(Input!G33/Input!H33))))))","v":""}]
[19,{"$f":"IF(Input!B34=\"\",\"\",Input!B34)","v":""},{"$f":"IF(Input!C34=\"\",\"\",Input!C34)","v":""},{"$f":"IF(Input!D34=\"\",\"\",Input!D34)","v":""},null,{"$f":"IF(Input!F34=\"\",\"\",Input!F34)","v":""},{"$f":"IF(AND(Input!G34=\"\",Input!H34=\"\"),\"\",(IF(Input!H34=\"\",Input!$D$12,(IF(Input!G34=\"\",Input!$D$12,(Input!G34/Input!H34))))))","v":""},null,null,null,null,"Input of information indicates that the input stream of the sewage treatment plant is promising for this technique"]
[20,{"$f":"IF(Input!B35=\"\",\"\",Input!B35)","v":""},{"$f":"IF(Input!C35=\"\",\"\",Input!C35)","v":""},{"$f":"IF(Input!D35=\"\",\"\",Input!D35)","v":""},null,{"$f":"IF(Input!F35=\"\",\"\",Input!F35)","v":""},{"$f":"IF(AND(Input!G35=\"\",Input!H35=\"\"),\"\",(IF(Input!H35=\"\",Input!$D$12,(IF(Input!G35=\"\",Input!$D$12,(Input!G35/Input!H35))))))","v":""},null,null,null,null,"Based on the given input it is not yet clear if the input stream of the sewage treatment plant is suitable for this technique.  A more detailed consideration is needed."]
[21,{"$f":"IF(Input!B36=\"\",\"\",Input!B36)","v":""},{"$f":"IF(Input!C36=\"\",\"\",Input!C36)","v":""},{"$f":"IF(Input!D36=\"\",\"\",Input!D36)","v":""},null,{"$f":"IF(Input!F36=\"\",\"\",Input!F36)","v":""},{"$f":"IF(AND(Input!G36=\"\",Input!H36=\"\"),\"\",(IF(Input!H36=\"\",Input!$D$12,(IF(Input!G36=\"\",Input!$D$12,(Input!G36/Input!H36))))))","v":""},null,null,null,null,"The composition of the input stream of the sewage treatment plant indicates that implementation of this technique at this sewage treatment plant only is probably NOT feasible."]
[22,{"$f":"IF(Input!B37=\"\",\"\",Input!B37)","v":""},{"$f":"IF(Input!C37=\"\",\"\",Input!C37)","v":""},{"$f":"IF(Input!D37=\"\",\"\",Input!D37)","v":""},null,{"$f":"IF(Input!F37=\"\",\"\",Input!F37)","v":""},{"$f":"IF(AND(Input!G37=\"\",Input!H37=\"\"),\"\",(IF(Input!H37=\"\",Input!$D$12,(IF(Input!G37=\"\",Input!$D$12,(Input!G37/Input!H37))))))","v":""},null,null,null,null,"(NOTE: other aspects such as combined implementation of the technique at several STPs or desire to reduce organic load of STP could make technique feasible, see factsheets for more information)"]
[23,{"$f":"IF(Input!B38=\"\",\"\",Input!B38)","v":""},{"$f":"IF(Input!C38=\"\",\"\",Input!C38)","v":""},{"$f":"IF(Input!D38=\"\",\"\",Input!D38)","v":""},null,{"$f":"IF(Input!F38=\"\",\"\",Input!F38)","v":""},{"$f":"IF(AND(Input!G38=\"\",Input!H38=\"\"),\"\",(IF(Input!H38=\"\",Input!$D$12,(IF(Input!G38=\"\",Input!$D$12,(Input!G38/Input!H38))))))","v":""},null,null,null,null,"Not all necessary input parameters are filled in in the 'Input' tab. The result cannot be determined."]
[24,{"$f":"IF(Input!B39=\"\",\"\",Input!B39)","v":""},{"$f":"IF(Input!C39=\"\",\"\",Input!C39)","v":""},{"$f":"IF(Input!D39=\"\",\"\",Input!D39)","v":""},null,{"$f":"IF(Input!F39=\"\",\"\",Input!F39)","v":""},{"$f":"IF(AND(Input!G39=\"\",Input!H39=\"\"),\"\",(IF(Input!H39=\"\",Input!$D$12,(IF(Input!G39=\"\",Input!$D$12,(Input!G39/Input!H39))))))","v":""},null,null,null,null,"Parameter not relevant for this application, see manual for an explanation"]
[25,{"$f":"IF(Input!B40=\"\",\"\",Input!B40)","v":""},{"$f":"IF(Input!C40=\"\",\"\",Input!C40)","v":""},{"$f":"IF(Input!D40=\"\",\"\",Input!D40)","v":""},null,{"$f":"IF(Input!F40=\"\",\"\",Input!F40)","v":""},{"$f":"IF(AND(Input!G40=\"\",Input!H40=\"\"),\"\",(IF(Input!H40=\"\",Input!$D$12,(IF(Input!G40=\"\",Input!$D$12,(Input!G40/Input!H40))))))","v":""}]
[26,{"$f":"IF(Input!B41=\"\",\"\",Input!B41)","v":""},{"$f":"IF(Input!C41=\"\",\"\",Input!C41)","v":""},{"$f":"IF(Input!D41=\"\",\"\",Input!D41)","v":""},null,{"$f":"IF(Input!F41=\"\",\"\",Input!F41)","v":""},{"$f":"IF(AND(Input!G41=\"\",Input!H41=\"\"),\"\",(IF(Input!H41=\"\",Input!$D$12,(IF(Input!G41=\"\",Input!$D$12,(Input!G41/Input!H41))))))","v":""}]
[27,{"$f":"IF(Input!B42=\"\",\"\",Input!B42)","v":""},{"$f":"IF(Input!C42=\"\",\"\",Input!C42)","v":""},{"$f":"IF(Input!D42=\"\",\"\",Input!D42)","v":""},null,{"$f":"IF(Input!F42=\"\",\"\",Input!F42)","v":""},{"$f":"IF(AND(Input!G42=\"\",Input!H42=\"\"),\"\",(IF(Input!H42=\"\",Input!$D$12,(IF(Input!G42=\"\",Input!$D$12,(Input!G42/Input!H42))))))","v":""}]
[28,{"$f":"IF(Input!B43=\"\",\"\",Input!B43)","v":""},{"$f":"IF(Input!C43=\"\",\"\",Input!C43)","v":""},{"$f":"IF(Input!D43=\"\",\"\",Input!D43)","v":""},null,{"$f":"IF(Input!F43=\"\",\"\",Input!F43)","v":""},{"$f":"IF(AND(Input!G43=\"\",Input!H43=\"\"),\"\",(IF(Input!H43=\"\",Input!$D$12,(IF(Input!G43=\"\",Input!$D$12,(Input!G43/Input!H43))))))","v":""}]
[29,{"$f":"IF(Input!B44=\"\",\"\",Input!B44)","v":""},{"$f":"IF(Input!C44=\"\",\"\",Input!C44)","v":""},{"$f":"IF(Input!D44=\"\",\"\",Input!D44)","v":""},null,{"$f":"IF(Input!F44=\"\",\"\",Input!F44)","v":""},{"$f":"IF(AND(Input!G44=\"\",Input!H44=\"\"),\"\",(IF(Input!H44=\"\",Input!$D$12,(IF(Input!G44=\"\",Input!$D$12,(Input!G44/Input!H44))))))","v":""}]
[30,{"$f":"IF(Input!B45=\"\",\"\",Input!B45)","v":""},{"$f":"IF(Input!C45=\"\",\"\",Input!C45)","v":""},{"$f":"IF(Input!D45=\"\",\"\",Input!D45)","v":""},null,{"$f":"IF(Input!F45=\"\",\"\",Input!F45)","v":""},{"$f":"IF(AND(Input!G45=\"\",Input!H45=\"\"),\"\",(IF(Input!H45=\"\",Input!$D$12,(IF(Input!G45=\"\",Input!$D$12,(Input!G45/Input!H45))))))","v":""}]
[31,{"$f":"IF(Input!B46=\"\",\"\",Input!B46)","v":""},{"$f":"IF(Input!C46=\"\",\"\",Input!C46)","v":""},{"$f":"IF(Input!D46=\"\",\"\",Input!D46)","v":""},null,{"$f":"IF(Input!F46=\"\",\"\",Input!F46)","v":""},{"$f":"IF(AND(Input!G46=\"\",Input!H46=\"\"),\"\",(IF(Input!H46=\"\",Input!$D$12,(IF(Input!G46=\"\",Input!$D$12,(Input!G46/Input!H46))))))","v":""}]
[32,{"$f":"IF(Input!B47=\"\",\"\",Input!B47)","v":""},{"$f":"IF(Input!C47=\"\",\"\",Input!C47)","v":""},{"$f":"IF(Input!D47=\"\",\"\",Input!D47)","v":""},null,{"$f":"IF(Input!F47=\"\",\"\",Input!F47)","v":""},{"$f":"IF(AND(Input!G47=\"\",Input!H47=\"\"),\"\",(IF(Input!H47=\"\",Input!$D$12,(IF(Input!G47=\"\",Input!$D$12,(Input!G47/Input!H47))))))","v":""}]
[33,{"$f":"IF(Input!B48=\"\",\"\",Input!B48)","v":""},{"$f":"IF(Input!C48=\"\",\"\",Input!C48)","v":""},{"$f":"IF(Input!D48=\"\",\"\",Input!D48)","v":""},null,{"$f":"IF(Input!F48=\"\",\"\",Input!F48)","v":""},{"$f":"IF(AND(Input!G48=\"\",Input!H48=\"\"),\"\",(IF(Input!H48=\"\",Input!$D$12,(IF(Input!G48=\"\",Input!$D$12,(Input!G48/Input!H48))))))","v":""}]
[34,{"$f":"IF(Input!B49=\"\",\"\",Input!B49)","v":""},{"$f":"IF(Input!C49=\"\",\"\",Input!C49)","v":""},{"$f":"IF(Input!D49=\"\",\"\",Input!D49)","v":""},null,{"$f":"IF(Input!F49=\"\",\"\",Input!F49)","v":""},{"$f":"IF(AND(Input!G49=\"\",Input!H49=\"\"),\"\",(IF(Input!H49=\"\",Input!$D$12,(IF(Input!G49=\"\",Input!$D$12,(Input!G49/Input!H49))))))","v":""}]
[35,{"$f":"IF(Input!B50=\"\",\"\",Input!B50)","v":""},{"$f":"IF(Input!C50=\"\",\"\",Input!C50)","v":""},{"$f":"IF(Input!D50=\"\",\"\",Input!D50)","v":""},null,{"$f":"IF(Input!F50=\"\",\"\",Input!F50)","v":""},{"$f":"IF(AND(Input!G50=\"\",Input!H50=\"\"),\"\",(IF(Input!H50=\"\",Input!$D$12,(IF(Input!G50=\"\",Input!$D$12,(Input!G50/Input!H50))))))","v":""}]
[36,{"$f":"IF(Input!B51=\"\",\"\",Input!B51)","v":""},{"$f":"IF(Input!C51=\"\",\"\",Input!C51)","v":""},{"$f":"IF(Input!D51=\"\",\"\",Input!D51)","v":""},null,{"$f":"IF(Input!F51=\"\",\"\",Input!F51)","v":""},{"$f":"IF(AND(Input!G51=\"\",Input!H51=\"\"),\"\",(IF(Input!H51=\"\",Input!$D$12,(IF(Input!G51=\"\",Input!$D$12,(Input!G51/Input!H51))))))","v":""}]
[37,{"$f":"IF(Input!B52=\"\",\"\",Input!B52)","v":""},{"$f":"IF(Input!C52=\"\",\"\",Input!C52)","v":""},{"$f":"IF(Input!D52=\"\",\"\",Input!D52)","v":""},null,{"$f":"IF(Input!F52=\"\",\"\",Input!F52)","v":""},{"$f":"IF(AND(Input!G52=\"\",Input!H52=\"\"),\"\",(IF(Input!H52=\"\",Input!$D$12,(IF(Input!G52=\"\",Input!$D$12,(Input!G52/Input!H52))))))","v":""}]
[38,{"$f":"IF(Input!B53=\"\",\"\",Input!B53)","v":""},{"$f":"IF(Input!C53=\"\",\"\",Input!C53)","v":""},{"$f":"IF(Input!D53=\"\",\"\",Input!D53)","v":""},null,{"$f":"IF(Input!F53=\"\",\"\",Input!F53)","v":""},{"$f":"IF(AND(Input!G53=\"\",Input!H53=\"\"),\"\",(IF(Input!H53=\"\",Input!$D$12,(IF(Input!G53=\"\",Input!$D$12,(Input!G53/Input!H53))))))","v":""}]
[39,{"$f":"IF(Input!B54=\"\",\"\",Input!B54)","v":""},{"$f":"IF(Input!C54=\"\",\"\",Input!C54)","v":""},{"$f":"IF(Input!D54=\"\",\"\",Input!D54)","v":""},null,{"$f":"IF(Input!F54=\"\",\"\",Input!F54)","v":""},{"$f":"IF(AND(Input!G54=\"\",Input!H54=\"\"),\"\",(IF(Input!H54=\"\",Input!$D$12,(IF(Input!G54=\"\",Input!$D$12,(Input!G54/Input!H54))))))","v":""}]
[40,{"$f":"IF(Input!B55=\"\",\"\",Input!B55)","v":""},{"$f":"IF(Input!C55=\"\",\"\",Input!C55)","v":""},{"$f":"IF(Input!D55=\"\",\"\",Input!D55)","v":""},null,{"$f":"IF(Input!F55=\"\",\"\",Input!F55)","v":""},{"$f":"IF(AND(Input!G55=\"\",Input!H55=\"\"),\"\",(IF(Input!H55=\"\",Input!$D$12,(IF(Input!G55=\"\",Input!$D$12,(Input!G55/Input!H55))))))","v":""}]
[41,{"$f":"IF(Input!B56=\"\",\"\",Input!B56)","v":""},{"$f":"IF(Input!C56=\"\",\"\",Input!C56)","v":""},{"$f":"IF(Input!D56=\"\",\"\",Input!D56)","v":""},null,{"$f":"IF(Input!F56=\"\",\"\",Input!F56)","v":""},{"$f":"IF(AND(Input!G56=\"\",Input!H56=\"\"),\"\",(IF(Input!H56=\"\",Input!$D$12,(IF(Input!G56=\"\",Input!$D$12,(Input!G56/Input!H56))))))","v":""}]
[42,{"$f":"IF(Input!B57=\"\",\"\",Input!B57)","v":""},{"$f":"IF(Input!C57=\"\",\"\",Input!C57)","v":""},{"$f":"IF(Input!D57=\"\",\"\",Input!D57)","v":""},null,{"$f":"IF(Input!F57=\"\",\"\",Input!F57)","v":""},{"$f":"IF(AND(Input!G57=\"\",Input!H57=\"\"),\"\",(IF(Input!H57=\"\",Input!$D$12,(IF(Input!G57=\"\",Input!$D$12,(Input!G57/Input!H57))))))","v":""}]
[43,{"$f":"IF(Input!B58=\"\",\"\",Input!B58)","v":""},{"$f":"IF(Input!C58=\"\",\"\",Input!C58)","v":""},{"$f":"IF(Input!D58=\"\",\"\",Input!D58)","v":""},null,{"$f":"IF(Input!F58=\"\",\"\",Input!F58)","v":""},{"$f":"IF(AND(Input!G58=\"\",Input!H58=\"\"),\"\",(IF(Input!H58=\"\",Input!$D$12,(IF(Input!G58=\"\",Input!$D$12,(Input!G58/Input!H58))))))","v":""}]
[44,{"$f":"IF(Input!B59=\"\",\"\",Input!B59)","v":""},{"$f":"IF(Input!C59=\"\",\"\",Input!C59)","v":""},{"$f":"IF(Input!D59=\"\",\"\",Input!D59)","v":""},null,{"$f":"IF(Input!F59=\"\",\"\",Input!F59)","v":""},{"$f":"IF(AND(Input!G59=\"\",Input!H59=\"\"),\"\",(IF(Input!H59=\"\",Input!$D$12,(IF(Input!G59=\"\",Input!$D$12,(Input!G59/Input!H59))))))","v":""}]
[45,{"$f":"IF(Input!B60=\"\",\"\",Input!B60)","v":""},{"$f":"IF(Input!C60=\"\",\"\",Input!C60)","v":""},{"$f":"IF(Input!D60=\"\",\"\",Input!D60)","v":""},null,{"$f":"IF(Input!F60=\"\",\"\",Input!F60)","v":""},{"$f":"IF(AND(Input!G60=\"\",Input!H60=\"\"),\"\",(IF(Input!H60=\"\",Input!$D$12,(IF(Input!G60=\"\",Input!$D$12,(Input!G60/Input!H60))))))","v":""}]
[46,{"$f":"IF(Input!B61=\"\",\"\",Input!B61)","v":""},{"$f":"IF(Input!C61=\"\",\"\",Input!C61)","v":""},{"$f":"IF(Input!D61=\"\",\"\",Input!D61)","v":""},null,{"$f":"IF(Input!F61=\"\",\"\",Input!F61)","v":""},{"$f":"IF(AND(Input!G61=\"\",Input!H61=\"\"),\"\",(IF(Input!H61=\"\",Input!$D$12,(IF(Input!G61=\"\",Input!$D$12,(Input!G61/Input!H61))))))","v":""}]
[47,{"$f":"IF(Input!B62=\"\",\"\",Input!B62)","v":""},{"$f":"IF(Input!C62=\"\",\"\",Input!C62)","v":""},{"$f":"IF(Input!D62=\"\",\"\",Input!D62)","v":""},null,{"$f":"IF(Input!F62=\"\",\"\",Input!F62)","v":""},{"$f":"IF(AND(Input!G62=\"\",Input!H62=\"\"),\"\",(IF(Input!H62=\"\",Input!$D$12,(IF(Input!G62=\"\",Input!$D$12,(Input!G62/Input!H62))))))","v":""}]
[48,{"$f":"IF(Input!B63=\"\",\"\",Input!B63)","v":""},{"$f":"IF(Input!C63=\"\",\"\",Input!C63)","v":""},{"$f":"IF(Input!D63=\"\",\"\",Input!D63)","v":""},null,{"$f":"IF(Input!F63=\"\",\"\",Input!F63)","v":""},{"$f":"IF(AND(Input!G63=\"\",Input!H63=\"\"),\"\",(IF(Input!H63=\"\",Input!$D$12,(IF(Input!G63=\"\",Input!$D$12,(Input!G63/Input!H63))))))","v":""}]
[49,{"$f":"IF(Input!B64=\"\",\"\",Input!B64)","v":""},{"$f":"IF(Input!C64=\"\",\"\",Input!C64)","v":""},{"$f":"IF(Input!D64=\"\",\"\",Input!D64)","v":""},null,{"$f":"IF(Input!F64=\"\",\"\",Input!F64)","v":""},{"$f":"IF(AND(Input!G64=\"\",Input!H64=\"\"),\"\",(IF(Input!H64=\"\",Input!$D$12,(IF(Input!G64=\"\",Input!$D$12,(Input!G64/Input!H64))))))","v":""}]
[50,{"$f":"IF(Input!B65=\"\",\"\",Input!B65)","v":""},{"$f":"IF(Input!C65=\"\",\"\",Input!C65)","v":""},{"$f":"IF(Input!D65=\"\",\"\",Input!D65)","v":""},null,{"$f":"IF(Input!F65=\"\",\"\",Input!F65)","v":""},{"$f":"IF(AND(Input!G65=\"\",Input!H65=\"\"),\"\",(IF(Input!H65=\"\",Input!$D$12,(IF(Input!G65=\"\",Input!$D$12,(Input!G65/Input!H65))))))","v":""}]

{"sheet":"calc results PHA","index":5,"n_rows":57,"n_cols":19,"rows_kept":57,"cut":false,"hidden":true,"merged":[]}
[]
[null,"DECISION SUPPORT TOOL - calculation sheet PHA"]
[]
[]
[]
[null,"Name Sewage Treatment Plant","Location","Primary treatment","Percentage sewage from households","calculation PE","calculation PE","Amount of \nPE","BOD/COD","COD","OVERALL",null,"alles groen","min 1 oranje ","min 1 geel ","overall"]
[null,null,null,"yes/no","%",null,null,"PE","--","mg/l"]
[1,{"$f":"IF(Input!B16=\"\",\"\",Input!B16)","v":""},{"$f":"IF(Input!C16=\"\",\"\",Input!C16)","v":""},{"$f":"IF(Input!D16=\"No\",0,IF(Input!D16=\"Yes\",2,\"\"))","v":""},null,{"$f":"IF(Input!$D$11=' lists & calculation '!$G$3,1,IF(Input!$D$11=' lists & calculation '!$G$4,2,IF(Input!$D$11=' lists & calculation '!$G$5,3,IF(Input!$D$11=' lists & calculation '!$G$6,4,IF(Input!$D$11=' lists & calculation '!$G$7,5,IF(Input!$D$11=' lists & calculation '!$G$8,6,\"\"))))))","v":""},{"$f":"IF(Input!F16=\"\",\"\",IF(F8=1,Input!F16*1.128,IF(F8=2,Input!F16*0.9,IF(F8=3,Input!F16*1.2,IF(F8=4,Input!F16,IF(F8=5,Input!F16,IF(F8=6,Input!F16*1.333,\"\")))))))","v":""},{"$f":"IF(G8=\"\", \"\",IF(AND(G8<=50000,G8>0),0,IF(G8>=100000,2,1)))","v":""},{"$f":"IF('Results PHA'!G6=\"\",\"\",(IF(AND('Results PHA'!G6<=0.2,'Results PHA'!G6>0),0,IF('Results PHA'!G6>=0.4,2,IF(AND('Results PHA'!G6>=0.2,'Results PHA'!G6<=0.4),1,\"\")))))","v":""},null,{"$f":"IF(OR(D8=\"\",H8=\"\",I8=\"\"),\"\",IF(M8=TRUE,2,(IF(O8=TRUE,1,0))))","v":""},null,{"$f":"IF(AND(D8=\"\",H8=\"\",I8=\"\"),\"\",AND(D8=2,H8=2,I8=2))","v":""},{"$f":"IF(AND(D8=\"\",H8=\"\",I8=\"\"),\"\",OR(D8=0,H8=0,I8=0))","v":""},{"$f":"IF(AND(D8=\"\",H8=\"\",I8=\"\"),\"\",OR(D8=1,H8=1,I8=1))","v":""},{"$f":"IF(AND(D8=\"\",H8=\"\",I8=\"\"),\"\",IF(M8=TRUE,2,(IF(O8=TRUE,1,0))))","v":""}]
[2,{"$f":"IF(Input!B17=\"\",\"\",Input!B17)","v":""},{"$f":"IF(Input!C17=\"\",\"\",Input!C17)","v":""},{"$f":"IF(Input!D17=\"No\",0,IF(Input!D17=\"Yes\",2,\"\"))","v":""},null,{"$f":"IF(Input!$D$11=' lists & calculation '!$G$3,1,IF(Input!$D$11=' lists & calculation '!$G$4,2,IF(Input!$D$11=' lists & calculation '!$G$5,3,IF(Input!$D$11=' lists & calculation '!$G$6,4,IF(Input!$D$11=' lists & calculation '!$G$7,5,IF(Input!$D$11=' lists & calculation '!$G$8,6,\"\"))))))","v":""},{"$f":"IF(Input!F17=\"\",\"\",IF(F9=1,Input!F17*1.128,IF(F9=2,Input!F17*0.9,IF(F9=3,Input!F17*1.2,IF(F9=4,Input!F17,IF(F9=5,Input!F17,IF(F9=6,Input!F17*1.333,\"\")))))))","v":""},{"$f":"IF(G9=\"\", \"\",IF(AND(G9<=50000,G9>0),0,IF(G9>=100000,2,1)))","v":""},{"$f":"IF('Results PHA'!G7=\"\",\"\",(IF(AND('Results PHA'!G7<=0.2,'Results PHA'!G7>0),0,IF('Results PHA'!G7>=0.4,2,IF(AND('Results PHA'!G7>=0.2,'Results PHA'!G7<=0.4),1,\"\")))))","v":""},null,{"$f":"IF(OR(D9=\"\",H9=\"\",I9=\"\"),\"\",IF(M9=TRUE,2,(IF(O9=TRUE,1,0))))","v":""},null,{"$f":"IF(AND(D9=\"\",H9=\"\",I9=\"\"),\"\",AND(D9=2,H9=2,I9=2))","v":""},{"$f":"IF(AND(D9=\"\",H9=\"\",I9=\"\"),\"\",OR(D9=0,H9=0,I9=0))","v":""},{"$f":"IF(AND(D9=\"\",H9=\"\",I9=\"\"),\"\",OR(D9=1,H9=1,I9=1))","v":""},{"$f":"IF(AND(D9=\"\",H9=\"\",I9=\"\"),\"\",IF(M9=TRUE,2,(IF(O9=TRUE,1,0))))","v":""}]
[3,{"$f":"IF(Input!B18=\"\",\"\",Input!B18)","v":""},{"$f":"IF(Input!C18=\"\",\"\",Input!C18)","v":""},{"$f":"IF(Input!D18=\"No\",0,IF(Input!D18=\"Yes\",2,\"\"))","v":""},null,{"$f":"IF(Input!$D$11=' lists & calculation '!$G$3,1,IF(Input!$D$11=' lists & calculation '!$G$4,2,IF(Input!$D$11=' lists & calculation '!$G$5,3,IF(Input!$D$11=' lists & calculation '!$G$6,4,IF(Input!$D$11=' lists & calculation '!$G$7,5,IF(Input!$D$11=' lists & calculation '!$G$8,6,\"\"))))))","v":""},{"$f":"IF(Input!F18=\"\",\"\",IF(F10=1,Input!F18*1.128,IF(F10=2,Input!F18*0.9,IF(F10=3,Input!F18*1.2,IF(F10=4,Input!F18,IF(F10=5,Input!F18,IF(F10=6,Input!F18*1.333,\"\")))))))","v":""},"",{"$f":"IF('Results PHA'!G8=\"\",\"\",(IF(AND('Results PHA'!G8<=0.2,'Results PHA'!G8>0),0,IF('Results PHA'!G8>=0.4,2,IF(AND('Results PHA'!G8>=0.2,'Results PHA'!G8<=0.4),1,\"\")))))","v":""},null,"",null,"","","",""]
[4,{"$f":"IF(Input!B19=\"\",\"\",Input!B19)","v":""},{"$f":"IF(Input!C19=\"\",\"\",Input!C19)","v":""},{"$f":"IF(Input!D19=\"No\",0,IF(Input!D19=\"Yes\",2,\"\"))","v":""},null,{"$f":"IF(Input!$D$11=' lists & calculation '!$G$3,1,IF(Input!$D$11=' lists & calculation '!$G$4,2,IF(Input!$D$11=' lists & calculation '!$G$5,3,IF(Input!$D$11=' lists & calculation '!$G$6,4,IF(Input!$D$11=' lists & calculation '!$G$7,5,IF(Input!$D$11=' lists & calculation '!$G$8,6,\"\"))))))","v":""},{"$f":"IF(Input!F19=\"\",\"\",IF(F11=1,Input!F19*1.128,IF(F11=2,Input!F19*0.9,IF(F11=3,Input!F19*1.2,IF(F11=4,Input!F19,IF(F11=5,Input!F19,IF(F11=6,Input!F19*1.333,\"\")))))))","v":""},"",{"$f":"IF('Results PHA'!G9=\"\",\"\",(IF(AND('Results PHA'!G9<=0.2,'Results PHA'!G9>0),0,IF('Results PHA'!G9>=0.4,2,IF(AND('Results PHA'!G9>=0.2,'Results PHA'!G9<=0.4),1,\"\")))))","v":""},null,"",null,"","","",""]
[5,{"$f":"IF(Input!B20=\"\",\"\",Input!B20)","v":""},{"$f":"IF(Input!C20=\"\",\"\",Input!C20)","v":""},{"$f":"IF(Input!D20=\"No\",0,IF(Input!D20=\"Yes\",2,\"\"))","v":""},null,{"$f":"IF(Input!$D$11=' lists & calculation '!$G$3,1,IF(Input!$D$11=' lists & calculation '!$G$4,2,IF(Input!$D$11=' lists & calculation '!$G$5,3,IF(Input!$D$11=' lists & calculation '!$G$6,4,IF(Input!$D$11=' lists & calculation '!$G$7,5,IF(Input!$D$11=' lists & calculation '!$G$8,6,\"\"))))))","v":""},{"$f":"IF(Input!F20=\"\",\"\",IF(F12=1,Input!F20*1.128,IF(F12=2,Input!F20*0.9,IF(F12=3,Input!F20*1.2,IF(F12=4,Input!F20,IF(F12=5,Input!F20,IF(F12=6,Input!F20*1.333,\"\")))))))","v":""},{"$f":"IF(G12=\"\", \"\",IF(AND(G12<=50000,G12>0),0,IF(G12>=100000,2,1)))","v":""},{"$f":"IF('Results PHA'!G10=\"\",\"\",(IF(AND('Results PHA'!G10<=0.2,'Results PHA'!G10>0),0,IF('Results PHA'!G10>=0.4,2,IF(AND('Results PHA'!G10>=0.2,'Results PHA'!G10<=0.4),1,\"\")))))","v":""},null,"",null,"","","","",null,"Promising",{"$f":"COUNTIF(K8:K57,2)","v":0}]
[6,{"$f":"IF(Input!B21=\"\",\"\",Input!B21)","v":""},{"$f":"IF(Input!C21=\"\",\"\",Input!C21)","v":""},{"$f":"IF(Input!D21=\"No\",0,IF(Input!D21=\"Yes\",2,\"\"))","v":""},null,{"$f":"IF(Input!$D$11=' lists & calculation '!$G$3,1,IF(Input!$D$11=' lists & calculation '!$G$4,2,IF(Input!$D$11=' lists & calculation '!$G$5,3,IF(Input!$D$11=' lists & calculation '!$G$6,4,IF(Input!$D$11=' lists & calculation '!$G$7,5,IF(Input!$D$11=' lists & calculation '!$G$8,6,\"\"))))))","v":""},{"$f":"IF(Input!F21=\"\",\"\",IF(F13=1,Input!F21*1.128,IF(F13=2,Input!F21*0.9,IF(F13=3,Input!F21*1.2,IF(F13=4,Input!F21,IF(F13=5,Input!F21,IF(F13=6,Input!F21*1.333,\"\")))))))","v":""},"",{"$f":"IF('Results PHA'!G11=\"\",\"\",(IF(AND('Results PHA'!G11<=0.2,'Results PHA'!G11>0),0,IF('Results PHA'!G11>=0.4,2,IF(AND('Results PHA'!G11>=0.2,'Results PHA'!G11<=0.4),1,\"\")))))","v":""},null,"",null,"","","","",null,"Not yet clear",{"$f":"COUNTIF(K8:K57,1)","v":0}]
[7,{"$f":"IF(Input!B22=\"\",\"\",Input!B22)","v":""},{"$f":"IF(Input!C22=\"\",\"\",Input!C22)","v":""},{"$f":"IF(Input!D22=\"No\",0,IF(Input!D22=\"Yes\",2,\"\"))","v":""},null,{"$f":"IF(Input!$D$11=' lists & calculation '!$G$3,1,IF(Input!$D$11=' lists & calculation '!$G$4,2,IF(Input!$D$11=' lists & calculation '!$G$5,3,IF(Input!$D$11=' lists & calculation '!$G$6,4,IF(Input!$D$11=' lists & calculation '!$G$7,5,IF(Input!$D$11=' lists & calculation '!$G$8,6,\"\"))))))","v":""},{"$f":"IF(Input!F22=\"\",\"\",IF(F14=1,Input!F22*1.128,IF(F14=2,Input!F22*0.9,IF(F14=3,Input!F22*1.2,IF(F14=4,Input!F22,IF(F14=5,Input!F22,IF(F14=6,Input!F22*1.333,\"\")))))))","v":""},"",{"$f":"IF('Results PHA'!G12=\"\",\"\",(IF(AND('Results PHA'!G12<=0.2,'Results PHA'!G12>0),0,IF('Results PHA'!G12>=0.4,2,IF(AND('Results PHA'!G12>=0.2,'Results PHA'!G12<=0.4),1,\"\")))))","v":""},null,"",null,"","","","",null,"Not suitable",{"$f":"COUNTIF(K8:K57,0)","v":0}]
[8,{"$f":"IF(Input!B23=\"\",\"\",Input!B23)","v":""},{"$f":"IF(Input!C23=\"\",\"\",Input!C23)","v":""},{"$f":"IF(Input!D23=\"No\",0,IF(Input!D23=\"Yes\",2,\"\"))","v":""},null,{"$f":"IF(Input!$D$11=' lists & calculation '!$G$3,1,IF(Input!$D$11=' lists & calculation '!$G$4,2,IF(Input!$D$11=' lists & calculation '!$G$5,3,IF(Input!$D$11=' lists & calculation '!$G$6,4,IF(Input!$D$11=' lists & calculation '!$G$7,5,IF(Input!$D$11=' lists & calculation '!$G$8,6,\"\"))))))","v":""},{"$f":"IF(Input!F23=\"\",\"\",IF(F15=1,Input!F23*1.128,IF(F15=2,Input!F23*0.9,IF(F15=3,Input!F23*1.2,IF(F15=4,Input!F23,IF(F15=5,Input!F23,IF(F15=6,Input!F23*1.333,\"\")))))))","v":""},"",{"$f":"IF('Results PHA'!G13=\"\",\"\",(IF(AND('Results PHA'!G13<=0.2,'Results PHA'!G13>0),0,IF('Results PHA'!G13>=0.4,2,IF(AND('Results PHA'!G13>=0.2,'Results PHA'!G13<=0.4),1,\"\")))))","v":""},null,"",null,"","","","",null,null,{"$f":"COUNTIF(K8:K57,\"\")","v":50}]
[9,{"$f":"IF(Input!B24=\"\",\"\",Input!B24)","v":""},{"$f":"IF(Input!C24=\"\",\"\",Input!C24)","v":""},{"$f":"IF(Input!D24=\"No\",0,IF(Input!D24=\"Yes\",2,\"\"))","v":""},null,{"$f":"IF(Input!$D$11=' lists & calculation '!$G$3,1,IF(Input!$D$11=' lists & calculation '!$G$4,2,IF(Input!$D$11=' lists & calculation '!$G$5,3,IF(Input!$D$11=' lists & calculation '!$G$6,4,IF(Input!$D$11=' lists & calculation '!$G$7,5,IF(Input!$D$11=' lists & calculation '!$G$8,6,\"\"))))))","v":""},{"$f":"IF(Input!F24=\"\",\"\",IF(F16=1,Input!F24*1.128,IF(F16=2,Input!F24*0.9,IF(F16=3,Input!F24*1.2,IF(F16=4,Input!F24,IF(F16=5,Input!F24,IF(F16=6,Input!F24*1.333,\"\")))))))","v":""},"",{"$f":"IF('Results PHA'!G14=\"\",\"\",(IF(AND('Results PHA'!G14<=0.2,'Results PHA'!G14>0),0,IF('Results PHA'!G14>=0.4,2,IF(AND('Results PHA'!G14>=0.2,'Results PHA'!G14<=0.4),1,\"\")))))","v":""},null,"",null,"","","",""]
[10,{"$f":"IF(Input!B25=\"\",\"\",Input!B25)","v":""},{"$f":"IF(Input!C25=\"\",\"\",Input!C25)","v":""},{"$f":"IF(Input!D25=\"No\",0,IF(Input!D25=\"Yes\",2,\"\"))","v":""},null,{"$f":"IF(Input!$D$11=' lists & calculation '!$G$3,1,IF(Input!$D$11=' lists & calculation '!$G$4,2,IF(Input!$D$11=' lists & calculation '!$G$5,3,IF(Input!$D$11=' lists & calculation '!$G$6,4,IF(Input!$D$11=' lists & calculation '!$G$7,5,IF(Input!$D$11=' lists & calculation '!$G$8,6,\"\"))))))","v":""},{"$f":"IF(Input!F25=\"\",\"\",IF(F17=1,Input!F25*1.128,IF(F17=2,Input!F25*0.9,IF(F17=3,Input!F25*1.2,IF(F17=4,Input!F25,IF(F17=5,Input!F25,IF(F17=6,Input!F25*1.333,\"\")))))))","v":""},"",{"$f":"IF('Results PHA'!G15=\"\",\"\",(IF(AND('Results PHA'!G15<=0.2,'Results PHA'!G15>0),0,IF('Results PHA'!G15>=0.4,2,IF(AND('Results PHA'!G15>=0.2,'Results PHA'!G15<=0.4),1,\"\")))))","v":""},null,"",null,"","","",""]
[11,{"$f":"IF(Input!B26=\"\",\"\",Input!B26)","v":""},{"$f":"IF(Input!C26=\"\",\"\",Input!C26)","v":""},{"$f":"IF(Input!D26=\"No\",0,IF(Input!D26=\"Yes\",2,\"\"))","v":""},null,{"$f":"IF(Input!$D$11=' lists & calculation '!$G$3,1,IF(Input!$D$11=' lists & calculation '!$G$4,2,IF(Input!$D$11=' lists & calculation '!$G$5,3,IF(Input!$D$11=' lists & calculation '!$G$6,4,IF(Input!$D$11=' lists & calculation '!$G$7,5,IF(Input!$D$11=' lists & calculation '!$G$8,6,\"\"))))))","v":""},{"$f":"IF(Input!F26=\"\",\"\",IF(F18=1,Input!F26*1.128,IF(F18=2,Input!F26*0.9,IF(F18=3,Input!F26*1.2,IF(F18=4,Input!F26,IF(F18=5,Input!F26,IF(F18=6,Input!F26*1.333,\"\")))))))","v":""},"",{"$f":"IF('Results PHA'!G16=\"\",\"\",(IF(AND('Results PHA'!G16<=0.2,'Results PHA'!G16>0),0,IF('Results PHA'!G16>=0.4,2,IF(AND('Results PHA'!G16>=0.2,'Results PHA'!G16<=0.4),1,\"\")))))","v":""},null,"",null,"","","",""]
[12,{"$f":"IF(Input!B27=\"\",\"\",Input!B27)","v":""},{"$f":"IF(Input!C27=\"\",\"\",Input!C27)","v":""},{"$f":"IF(Input!D27=\"No\",0,IF(Input!D27=\"Yes\",2,\"\"))","v":""},null,{"$f":"IF(Input!$D$11=' lists & calculation '!$G$3,1,IF(Input!$D$11=' lists & calculation '!$G$4,2,IF(Input!$D$11=' lists & calculation '!$G$5,3,IF(Input!$D$11=' lists & calculation '!$G$6,4,IF(Input!$D$11=' lists & calculation '!$G$7,5,IF(Input!$D$11=' lists & calculation '!$G$8,6,\"\"))))))","v":""},{"$f":"IF(Input!F27=\"\",\"\",IF(F19=1,Input!F27*1.128,IF(F19=2,Input!F27*0.9,IF(F19=3,Input!F27*1.2,IF(F19=4,Input!F27,IF(F19=5,Input!F27,IF(F19=6,Input!F27*1.333,\"\")))))))","v":""},"",{"$f":"IF('Results PHA'!G17=\"\",\"\",(IF(AND('Results PHA'!G17<=0.2,'Results PHA'!G17>0),0,IF('Results PHA'!G17>=0.4,2,IF(AND('Results PHA'!G17>=0.2,'Results PHA'!G17<=0.4),1,\"\")))))","v":""},null,"",null,"","","",""]
[13,{"$f":"IF(Input!B28=\"\",\"\",Input!B28)","v":""},{"$f":"IF(Input!C28=\"\",\"\",Input!C28)","v":""},{"$f":"IF(Input!D28=\"No\",0,IF(Input!D28=\"Yes\",2,\"\"))","v":""},null,{"$f":"IF(Input!$D$11=' lists & calculation '!$G$3,1,IF(Input!$D$11=' lists & calculation '!$G$4,2,IF(Input!$D$11=' lists & calculation '!$G$5,3,IF(Input!$D$11=' lists & calculation '!$G$6,4,IF(Input!$D$11=' lists & calculation '!$G$7,5,IF(Input!$D$11=' lists & calculation '!$G$8,6,\"\"))))))","v":""},{"$f":"IF(Input!F28=\"\",\"\",IF(F20=1,Input!F28*1.128,IF(F20=2,Input!F28*0.9,IF(F20=3,Input!F28*1.2,IF(F20=4,Input!F28,IF(F20=5,Input!F28,IF(F20=6,Input!F28*1.333,\"\")))))))","v":""},"",{"$f":"IF('Results PHA'!G18=\"\",\"\",(IF(AND('Results PHA'!G18<=0.2,'Results PHA'!G18>0),0,IF('Results PHA'!G18>=0.4,2,IF(AND('Results PHA'!G18>=0.2,'Results PHA'!G18<=0.4),1,\"\")))))","v":""},null,"",null,"","","",""]
[14,{"$f":"IF(Input!B29=\"\",\"\",Input!B29)","v":""},{"$f":"IF(Input!C29=\"\",\"\",Input!C29)","v":""},{"$f":"IF(Input!D29=\"No\",0,IF(Input!D29=\"Yes\",2,\"\"))","v":""},null,{"$f":"IF(Input!$D$11=' lists & calculation '!$G$3,1,IF(Input!$D$11=' lists & calculation '!$G$4,2,IF(Input!$D$11=' lists & calculation '!$G$5,3,IF(Input!$D$11=' lists & calculation '!$G$6,4,IF(Input!$D$11=' lists & calculation '!$G$7,5,IF(Input!$D$11=' lists & calculation '!$G$8,6,\"\"))))))","v":""},{"$f":"IF(Input!F29=\"\",\"\",IF(F21=1,Input!F29*1.128,IF(F21=2,Input!F29*0.9,IF(F21=3,Input!F29*1.2,IF(F21=4,Input!F29,IF(F21=5,Input!F29,IF(F21=6,Input!F29*1.333,\"\")))))))","v":""},"",{"$f":"IF('Results PHA'!G19=\"\",\"\",(IF(AND('Results PHA'!G19<=0.2,'Results PHA'!G19>0),0,IF('Results PHA'!G19>=0.4,2,IF(AND('Results PHA'!G19>=0.2,'Results PHA'!G19<=0.4),1,\"\")))))","v":""},null,"",null,"","","",""]
[15,{"$f":"IF(Input!B30=\"\",\"\",Input!B30)","v":""},{"$f":"IF(Input!C30=\"\",\"\",Input!C30)","v":""},{"$f":"IF(Input!D30=\"No\",0,IF(Input!D30=\"Yes\",2,\"\"))","v":""},null,{"$f":"IF(Input!$D$11=' lists & calculation '!$G$3,1,IF(Input!$D$11=' lists & calculation '!$G$4,2,IF(Input!$D$11=' lists & calculation '!$G$5,3,IF(Input!$D$11=' lists & calculation '!$G$6,4,IF(Input!$D$11=' lists & calculation '!$G$7,5,IF(Input!$D$11=' lists & calculation '!$G$8,6,\"\"))))))","v":""},{"$f":"IF(Input!F30=\"\",\"\",IF(F22=1,Input!F30*1.128,IF(F22=2,Input!F30*0.9,IF(F22=3,Input!F30*1.2,IF(F22=4,Input!F30,IF(F22=5,Input!F30,IF(F22=6,Input!F30*1.333,\"\")))))))","v":""},"",{"$f":"IF('Results PHA'!G20=\"\",\"\",(IF(AND('Results PHA'!G20<=0.2,'Results PHA'!G20>0),0,IF('Results PHA'!G20>=0.4,2,IF(AND('Results PHA'!G20>=0.2,'Results PHA'!G20<=0.4),1,\"\")))))","v":""},null,"",null,"","","",""]
[16,{"$f":"IF(Input!B31=\"\",\"\",Input!B31)","v":""},{"$f":"IF(Input!C31=\"\",\"\",Input!C31)","v":""},{"$f":"IF(Input!D31=\"No\",0,IF(Input!D31=\"Yes\",2,\"\"))","v":""},null,{"$f":"IF(Input!$D$11=' lists & calculation '!$G$3,1,IF(Input!$D$11=' lists & calculation '!$G$4,2,IF(Input!$D$11=' lists & calculation '!$G$5,3,IF(Input!$D$11=' lists & calculation '!$G$6,4,IF(Input!$D$11=' lists & calculation '!$G$7,5,IF(Input!$D$11=' lists & calculation '!$G$8,6,\"\"))))))","v":""},{"$f":"IF(Input!F31=\"\",\"\",IF(F23=1,Input!F31*1.128,IF(F23=2,Input!F31*0.9,IF(F23=3,Input!F31*1.2,IF(F23=4,Input!F31,IF(F23=5,Input!F31,IF(F23=6,Input!F31*1.333,\"\")))))))","v":""},"",{"$f":"IF('Results PHA'!G21=\"\",\"\",(IF(AND('Results PHA'!G21<=0.2,'Results PHA'!G21>0),0,IF('Results PHA'!G21>=0.4,2,IF(AND('Results PHA'!G21>=0.2,'Results PHA'!G21<=0.4),1,\"\")))))","v":""},null,"",null,"","","",""]
[17,{"$f":"IF(Input!B32=\"\",\"\",Input!B32)","v":""},{"$f":"IF(Input!C32=\"\",\"\",Input!C32)","v":""},{"$f":"IF(Input!D32=\"No\",0,IF(Input!D32=\"Yes\",2,\"\"))","v":""},null,{"$f":"IF(Input!$D$11=' lists & calculation '!$G$3,1,IF(Input!$D$11=' lists & calculation '!$G$4,2,IF(Input!$D$11=' lists & calculation '!$G$5,3,IF(Input!$D$11=' lists & calculation '!$G$6,4,IF(Input!$D$11=' lists & calculation '!$G$7,5,IF(Input!$D$11=' lists & calculation '!$G$8,6,\"\"))))))","v":""},{"$f":"IF(Input!F32=\"\",\"\",IF(F24=1,Input!F32*1.128,IF(F24=2,Input!F32*0.9,IF(F24=3,Input!F32*1.2,IF(F24=4,Input!F32,IF(F24=5,Input!F32,IF(F24=6,Input!F32*1.333,\"\")))))))","v":""},"",{"$f":"IF('Results PHA'!G22=\"\",\"\",(IF(AND('Results PHA'!G22<=0.2,'Results PHA'!G22>0),0,IF('Results PHA'!G22>=0.4,2,IF(AND('Results PHA'!G22>=0.2,'Results PHA'!G22<=0.4),1,\"\")))))","v":""},null,"",null,"","","",""]
[18,{"$f":"IF(Input!B33=\"\",\"\",Input!B33)","v":""},{"$f":"IF(Input!C33=\"\",\"\",Input!C33)","v":""},{"$f":"IF(Input!D33=\"No\",0,IF(Input!D33=\"Yes\",2,\"\"))","v":""},null,{"$f":"IF(Input!$D$11=' lists & calculation '!$G$3,1,IF(Input!$D$11=' lists & calculation '!$G$4,2,IF(Input!$D$11=' lists & calculation '!$G$5,3,IF(Input!$D$11=' lists & calculation '!$G$6,4,IF(Input!$D$11=' lists & calculation '!$G$7,5,IF(Input!$D$11=' lists & calculation '!$G$8,6,\"\"))))))","v":""},{"$f":"IF(Input!F33=\"\",\"\",IF(F25=1,Input!F33*1.128,IF(F25=2,Input!F33*0.9,IF(F25=3,Input!F33*1.2,IF(F25=4,Input!F33,IF(F25=5,Input!F33,IF(F25=6,Input!F33*1.333,\"\")))))))","v":""},"",{"$f":"IF('Results PHA'!G23=\"\",\"\",(IF(AND('Results PHA'!G23<=0.2,'Results PHA'!G23>0),0,IF('Results PHA'!G23>=0.4,2,IF(AND('Results PHA'!G23>=0.2,'Results PHA'!G23<=0.4),1,\"\")))))","v":""},null,"",null,"","","",""]
[19,{"$f":"IF(Input!B34=\"\",\"\",Input!B34)","v":""},{"$f":"IF(Input!C34=\"\",\"\",Input!C34)","v":""},{"$f":"IF(Input!D34=\"No\",0,IF(Input!D34=\"Yes\",2,\"\"))","v":""},null,{"$f":"IF(Input!$D$11=' lists & calculation '!$G$3,1,IF(Input!$D$11=' lists & calculation '!$G$4,2,IF(Input!$D$11=' lists & calculation '!$G$5,3,IF(Input!$D$11=' lists & calculation '!$G$6,4,IF(Input!$D$11=' lists & calculation '!$G$7,5,IF(Input!$D$11=' lists & calculation '!$G$8,6,\"\"))))))","v":""},{"$f":"IF(Input!F34=\"\",\"\",IF(F26=1,Input!F34*1.128,IF(F26=2,Input!F34*0.9,IF(F26=3,Input!F34*1.2,IF(F26=4,Input!F34,IF(F26=5,Input!F34,IF(F26=6,Input!F34*1.333,\"\")))))))","v":""},"",{"$f":"IF('Results PHA'!G24=\"\",\"\",(IF(AND('Results PHA'!G24<=0.2,'Results PHA'!G24>0),0,IF('Results PHA'!G24>=0.4,2,IF(AND('Results PHA'!G24>=0.2,'Results PHA'!G24<=0.4),1,\"\")))))","v":""},null,"",null,"","","",""]
[20,{"$f":"IF(Input!B35=\"\",\"\",Input!B35)","v":""},{"$f":"IF(Input!C35=\"\",\"\",Input!C35)","v":""},{"$f":"IF(Input!D35=\"No\",0,IF(Input!D35=\"Yes\",2,\"\"))","v":""},null,{"$f":"IF(Input!$D$11=' lists & calculation '!$G$3,1,IF(Input!$D$11=' lists & calculation '!$G$4,2,IF(Input!$D$11=' lists & calculation '!$G$5,3,IF(Input!$D$11=' lists & calculation '!$G$6,4,IF(Input!$D$11=' lists & calculation '!$G$7,5,IF(Input!$D$11=' lists & calculation '!$G$8,6,\"\"))))))","v":""},{"$f":"IF(Input!F35=\"\",\"\",IF(F27=1,Input!F35*1.128,IF(F27=2,Input!F35*0.9,IF(F27=3,Input!F35*1.2,IF(F27=4,Input!F35,IF(F27=5,Input!F35,IF(F27=6,Input!F35*1.333,\"\")))))))","v":""},"",{"$f":"IF('Results PHA'!G25=\"\",\"\",(IF(AND('Results PHA'!G25<=0.2,'Results PHA'!G25>0),0,IF('Results PHA'!G25>=0.4,2,IF(AND('Results PHA'!G25>=0.2,'Results PHA'!G25<=0.4),1,\"\")))))","v":""},null,"",null,"","","",""]
[21,{"$f":"IF(Input!B36=\"\",\"\",Input!B36)","v":""},{"$f":"IF(Input!C36=\"\",\"\",Input!C36)","v":""},{"$f":"IF(Input!D36=\"No\",0,IF(Input!D36=\"Yes\",2,\"\"))","v":""},null,{"$f":"IF(Input!$D$11=' lists & calculation '!$G$3,1,IF(Input!$D$11=' lists & calculation '!$G$4,2,IF(Input!$D$11=' lists & calculation '!$G$5,3,IF(Input!$D$11=' lists & calculation '!$G$6,4,IF(Input!$D$11=' lists & calculation '!$G$7,5,IF(Input!$D$11=' lists & calculation '!$G$8,6,\"\"))))))","v":""},{"$f":"IF(Input!F36=\"\",\"\",IF(F28=1,Input!F36*1.128,IF(F28=2,Input!F36*0.9,IF(F28=3,Input!F36*1.2,IF(F28=4,Input!F36,IF(F28=5,Input!F36,IF(F28=6,Input!F36*1.333,\"\")))))))","v":""},"",{"$f":"IF('Results PHA'!G26=\"\",\"\",(IF(AND('Results PHA'!G26<=0.2,'Results PHA'!G26>0),0,IF('Results PHA'!G26>=0.4,2,IF(AND('Results PHA'!G26>=0.2,'Results PHA'!G26<=0.4),1,\"\")))))","v":""},null,"",null,"","","",""]
[22,{"$f":"IF(Input!B37=\"\",\"\",Input!B37)","v":""},{"$f":"IF(Input!C37=\"\",\"\",Input!C37)","v":""},{"$f":"IF(Input!D37=\"No\",0,IF(Input!D37=\"Yes\",2,\"\"))","v":""},null,{"$f":"IF(Input!$D$11=' lists & calculation '!$G$3,1,IF(Input!$D$11=' lists & calculation '!$G$4,2,IF(Input!$D$11=' lists & calculation '!$G$5,3,IF(Input!$D$11=' lists & calculation '!$G$6,4,IF(Input!$D$11=' lists & calculation '!$G$7,5,IF(Input!$D$11=' lists & calculation '!$G$8,6,\"\"))))))","v":""},{"$f":"IF(Input!F37=\"\",\"\",IF(F29=1,Input!F37*1.128,IF(F29=2,Input!F37*0.9,IF(F29=3,Input!F37*1.2,IF(F29=4,Input!F37,IF(F29=5,Input!F37,IF(F29=6,Input!F37*1.333,\"\")))))))","v":""},"",{"$f":"IF('Results PHA'!G27=\"\",\"\",(IF(AND('Results PHA'!G27<=0.2,'Results PHA'!G27>0),0,IF('Results PHA'!G27>=0.4,2,IF(AND('Results PHA'!G27>=0.2,'Results PHA'!G27<=0.4),1,\"\")))))","v":""},null,"",null,"","","",""]
[23,{"$f":"IF(Input!B38=\"\",\"\",Input!B38)","v":""},{"$f":"IF(Input!C38=\"\",\"\",Input!C38)","v":""},{"$f":"IF(Input!D38=\"No\",0,IF(Input!D38=\"Yes\",2,\"\"))","v":""},null,{"$f":"IF(Input!$D$11=' lists & calculation '!$G$3,1,IF(Input!$D$11=' lists & calculation '!$G$4,2,IF(Input!$D$11=' lists & calculation '!$G$5,3,IF(Input!$D$11=' lists & calculation '!$G$6,4,IF(Input!$D$11=' lists & calculation '!$G$7,5,IF(Input!$D$11=' lists & calculation '!$G$8,6,\"\"))))))","v":""},{"$f":"IF(Input!F38=\"\",\"\",IF(F30=1,Input!F38*1.128,IF(F30=2,Input!F38*0.9,IF(F30=3,Input!F38*1.2,IF(F30=4,Input!F38,IF(F30=5,Input!F38,IF(F30=6,Input!F38*1.333,\"\")))))))","v":""},"",{"$f":"IF('Results PHA'!G28=\"\",\"\",(IF(AND('Results PHA'!G28<=0.2,'Results PHA'!G28>0),0,IF('Results PHA'!G28>=0.4,2,IF(AND('Results PHA'!G28>=0.2,'Results PHA'!G28<=0.4),1,\"\")))))","v":""},null,"",null,"","","",""]
[24,{"$f":"IF(Input!B39=\"\",\"\",Input!B39)","v":""},{"$f":"IF(Input!C39=\"\",\"\",Input!C39)","v":""},{"$f":"IF(Input!D39=\"No\",0,IF(Input!D39=\"Yes\",2,\"\"))","v":""},null,{"$f":"IF(Input!$D$11=' lists & calculation '!$G$3,1,IF(Input!$D$11=' lists & calculation '!$G$4,2,IF(Input!$D$11=' lists & calculation '!$G$5,3,IF(Input!$D$11=' lists & calculation '!$G$6,4,IF(Input!$D$11=' lists & calculation '!$G$7,5,IF(Input!$D$11=' lists & calculation '!$G$8,6,\"\"))))))","v":""},{"$f":"IF(Input!F39=\"\",\"\",IF(F31=1,Input!F39*1.128,IF(F31=2,Input!F39*0.9,IF(F31=3,Input!F39*1.2,IF(F31=4,Input!F39,IF(F31=5,Input!F39,IF(F31=6,Input!F39*1.333,\"\")))))))","v":""},"",{"$f":"IF('Results PHA'!G29=\"\",\"\",(IF(AND('Results PHA'!G29<=0.2,'Results PHA'!G29>0),0,IF('Results PHA'!G29>=0.4,2,IF(AND('Results PHA'!G29>=0.2,'Results PHA'!G29<=0.4),1,\"\")))))","v":""},null,"",null,"","","",""]
[25,{"$f":"IF(Input!B40=\"\",\"\",Input!B40)","v":""},{"$f":"IF(Input!C40=\"\",\"\",Input!C40)","v":""},{"$f":"IF(Input!D40=\"No\",0,IF(Input!D40=\"Yes\",2,\"\"))","v":""},null,{"$f":"IF(Input!$D$11=' lists & calculation '!$G$3,1,IF(Input!$D$11=' lists & calculation '!$G$4,2,IF(Input!$D$11=' lists & calculation '!$G$5,3,IF(Input!$D$11=' lists & calculation '!$G$6,4,IF(Input!$D$11=' lists & calculation '!$G$7,5,IF(Input!$D$11=' lists & calculation '!$G$8,6,\"\"))))))","v":""},{"$f":"IF(Input!F40=\"\",\"\",IF(F32=1,Input!F40*1.128,IF(F32=2,Input!F40*0.9,IF(F32=3,Input!F40*1.2,IF(F32=4,Input!F40,IF(F32=5,Input!F40,IF(F32=6,Input!F40*1.333,\"\")))))))","v":""},"",{"$f":"IF('Results PHA'!G30=\"\",\"\",(IF(AND('Results PHA'!G30<=0.2,'Results PHA'!G30>0),0,IF('Results PHA'!G30>=0.4,2,IF(AND('Results PHA'!G30>=0.2,'Results PHA'!G30<=0.4),1,\"\")))))","v":""},null,"",null,"","","",""]
[26,{"$f":"IF(Input!B41=\"\",\"\",Input!B41)","v":""},{"$f":"IF(Input!C41=\"\",\"\",Input!C41)","v":""},{"$f":"IF(Input!D41=\"No\",0,IF(Input!D41=\"Yes\",2,\"\"))","v":""},null,{"$f":"IF(Input!$D$11=' lists & calculation '!$G$3,1,IF(Input!$D$11=' lists & calculation '!$G$4,2,IF(Input!$D$11=' lists & calculation '!$G$5,3,IF(Input!$D$11=' lists & calculation '!$G$6,4,IF(Input!$D$11=' lists & calculation '!$G$7,5,IF(Input!$D$11=' lists & calculation '!$G$8,6,\"\"))))))","v":""},{"$f":"IF(Input!F41=\"\",\"\",IF(F33=1,Input!F41*1.128,IF(F33=2,Input!F41*0.9,IF(F33=3,Input!F41*1.2,IF(F33=4,Input!F41,IF(F33=5,Input!F41,IF(F33=6,Input!F41*1.333,\"\")))))))","v":""},"",{"$f":"IF('Results PHA'!G31=\"\",\"\",(IF(AND('Results PHA'!G31<=0.2,'Results PHA'!G31>0),0,IF('Results PHA'!G31>=0.4,2,IF(AND('Results PHA'!G31>=0.2,'Results PHA'!G31<=0.4),1,\"\")))))","v":""},null,"",null,"","","",""]
[27,{"$f":"IF(Input!B42=\"\",\"\",Input!B42)","v":""},{"$f":"IF(Input!C42=\"\",\"\",Input!C42)","v":""},{"$f":"IF(Input!D42=\"No\",0,IF(Input!D42=\"Yes\",2,\"\"))","v":""},null,{"$f":"IF(Input!$D$11=' lists & calculation '!$G$3,1,IF(Input!$D$11=' lists & calculation '!$G$4,2,IF(Input!$D$11=' lists & calculation '!$G$5,3,IF(Input!$D$11=' lists & calculation '!$G$6,4,IF(Input!$D$11=' lists & calculation '!$G$7,5,IF(Input!$D$11=' lists & calculation '!$G$8,6,\"\"))))))","v":""},{"$f":"IF(Input!F42=\"\",\"\",IF(F34=1,Input!F42*1.128,IF(F34=2,Input!F42*0.9,IF(F34=3,Input!F42*1.2,IF(F34=4,Input!F42,IF(F34=5,Input!F42,IF(F34=6,Input!F42*1.333,\"\")))))))","v":""},"",{"$f":"IF('Results PHA'!G32=\"\",\"\",(IF(AND('Results PHA'!G32<=0.2,'Results PHA'!G32>0),0,IF('Results PHA'!G32>=0.4,2,IF(AND('Results PHA'!G32>=0.2,'Results PHA'!G32<=0.4),1,\"\")))))","v":""},null,"",null,"","","",""]
[28,{"$f":"IF(Input!B43=\"\",\"\",Input!B43)","v":""},{"$f":"IF(Input!C43=\"\",\"\",Input!C43)","v":""},{"$f":"IF(Input!D43=\"No\",0,IF(Input!D43=\"Yes\",2,\"\"))","v":""},null,{"$f":"IF(Input!$D$11=' lists & calculation '!$G$3,1,IF(Input!$D$11=' lists & calculation '!$G$4,2,IF(Input!$D$11=' lists & calculation '!$G$5,3,IF(Input!$D$11=' lists & calculation '!$G$6,4,IF(Input!$D$11=' lists & calculation '!$G$7,5,IF(Input!$D$11=' lists & calculation '!$G$8,6,\"\"))))))","v":""},{"$f":"IF(Input!F43=\"\",\"\",IF(F35=1,Input!F43*1.128,IF(F35=2,Input!F43*0.9,IF(F35=3,Input!F43*1.2,IF(F35=4,Input!F43,IF(F35=5,Input!F43,IF(F35=6,Input!F43*1.333,\"\")))))))","v":""},"",{"$f":"IF('Results PHA'!G33=\"\",\"\",(IF(AND('Results PHA'!G33<=0.2,'Results PHA'!G33>0),0,IF('Results PHA'!G33>=0.4,2,IF(AND('Results PHA'!G33>=0.2,'Results PHA'!G33<=0.4),1,\"\")))))","v":""},null,"",null,"","","",""]
[29,{"$f":"IF(Input!B44=\"\",\"\",Input!B44)","v":""},{"$f":"IF(Input!C44=\"\",\"\",Input!C44)","v":""},{"$f":"IF(Input!D44=\"No\",0,IF(Input!D44=\"Yes\",2,\"\"))","v":""},null,{"$f":"IF(Input!$D$11=' lists & calculation '!$G$3,1,IF(Input!$D$11=' lists & calculation '!$G$4,2,IF(Input!$D$11=' lists & calculation '!$G$5,3,IF(Input!$D$11=' lists & calculation '!$G$6,4,IF(Input!$D$11=' lists & calculation '!$G$7,5,IF(Input!$D$11=' lists & calculation '!$G$8,6,\"\"))))))","v":""},{"$f":"IF(Input!F44=\"\",\"\",IF(F36=1,Input!F44*1.128,IF(F36=2,Input!F44*0.9,IF(F36=3,Input!F44*1.2,IF(F36=4,Input!F44,IF(F36=5,Input!F44,IF(F36=6,Input!F44*1.333,\"\")))))))","v":""},"",{"$f":"IF('Results PHA'!G34=\"\",\"\",(IF(AND('Results PHA'!G34<=0.2,'Results PHA'!G34>0),0,IF('Results PHA'!G34>=0.4,2,IF(AND('Results PHA'!G34>=0.2,'Results PHA'!G34<=0.4),1,\"\")))))","v":""},null,"",null,"","","",""]
[30,{"$f":"IF(Input!B45=\"\",\"\",Input!B45)","v":""},{"$f":"IF(Input!C45=\"\",\"\",Input!C45)","v":""},{"$f":"IF(Input!D45=\"No\",0,IF(Input!D45=\"Yes\",2,\"\"))","v":""},null,{"$f":"IF(Input!$D$11=' lists & calculation '!$G$3,1,IF(Input!$D$11=' lists & calculation '!$G$4,2,IF(Input!$D$11=' lists & calculation '!$G$5,3,IF(Input!$D$11=' lists & calculation '!$G$6,4,IF(Input!$D$11=' lists & calculation '!$G$7,5,IF(Input!$D$11=' lists & calculation '!$G$8,6,\"\"))))))","v":""},{"$f":"IF(Input!F45=\"\",\"\",IF(F37=1,Input!F45*1.128,IF(F37=2,Input!F45*0.9,IF(F37=3,Input!F45*1.2,IF(F37=4,Input!F45,IF(F37=5,Input!F45,IF(F37=6,Input!F45*1.333,\"\")))))))","v":""},"",{"$f":"IF('Results PHA'!G35=\"\",\"\",(IF(AND('Results PHA'!G35<=0.2,'Results PHA'!G35>0),0,IF('Results PHA'!G35>=0.4,2,IF(AND('Results PHA'!G35>=0.2,'Results PHA'!G35<=0.4),1,\"\")))))","v":""},null,"",null,"","","",""]
[31,{"$f":"IF(Input!B46=\"\",\"\",Input!B46)","v":""},{"$f":"IF(Input!C46=\"\",\"\",Input!C46)","v":""},{"$f":"IF(Input!D46=\"No\",0,IF(Input!D46=\"Yes\",2,\"\"))","v":""},null,{"$f":"IF(Input!$D$11=' lists & calculation '!$G$3,1,IF(Input!$D$11=' lists & calculation '!$G$4,2,IF(Input!$D$11=' lists & calculation '!$G$5,3,IF(Input!$D$11=' lists & calculation '!$G$6,4,IF(Input!$D$11=' lists & calculation '!$G$7,5,IF(Input!$D$11=' lists & calculation '!$G$8,6,\"\"))))))","v":""},{"$f":"IF(Input!F46=\"\",\"\",IF(F38=1,Input!F46*1.128,IF(F38=2,Input!F46*0.9,IF(F38=3,Input!F46*1.2,IF(F38=4,Input!F46,IF(F38=5,Input!F46,IF(F38=6,Input!F46*1.333,\"\")))))))","v":""},"",{"$f":"IF('Results PHA'!G36=\"\",\"\",(IF(AND('Results PHA'!G36<=0.2,'Results PHA'!G36>0),0,IF('Results PHA'!G36>=0.4,2,IF(AND('Results PHA'!G36>=0.2,'Results PHA'!G36<=0.4),1,\"\")))))","v":""},null,"",null,"","","",""]
[32,{"$f":"IF(Input!B47=\"\",\"\",Input!B47)","v":""},{"$f":"IF(Input!C47=\"\",\"\",Input!C47)","v":""},{"$f":"IF(Input!D47=\"No\",0,IF(Input!D47=\"Yes\",2,\"\"))","v":""},null,{"$f":"IF(Input!$D$11=' lists & calculation '!$G$3,1,IF(Input!$D$11=' lists & calculation '!$G$4,2,IF(Input!$D$11=' lists & calculation '!$G$5,3,IF(Input!$D$11=' lists & calculation '!$G$6,4,IF(Input!$D$11=' lists & calculation '!$G$7,5,IF(Input!$D$11=' lists & calculation '!$G$8,6,\"\"))))))","v":""},{"$f":"IF(Input!F47=\"\",\"\",IF(F39=1,Input!F47*1.128,IF(F39=2,Input!F47*0.9,IF(F39=3,Input!F47*1.2,IF(F39=4,Input!F47,IF(F39=5,Input!F47,IF(F39=6,Input!F47*1.333,\"\")))))))","v":""},"",{"$f":"IF('Results PHA'!G37=\"\",\"\",(IF(AND('Results PHA'!G37<=0.2,'Results PHA'!G37>0),0,IF('Results PHA'!G37>=0.4,2,IF(AND('Results PHA'!G37>=0.2,'Results PHA'!G37<=0.4),1,\"\")))))","v":""},null,"",null,"","","",""]
[33,{"$f":"IF(Input!B48=\"\",\"\",Input!B48)","v":""},{"$f":"IF(Input!C48=\"\",\"\",Input!C48)","v":""},{"$f":"IF(Input!D48=\"No\",0,IF(Input!D48=\"Yes\",2,\"\"))","v":""},null,{"$f":"IF(Input!$D$11=' lists & calculation '!$G$3,1,IF(Input!$D$11=' lists & calculation '!$G$4,2,IF(Input!$D$11=' lists & calculation '!$G$5,3,IF(Input!$D$11=' lists & calculation '!$G$6,4,IF(Input!$D$11=' lists & calculation '!$G$7,5,IF(Input!$D$11=' lists & calculation '!$G$8,6,\"\"))))))","v":""},{"$f":"IF(Input!F48=\"\",\"\",IF(F40=1,Input!F48*1.128,IF(F40=2,Input!F48*0.9,IF(F40=3,Input!F48*1.2,IF(F40=4,Input!F48,IF(F40=5,Input!F48,IF(F40=6,Input!F48*1.333,\"\")))))))","v":""},"",{"$f":"IF('Results PHA'!G38=\"\",\"\",(IF(AND('Results PHA'!G38<=0.2,'Results PHA'!G38>0),0,IF('Results PHA'!G38>=0.4,2,IF(AND('Results PHA'!G38>=0.2,'Results PHA'!G38<=0.4),1,\"\")))))","v":""},null,"",null,"","","",""]
[34,{"$f":"IF(Input!B49=\"\",\"\",Input!B49)","v":""},{"$f":"IF(Input!C49=\"\",\"\",Input!C49)","v":""},{"$f":"IF(Input!D49=\"No\",0,IF(Input!D49=\"Yes\",2,\"\"))","v":""},null,{"$f":"IF(Input!$D$11=' lists & calculation '!$G$3,1,IF(Input!$D$11=' lists & calculation '!$G$4,2,IF(Input!$D$11=' lists & calculation '!$G$5,3,IF(Input!$D$11=' lists & calculation '!$G$6,4,IF(Input!$D$11=' lists & calculation '!$G$7,5,IF(Input!$D$11=' lists & calculation '!$G$8,6,\"\"))))))","v":""},{"$f":"IF(Input!F49=\"\",\"\",IF(F41=1,Input!F49*1.128,IF(F41=2,Input!F49*0.9,IF(F41=3,Input!F49*1.2,IF(F41=4,Input!F49,IF(F41=5,Input!F49,IF(F41=6,Input!F49*1.333,\"\")))))))","v":""},"",{"$f":"IF('Results PHA'!G39=\"\",\"\",(IF(AND('Results PHA'!G39<=0.2,'Results PHA'!G39>0),0,IF('Results PHA'!G39>=0.4,2,IF(AND('Results PHA'!G39>=0.2,'Results PHA'!G39<=0.4),1,\"\")))))","v":""},null,"",null,"","","",""]
[35,{"$f":"IF(Input!B50=\"\",\"\",Input!B50)","v":""},{"$f":"IF(Input!C50=\"\",\"\",Input!C50)","v":""},{"$f":"IF(Input!D50=\"No\",0,IF(Input!D50=\"Yes\",2,\"\"))","v":""},null,{"$f":"IF(Input!$D$11=' lists & calculation '!$G$3,1,IF(Input!$D$11=' lists & calculation '!$G$4,2,IF(Input!$D$11=' lists & calculation '!$G$5,3,IF(Input!$D$11=' lists & calculation '!$G$6,4,IF(Input!$D$11=' lists & calculation '!$G$7,5,IF(Input!$D$11=' lists & calculation '!$G$8,6,\"\"))))))","v":""},{"$f":"IF(Input!F50=\"\",\"\",IF(F42=1,Input!F50*1.128,IF(F42=2,Input!F50*0.9,IF(F42=3,Input!F50*1.2,IF(F42=4,Input!F50,IF(F42=5,Input!F50,IF(F42=6,Input!F50*1.333,\"\")))))))","v":""},"",{"$f":"IF('Results PHA'!G40=\"\",\"\",(IF(AND('Results PHA'!G40<=0.2,'Results PHA'!G40>0),0,IF('Results PHA'!G40>=0.4,2,IF(AND('Results PHA'!G40>=0.2,'Results PHA'!G40<=0.4),1,\"\")))))","v":""},null,"",null,"","","",""]
[36,{"$f":"IF(Input!B51=\"\",\"\",Input!B51)","v":""},{"$f":"IF(Input!C51=\"\",\"\",Input!C51)","v":""},{"$f":"IF(Input!D51=\"No\",0,IF(Input!D51=\"Yes\",2,\"\"))","v":""},null,{"$f":"IF(Input!$D$11=' lists & calculation '!$G$3,1,IF(Input!$D$11=' lists & calculation '!$G$4,2,IF(Input!$D$11=' lists & calculation '!$G$5,3,IF(Input!$D$11=' lists & calculation '!$G$6,4,IF(Input!$D$11=' lists & calculation '!$G$7,5,IF(Input!$D$11=' lists & calculation '!$G$8,6,\"\"))))))","v":""},{"$f":"IF(Input!F51=\"\",\"\",IF(F43=1,Input!F51*1.128,IF(F43=2,Input!F51*0.9,IF(F43=3,Input!F51*1.2,IF(F43=4,Input!F51,IF(F43=5,Input!F51,IF(F43=6,Input!F51*1.333,\"\")))))))","v":""},"",{"$f":"IF('Results PHA'!G41=\"\",\"\",(IF(AND('Results PHA'!G41<=0.2,'Results PHA'!G41>0),0,IF('Results PHA'!G41>=0.4,2,IF(AND('Results PHA'!G41>=0.2,'Results PHA'!G41<=0.4),1,\"\")))))","v":""},null,"",null,"","","",""]
[37,{"$f":"IF(Input!B52=\"\",\"\",Input!B52)","v":""},{"$f":"IF(Input!C52=\"\",\"\",Input!C52)","v":""},{"$f":"IF(Input!D52=\"No\",0,IF(Input!D52=\"Yes\",2,\"\"))","v":""},null,{"$f":"IF(Input!$D$11=' lists & calculation '!$G$3,1,IF(Input!$D$11=' lists & calculation '!$G$4,2,IF(Input!$D$11=' lists & calculation '!$G$5,3,IF(Input!$D$11=' lists & calculation '!$G$6,4,IF(Input!$D$11=' lists & calculation '!$G$7,5,IF(Input!$D$11=' lists & calculation '!$G$8,6,\"\"))))))","v":""},{"$f":"IF(Input!F52=\"\",\"\",IF(F44=1,Input!F52*1.128,IF(F44=2,Input!F52*0.9,IF(F44=3,Input!F52*1.2,IF(F44=4,Input!F52,IF(F44=5,Input!F52,IF(F44=6,Input!F52*1.333,\"\")))))))","v":""},"",{"$f":"IF('Results PHA'!G42=\"\",\"\",(IF(AND('Results PHA'!G42<=0.2,'Results PHA'!G42>0),0,IF('Results PHA'!G42>=0.4,2,IF(AND('Results PHA'!G42>=0.2,'Results PHA'!G42<=0.4),1,\"\")))))","v":""},null,"",null,"","","",""]
[38,{"$f":"IF(Input!B53=\"\",\"\",Input!B53)","v":""},{"$f":"IF(Input!C53=\"\",\"\",Input!C53)","v":""},{"$f":"IF(Input!D53=\"No\",0,IF(Input!D53=\"Yes\",2,\"\"))","v":""},null,{"$f":"IF(Input!$D$11=' lists & calculation '!$G$3,1,IF(Input!$D$11=' lists & calculation '!$G$4,2,IF(Input!$D$11=' lists & calculation '!$G$5,3,IF(Input!$D$11=' lists & calculation '!$G$6,4,IF(Input!$D$11=' lists & calculation '!$G$7,5,IF(Input!$D$11=' lists & calculation '!$G$8,6,\"\"))))))","v":""},{"$f":"IF(Input!F53=\"\",\"\",IF(F45=1,Input!F53*1.128,IF(F45=2,Input!F53*0.9,IF(F45=3,Input!F53*1.2,IF(F45=4,Input!F53,IF(F45=5,Input!F53,IF(F45=6,Input!F53*1.333,\"\")))))))","v":""},"",{"$f":"IF('Results PHA'!G43=\"\",\"\",(IF(AND('Results PHA'!G43<=0.2,'Results PHA'!G43>0),0,IF('Results PHA'!G43>=0.4,2,IF(AND('Results PHA'!G43>=0.2,'Results PHA'!G43<=0.4),1,\"\")))))","v":""},null,"",null,"","","",""]
[39,{"$f":"IF(Input!B54=\"\",\"\",Input!B54)","v":""},{"$f":"IF(Input!C54=\"\",\"\",Input!C54)","v":""},{"$f":"IF(Input!D54=\"No\",0,IF(Input!D54=\"Yes\",2,\"\"))","v":""},null,{"$f":"IF(Input!$D$11=' lists & calculation '!$G$3,1,IF(Input!$D$11=' lists & calculation '!$G$4,2,IF(Input!$D$11=' lists & calculation '!$G$5,3,IF(Input!$D$11=' lists & calculation '!$G$6,4,IF(Input!$D$11=' lists & calculation '!$G$7,5,IF(Input!$D$11=' lists & calculation '!$G$8,6,\"\"))))))","v":""},{"$f":"IF(Input!F54=\"\",\"\",IF(F46=1,Input!F54*1.128,IF(F46=2,Input!F54*0.9,IF(F46=3,Input!F54*1.2,IF(F46=4,Input!F54,IF(F46=5,Input!F54,IF(F46=6,Input!F54*1.333,\"\")))))))","v":""},"",{"$f":"IF('Results PHA'!G44=\"\",\"\",(IF(AND('Results PHA'!G44<=0.2,'Results PHA'!G44>0),0,IF('Results PHA'!G44>=0.4,2,IF(AND('Results PHA'!G44>=0.2,'Results PHA'!G44<=0.4),1,\"\")))))","v":""},null,"",null,"","","",""]
[40,{"$f":"IF(Input!B55=\"\",\"\",Input!B55)","v":""},{"$f":"IF(Input!C55=\"\",\"\",Input!C55)","v":""},{"$f":"IF(Input!D55=\"No\",0,IF(Input!D55=\"Yes\",2,\"\"))","v":""},null,{"$f":"IF(Input!$D$11=' lists & calculation '!$G$3,1,IF(Input!$D$11=' lists & calculation '!$G$4,2,IF(Input!$D$11=' lists & calculation '!$G$5,3,IF(Input!$D$11=' lists & calculation '!$G$6,4,IF(Input!$D$11=' lists & calculation '!$G$7,5,IF(Input!$D$11=' lists & calculation '!$G$8,6,\"\"))))))","v":""},{"$f":"IF(Input!F55=\"\",\"\",IF(F47=1,Input!F55*1.128,IF(F47=2,Input!F55*0.9,IF(F47=3,Input!F55*1.2,IF(F47=4,Input!F55,IF(F47=5,Input!F55,IF(F47=6,Input!F55*1.333,\"\")))))))","v":""},"",{"$f":"IF('Results PHA'!G45=\"\",\"\",(IF(AND('Results PHA'!G45<=0.2,'Results PHA'!G45>0),0,IF('Results PHA'!G45>=0.4,2,IF(AND('Results PHA'!G45>=0.2,'Results PHA'!G45<=0.4),1,\"\")))))","v":""},null,"",null,"","","",""]
[41,{"$f":"IF(Input!B56=\"\",\"\",Input!B56)","v":""},{"$f":"IF(Input!C56=\"\",\"\",Input!C56)","v":""},{"$f":"IF(Input!D56=\"No\",0,IF(Input!D56=\"Yes\",2,\"\"))","v":""},null,{"$f":"IF(Input!$D$11=' lists & calculation '!$G$3,1,IF(Input!$D$11=' lists & calculation '!$G$4,2,IF(Input!$D$11=' lists & calculation '!$G$5,3,IF(Input!$D$11=' lists & calculation '!$G$6,4,IF(Input!$D$11=' lists & calculation '!$G$7,5,IF(Input!$D$11=' lists & calculation '!$G$8,6,\"\"))))))","v":""},{"$f":"IF(Input!F56=\"\",\"\",IF(F48=1,Input!F56*1.128,IF(F48=2,Input!F56*0.9,IF(F48=3,Input!F56*1.2,IF(F48=4,Input!F56,IF(F48=5,Input!F56,IF(F48=6,Input!F56*1.333,\"\")))))))","v":""},"",{"$f":"IF('Results PHA'!G46=\"\",\"\",(IF(AND('Results PHA'!G46<=0.2,'Results PHA'!G46>0),0,IF('Results PHA'!G46>=0.4,2,IF(AND('Results PHA'!G46>=0.2,'Results PHA'!G46<=0.4),1,\"\")))))","v":""},null,"",null,"","","",""]
[42,{"$f":"IF(Input!B57=\"\",\"\",Input!B57)","v":""},{"$f":"IF(Input!C57=\"\",\"\",Input!C57)","v":""},{"$f":"IF(Input!D57=\"No\",0,IF(Input!D57=\"Yes\",2,\"\"))","v":""},null,{"$f":"IF(Input!$D$11=' lists & calculation '!$G$3,1,IF(Input!$D$11=' lists & calculation '!$G$4,2,IF(Input!$D$11=' lists & calculation '!$G$5,3,IF(Input!$D$11=' lists & calculation '!$G$6,4,IF(Input!$D$11=' lists & calculation '!$G$7,5,IF(Input!$D$11=' lists & calculation '!$G$8,6,\"\"))))))","v":""},{"$f":"IF(Input!F57=\"\",\"\",IF(F49=1,Input!F57*1.128,IF(F49=2,Input!F57*0.9,IF(F49=3,Input!F57*1.2,IF(F49=4,Input!F57,IF(F49=5,Input!F57,IF(F49=6,Input!F57*1.333,\"\")))))))","v":""},"",{"$f":"IF('Results PHA'!G47=\"\",\"\",(IF(AND('Results PHA'!G47<=0.2,'Results PHA'!G47>0),0,IF('Results PHA'!G47>=0.4,2,IF(AND('Results PHA'!G47>=0.2,'Results PHA'!G47<=0.4),1,\"\")))))","v":""},null,"",null,"","","",""]
[43,{"$f":"IF(Input!B58=\"\",\"\",Input!B58)","v":""},{"$f":"IF(Input!C58=\"\",\"\",Input!C58)","v":""},{"$f":"IF(Input!D58=\"No\",0,IF(Input!D58=\"Yes\",2,\"\"))","v":""},null,{"$f":"IF(Input!$D$11=' lists & calculation '!$G$3,1,IF(Input!$D$11=' lists & calculation '!$G$4,2,IF(Input!$D$11=' lists & calculation '!$G$5,3,IF(Input!$D$11=' lists & calculation '!$G$6,4,IF(Input!$D$11=' lists & calculation '!$G$7,5,IF(Input!$D$11=' lists & calculation '!$G$8,6,\"\"))))))","v":""},{"$f":"IF(Input!F58=\"\",\"\",IF(F50=1,Input!F58*1.128,IF(F50=2,Input!F58*0.9,IF(F50=3,Input!F58*1.2,IF(F50=4,Input!F58,IF(F50=5,Input!F58,IF(F50=6,Input!F58*1.333,\"\")))))))","v":""},"",{"$f":"IF('Results PHA'!G48=\"\",\"\",(IF(AND('Results PHA'!G48<=0.2,'Results PHA'!G48>0),0,IF('Results PHA'!G48>=0.4,2,IF(AND('Results PHA'!G48>=0.2,'Results PHA'!G48<=0.4),1,\"\")))))","v":""},null,"",null,"","","",""]
[44,{"$f":"IF(Input!B59=\"\",\"\",Input!B59)","v":""},{"$f":"IF(Input!C59=\"\",\"\",Input!C59)","v":""},{"$f":"IF(Input!D59=\"No\",0,IF(Input!D59=\"Yes\",2,\"\"))","v":""},null,{"$f":"IF(Input!$D$11=' lists & calculation '!$G$3,1,IF(Input!$D$11=' lists & calculation '!$G$4,2,IF(Input!$D$11=' lists & calculation '!$G$5,3,IF(Input!$D$11=' lists & calculation '!$G$6,4,IF(Input!$D$11=' lists & calculation '!$G$7,5,IF(Input!$D$11=' lists & calculation '!$G$8,6,\"\"))))))","v":""},{"$f":"IF(Input!F59=\"\",\"\",IF(F51=1,Input!F59*1.128,IF(F51=2,Input!F59*0.9,IF(F51=3,Input!F59*1.2,IF(F51=4,Input!F59,IF(F51=5,Input!F59,IF(F51=6,Input!F59*1.333,\"\")))))))","v":""},"",{"$f":"IF('Results PHA'!G49=\"\",\"\",(IF(AND('Results PHA'!G49<=0.2,'Results PHA'!G49>0),0,IF('Results PHA'!G49>=0.4,2,IF(AND('Results PHA'!G49>=0.2,'Results PHA'!G49<=0.4),1,\"\")))))","v":""},null,"",null,"","","",""]
[45,{"$f":"IF(Input!B60=\"\",\"\",Input!B60)","v":""},{"$f":"IF(Input!C60=\"\",\"\",Input!C60)","v":""},{"$f":"IF(Input!D60=\"No\",0,IF(Input!D60=\"Yes\",2,\"\"))","v":""},null,{"$f":"IF(Input!$D$11=' lists & calculation '!$G$3,1,IF(Input!$D$11=' lists & calculation '!$G$4,2,IF(Input!$D$11=' lists & calculation '!$G$5,3,IF(Input!$D$11=' lists & calculation '!$G$6,4,IF(Input!$D$11=' lists & calculation '!$G$7,5,IF(Input!$D$11=' lists & calculation '!$G$8,6,\"\"))))))","v":""},{"$f":"IF(Input!F60=\"\",\"\",IF(F52=1,Input!F60*1.128,IF(F52=2,Input!F60*0.9,IF(F52=3,Input!F60*1.2,IF(F52=4,Input!F60,IF(F52=5,Input!F60,IF(F52=6,Input!F60*1.333,\"\")))))))","v":""},"",{"$f":"IF('Results PHA'!G50=\"\",\"\",(IF(AND('Results PHA'!G50<=0.2,'Results PHA'!G50>0),0,IF('Results PHA'!G50>=0.4,2,IF(AND('Results PHA'!G50>=0.2,'Results PHA'!G50<=0.4),1,\"\")))))","v":""},null,"",null,"","","",""]
[46,{"$f":"IF(Input!B61=\"\",\"\",Input!B61)","v":""},{"$f":"IF(Input!C61=\"\",\"\",Input!C61)","v":""},{"$f":"IF(Input!D61=\"No\",0,IF(Input!D61=\"Yes\",2,\"\"))","v":""},null,{"$f":"IF(Input!$D$11=' lists & calculation '!$G$3,1,IF(Input!$D$11=' lists & calculation '!$G$4,2,IF(Input!$D$11=' lists & calculation '!$G$5,3,IF(Input!$D$11=' lists & calculation '!$G$6,4,IF(Input!$D$11=' lists & calculation '!$G$7,5,IF(Input!$D$11=' lists & calculation '!$G$8,6,\"\"))))))","v":""},{"$f":"IF(Input!F61=\"\",\"\",IF(F53=1,Input!F61*1.128,IF(F53=2,Input!F61*0.9,IF(F53=3,Input!F61*1.2,IF(F53=4,Input!F61,IF(F53=5,Input!F61,IF(F53=6,Input!F61*1.333,\"\")))))))","v":""},"",{"$f":"IF('Results PHA'!G51=\"\",\"\",(IF(AND('Results PHA'!G51<=0.2,'Results PHA'!G51>0),0,IF('Results PHA'!G51>=0.4,2,IF(AND('Results PHA'!G51>=0.2,'Results PHA'!G51<=0.4),1,\"\")))))","v":""},null,"",null,"","","",""]
[47,{"$f":"IF(Input!B62=\"\",\"\",Input!B62)","v":""},{"$f":"IF(Input!C62=\"\",\"\",Input!C62)","v":""},{"$f":"IF(Input!D62=\"No\",0,IF(Input!D62=\"Yes\",2,\"\"))","v":""},null,{"$f":"IF(Input!$D$11=' lists & calculation '!$G$3,1,IF(Input!$D$11=' lists & calculation '!$G$4,2,IF(Input!$D$11=' lists & calculation '!$G$5,3,IF(Input!$D$11=' lists & calculation '!$G$6,4,IF(Input!$D$11=' lists & calculation '!$G$7,5,IF(Input!$D$11=' lists & calculation '!$G$8,6,\"\"))))))","v":""},{"$f":"IF(Input!F62=\"\",\"\",IF(F54=1,Input!F62*1.128,IF(F54=2,Input!F62*0.9,IF(F54=3,Input!F62*1.2,IF(F54=4,Input!F62,IF(F54=5,Input!F62,IF(F54=6,Input!F62*1.333,\"\")))))))","v":""},"",{"$f":"IF('Results PHA'!G52=\"\",\"\",(IF(AND('Results PHA'!G52<=0.2,'Results PHA'!G52>0),0,IF('Results PHA'!G52>=0.4,2,IF(AND('Results PHA'!G52>=0.2,'Results PHA'!G52<=0.4),1,\"\")))))","v":""},null,"",null,"","","",""]
[48,{"$f":"IF(Input!B63=\"\",\"\",Input!B63)","v":""},{"$f":"IF(Input!C63=\"\",\"\",Input!C63)","v":""},{"$f":"IF(Input!D63=\"No\",0,IF(Input!D63=\"Yes\",2,\"\"))","v":""},null,{"$f":"IF(Input!$D$11=' lists & calculation '!$G$3,1,IF(Input!$D$11=' lists & calculation '!$G$4,2,IF(Input!$D$11=' lists & calculation '!$G$5,3,IF(Input!$D$11=' lists & calculation '!$G$6,4,IF(Input!$D$11=' lists & calculation '!$G$7,5,IF(Input!$D$11=' lists & calculation '!$G$8,6,\"\"))))))","v":""},{"$f":"IF(Input!F63=\"\",\"\",IF(F55=1,Input!F63*1.128,IF(F55=2,Input!F63*0.9,IF(F55=3,Input!F63*1.2,IF(F55=4,Input!F63,IF(F55=5,Input!F63,IF(F55=6,Input!F63*1.333,\"\")))))))","v":""},"",{"$f":"IF('Results PHA'!G53=\"\",\"\",(IF(AND('Results PHA'!G53<=0.2,'Results PHA'!G53>0),0,IF('Results PHA'!G53>=0.4,2,IF(AND('Results PHA'!G53>=0.2,'Results PHA'!G53<=0.4),1,\"\")))))","v":""},null,"",null,"","","",""]
[49,{"$f":"IF(Input!B64=\"\",\"\",Input!B64)","v":""},{"$f":"IF(Input!C64=\"\",\"\",Input!C64)","v":""},{"$f":"IF(Input!D64=\"No\",0,IF(Input!D64=\"Yes\",2,\"\"))","v":""},null,{"$f":"IF(Input!$D$11=' lists & calculation '!$G$3,1,IF(Input!$D$11=' lists & calculation '!$G$4,2,IF(Input!$D$11=' lists & calculation '!$G$5,3,IF(Input!$D$11=' lists & calculation '!$G$6,4,IF(Input!$D$11=' lists & calculation '!$G$7,5,IF(Input!$D$11=' lists & calculation '!$G$8,6,\"\"))))))","v":""},{"$f":"IF(Input!F64=\"\",\"\",IF(F56=1,Input!F64*1.128,IF(F56=2,Input!F64*0.9,IF(F56=3,Input!F64*1.2,IF(F56=4,Input!F64,IF(F56=5,Input!F64,IF(F56=6,Input!F64*1.333,\"\")))))))","v":""},"",{"$f":"IF('Results PHA'!G54=\"\",\"\",(IF(AND('Results PHA'!G54<=0.2,'Results PHA'!G54>0),0,IF('Results PHA'!G54>=0.4,2,IF(AND('Results PHA'!G54>=0.2,'Results PHA'!G54<=0.4),1,\"\")))))","v":""},null,"",null,"","","",""]
[50,{"$f":"IF(Input!B65=\"\",\"\",Input!B65)","v":""},{"$f":"IF(Input!C65=\"\",\"\",Input!C65)","v":""},{"$f":"IF(Input!D65=\"No\",0,IF(Input!D65=\"Yes\",2,\"\"))","v":""},null,{"$f":"IF(Input!$D$11=' lists & calculation '!$G$3,1,IF(Input!$D$11=' lists & calculation '!$G$4,2,IF(Input!$D$11=' lists & calculation '!$G$5,3,IF(Input!$D$11=' lists & calculation '!$G$6,4,IF(Input!$D$11=' lists & calculation '!$G$7,5,IF(Input!$D$11=' lists & calculation '!$G$8,6,\"\"))))))","v":""},{"$f":"IF(Input!F65=\"\",\"\",IF(F57=1,Input!F65*1.128,IF(F57=2,Input!F65*0.9,IF(F57=3,Input!F65*1.2,IF(F57=4,Input!F65,IF(F57=5,Input!F65,IF(F57=6,Input!F65*1.333,\"\")))))))","v":""},"",{"$f":"IF('Results PHA'!G55=\"\",\"\",(IF(AND('Results PHA'!G55<=0.2,'Results PHA'!G55>0),0,IF('Results PHA'!G55>=0.4,2,IF(AND('Results PHA'!G55>=0.2,'Results PHA'!G55<=0.4),1,\"\")))))","v":""},null,"",null,"","","",""]

{"sheet":"factsheet PHA","index":6,"n_rows":30,"n_cols":3,"rows_kept":30,"cut":false,"hidden":false,"merged":[[45,7,45,8],[46,7,46,8],[47,7,47,8],[31,6,31,8],[40,6,40,8],[38,7,38,8],[41,7,41,8],[42,7,42,8],[43,7,43,8],[44,7,44,8],[33,7,33,8],[34,7,34,8],[35,7,35,8],[36,7,36,8],[37,7,37,8],[8,1,8,3],[13,1,13,3],[17,1,17,3],[21,1,21,3],[32,7,32,8],[20,1,20,2],[25,1,25,2],[27,1,27,2]]}
[null,"MICROBIAL PRODUCTION OF PHA FROM PRIMARY SLUDGE"]
[]
[null,"Possible effects on other processes of sewage treatment plant"]
[]
[null,null,"implementation of microbial PHA production has no impact on this process"]
[null,null,"implementation of microbial PHA production POSSIBLY has an effect on this process"]
[null,null,"implementation of microbial PHA production has an effect on this process"]
[]
[null,"Nutrient and/or organic carbon removal"]
[null,"Aerobic secondary treatment"]
[null,"Anammox"]
[null,"Nereda"]
[null,"Coagulation / flocculation"]
[null,"Energy production"]
[null,"Anaerobic digestion of primary & secondary sludge to methane"]
[null,"Heat or electricity from cellulose"]
[null,"Gasification of sewage sludge to syngas"]
[null,"Nutrient recovery"]
[null,"Struvite  from waste water (Anphos)"]
[null,"Phosphorus from sewage sludge (EuPhore, TetraPhos, PULSE, Struvia, RecoPhos, Airprex, Pearl)"]
[null,"Phosphorus from sewage water (FiltraPHOS)"]
[null,"Other recovery processes"]
[null,"Lemna growth (eg. to feed or protein)"]
[null,"(micro) Algae growth (eg. to feed or protein)"]
[null,"Pyrolysis of cellulose to produce oil, (bio)char & acetic acid"]
[null,"Kaumera (biopolymer from Nereda process)"]
[null,"Lipid production for bio-oil"]
[null,"Direct use of sludge as fertilizer (ROUTES)"]
[]
[null,"Additional information on technique"]

{"sheet":"Results Lipids for Bio-diesel","index":7,"n_rows":55,"n_cols":12,"rows_kept":55,"cut":false,"hidden":false,"merged":[[27,11,27,28],[28,11,28,28],[25,10,26,10],[23,11,23,28],[24,11,24,28],[25,11,25,28],[26,11,26,28]]}
[]
[null,"DECISION SUPPORT TOOL - RESULTS LIPIDS FOR BIO-DIESEL"]
[]
[null,"Name Sewage Treatment Plant","Location","Primary treatment","Percentage sewage from households","Amount of \nPopulation Equivalents","BOD/COD","COD","OVERALL"]
[null,null,null,"yes/no","%","PE","--","mg/l"]
[1,{"$f":"IF(Input!B16=\"\",\"\",Input!B16)","v":""},{"$f":"IF(Input!C16=\"\",\"\",Input!C16)","v":""},null,null,{"$f":"IF(Input!F16=\"\",\"\",Input!F16)","v":""},{"$f":"IF(AND(Input!G16=\"\",Input!H16=\"\"),\"\",(IF(Input!H16=\"\",Input!$D$12,(IF(Input!G16=\"\",Input!$D$12,(Input!G16/Input!H16))))))","v":""},{"$f":"IF(Input!H16=\"\",\"\",Input!H16)","v":""}]
[2,{"$f":"IF(Input!B17=\"\",\"\",Input!B17)","v":""},{"$f":"IF(Input!C17=\"\",\"\",Input!C17)","v":""},null,null,{"$f":"IF(Input!F17=\"\",\"\",Input!F17)","v":""},{"$f":"IF(AND(Input!G17=\"\",Input!H17=\"\"),\"\",(IF(Input!H17=\"\",Input!$D$12,(IF(Input!G17=\"\",Input!$D$12,(Input!G17/Input!H17))))))","v":""},{"$f":"IF(Input!H17=\"\",\"\",Input!H17)","v":""}]
[3,{"$f":"IF(Input!B18=\"\",\"\",Input!B18)","v":""},{"$f":"IF(Input!C18=\"\",\"\",Input!C18)","v":""},null,null,{"$f":"IF(Input!F18=\"\",\"\",Input!F18)","v":""},{"$f":"IF(AND(Input!G18=\"\",Input!H18=\"\"),\"\",(IF(Input!H18=\"\",Input!$D$12,(IF(Input!G18=\"\",Input!$D$12,(Input!G18/Input!H18))))))","v":""},{"$f":"IF(Input!H18=\"\",\"\",Input!H18)","v":""}]
[4,{"$f":"IF(Input!B19=\"\",\"\",Input!B19)","v":""},{"$f":"IF(Input!C19=\"\",\"\",Input!C19)","v":""},null,null,{"$f":"IF(Input!F19=\"\",\"\",Input!F19)","v":""},{"$f":"IF(AND(Input!G19=\"\",Input!H19=\"\"),\"\",(IF(Input!H19=\"\",Input!$D$12,(IF(Input!G19=\"\",Input!$D$12,(Input!G19/Input!H19))))))","v":""},{"$f":"IF(Input!H19=\"\",\"\",Input!H19)","v":""}]
[5,{"$f":"IF(Input!B20=\"\",\"\",Input!B20)","v":""},{"$f":"IF(Input!C20=\"\",\"\",Input!C20)","v":""},null,null,{"$f":"IF(Input!F20=\"\",\"\",Input!F20)","v":""},{"$f":"IF(AND(Input!G20=\"\",Input!H20=\"\"),\"\",(IF(Input!H20=\"\",Input!$D$12,(IF(Input!G20=\"\",Input!$D$12,(Input!G20/Input!H20))))))","v":""},{"$f":"IF(Input!H20=\"\",\"\",Input!H20)","v":""}]
[6,{"$f":"IF(Input!B21=\"\",\"\",Input!B21)","v":""},{"$f":"IF(Input!C21=\"\",\"\",Input!C21)","v":""},null,null,{"$f":"IF(Input!F21=\"\",\"\",Input!F21)","v":""},{"$f":"IF(AND(Input!G21=\"\",Input!H21=\"\"),\"\",(IF(Input!H21=\"\",Input!$D$12,(IF(Input!G21=\"\",Input!$D$12,(Input!G21/Input!H21))))))","v":""},{"$f":"IF(Input!H21=\"\",\"\",Input!H21)","v":""}]
[7,{"$f":"IF(Input!B22=\"\",\"\",Input!B22)","v":""},{"$f":"IF(Input!C22=\"\",\"\",Input!C22)","v":""},null,null,{"$f":"IF(Input!F22=\"\",\"\",Input!F22)","v":""},{"$f":"IF(AND(Input!G22=\"\",Input!H22=\"\"),\"\",(IF(Input!H22=\"\",Input!$D$12,(IF(Input!G22=\"\",Input!$D$12,(Input!G22/Input!H22))))))","v":""},{"$f":"IF(Input!H22=\"\",\"\",Input!H22)","v":""}]
[8,{"$f":"IF(Input!B23=\"\",\"\",Input!B23)","v":""},{"$f":"IF(Input!C23=\"\",\"\",Input!C23)","v":""},null,null,{"$f":"IF(Input!F23=\"\",\"\",Input!F23)","v":""},{"$f":"IF(AND(Input!G23=\"\",Input!H23=\"\"),\"\",(IF(Input!H23=\"\",Input!$D$12,(IF(Input!G23=\"\",Input!$D$12,(Input!G23/Input!H23))))))","v":""},{"$f":"IF(Input!H23=\"\",\"\",Input!H23)","v":""}]
[9,{"$f":"IF(Input!B24=\"\",\"\",Input!B24)","v":""},{"$f":"IF(Input!C24=\"\",\"\",Input!C24)","v":""},null,null,{"$f":"IF(Input!F24=\"\",\"\",Input!F24)","v":""},{"$f":"IF(AND(Input!G24=\"\",Input!H24=\"\"),\"\",(IF(Input!H24=\"\",Input!$D$12,(IF(Input!G24=\"\",Input!$D$12,(Input!G24/Input!H24))))))","v":""},{"$f":"IF(Input!H24=\"\",\"\",Input!H24)","v":""}]
[10,{"$f":"IF(Input!B25=\"\",\"\",Input!B25)","v":""},{"$f":"IF(Input!C25=\"\",\"\",Input!C25)","v":""},null,null,{"$f":"IF(Input!F25=\"\",\"\",Input!F25)","v":""},{"$f":"IF(AND(Input!G25=\"\",Input!H25=\"\"),\"\",(IF(Input!H25=\"\",Input!$D$12,(IF(Input!G25=\"\",Input!$D$12,(Input!G25/Input!H25))))))","v":""},{"$f":"IF(Input!H25=\"\",\"\",Input!H25)","v":""}]
[11,{"$f":"IF(Input!B26=\"\",\"\",Input!B26)","v":""},{"$f":"IF(Input!C26=\"\",\"\",Input!C26)","v":""},null,null,{"$f":"IF(Input!F26=\"\",\"\",Input!F26)","v":""},{"$f":"IF(AND(Input!G26=\"\",Input!H26=\"\"),\"\",(IF(Input!H26=\"\",Input!$D$12,(IF(Input!G26=\"\",Input!$D$12,(Input!G26/Input!H26))))))","v":""},{"$f":"IF(Input!H26=\"\",\"\",Input!H26)","v":""}]
[12,{"$f":"IF(Input!B27=\"\",\"\",Input!B27)","v":""},{"$f":"IF(Input!C27=\"\",\"\",Input!C27)","v":""},null,null,{"$f":"IF(Input!F27=\"\",\"\",Input!F27)","v":""},{"$f":"IF(AND(Input!G27=\"\",Input!H27=\"\"),\"\",(IF(Input!H27=\"\",Input!$D$12,(IF(Input!G27=\"\",Input!$D$12,(Input!G27/Input!H27))))))","v":""},{"$f":"IF(Input!H27=\"\",\"\",Input!H27)","v":""}]
[13,{"$f":"IF(Input!B28=\"\",\"\",Input!B28)","v":""},{"$f":"IF(Input!C28=\"\",\"\",Input!C28)","v":""},null,null,{"$f":"IF(Input!F28=\"\",\"\",Input!F28)","v":""},{"$f":"IF(AND(Input!G28=\"\",Input!H28=\"\"),\"\",(IF(Input!H28=\"\",Input!$D$12,(IF(Input!G28=\"\",Input!$D$12,(Input!G28/Input!H28))))))","v":""},{"$f":"IF(Input!H28=\"\",\"\",Input!H28)","v":""}]
[14,{"$f":"IF(Input!B29=\"\",\"\",Input!B29)","v":""},{"$f":"IF(Input!C29=\"\",\"\",Input!C29)","v":""},null,null,{"$f":"IF(Input!F29=\"\",\"\",Input!F29)","v":""},{"$f":"IF(AND(Input!G29=\"\",Input!H29=\"\"),\"\",(IF(Input!H29=\"\",Input!$D$12,(IF(Input!G29=\"\",Input!$D$12,(Input!G29/Input!H29))))))","v":""},{"$f":"IF(Input!H29=\"\",\"\",Input!H29)","v":""}]
[15,{"$f":"IF(Input!B30=\"\",\"\",Input!B30)","v":""},{"$f":"IF(Input!C30=\"\",\"\",Input!C30)","v":""},null,null,{"$f":"IF(Input!F30=\"\",\"\",Input!F30)","v":""},{"$f":"IF(AND(Input!G30=\"\",Input!H30=\"\"),\"\",(IF(Input!H30=\"\",Input!$D$12,(IF(Input!G30=\"\",Input!$D$12,(Input!G30/Input!H30))))))","v":""},{"$f":"IF(Input!H30=\"\",\"\",Input!H30)","v":""}]
[16,{"$f":"IF(Input!B31=\"\",\"\",Input!B31)","v":""},{"$f":"IF(Input!C31=\"\",\"\",Input!C31)","v":""},null,null,{"$f":"IF(Input!F31=\"\",\"\",Input!F31)","v":""},{"$f":"IF(AND(Input!G31=\"\",Input!H31=\"\"),\"\",(IF(Input!H31=\"\",Input!$D$12,(IF(Input!G31=\"\",Input!$D$12,(Input!G31/Input!H31))))))","v":""},{"$f":"IF(Input!H31=\"\",\"\",Input!H31)","v":""}]
[17,{"$f":"IF(Input!B32=\"\",\"\",Input!B32)","v":""},{"$f":"IF(Input!C32=\"\",\"\",Input!C32)","v":""},null,null,{"$f":"IF(Input!F32=\"\",\"\",Input!F32)","v":""},{"$f":"IF(AND(Input!G32=\"\",Input!H32=\"\"),\"\",(IF(Input!H32=\"\",Input!$D$12,(IF(Input!G32=\"\",Input!$D$12,(Input!G32/Input!H32))))))","v":""},{"$f":"IF(Input!H32=\"\",\"\",Input!H32)","v":""}]
[18,{"$f":"IF(Input!B33=\"\",\"\",Input!B33)","v":""},{"$f":"IF(Input!C33=\"\",\"\",Input!C33)","v":""},null,null,{"$f":"IF(Input!F33=\"\",\"\",Input!F33)","v":""},{"$f":"IF(AND(Input!G33=\"\",Input!H33=\"\"),\"\",(IF(Input!H33=\"\",Input!$D$12,(IF(Input!G33=\"\",Input!$D$12,(Input!G33/Input!H33))))))","v":""},{"$f":"IF(Input!H33=\"\",\"\",Input!H33)","v":""}]
[19,{"$f":"IF(Input!B34=\"\",\"\",Input!B34)","v":""},{"$f":"IF(Input!C34=\"\",\"\",Input!C34)","v":""},null,null,{"$f":"IF(Input!F34=\"\",\"\",Input!F34)","v":""},{"$f":"IF(AND(Input!G34=\"\",Input!H34=\"\"),\"\",(IF(Input!H34=\"\",Input!$D$12,(IF(Input!G34=\"\",Input!$D$12,(Input!G34/Input!H34))))))","v":""},{"$f":"IF(Input!H34=\"\",\"\",Input!H34)","v":""},null,null,null,"Input of information indicates that the input stream of the sewage treatment plant is promising for this technique"]
[20,{"$f":"IF(Input!B35=\"\",\"\",Input!B35)","v":""},{"$f":"IF(Input!C35=\"\",\"\",Input!C35)","v":""},null,null,{"$f":"IF(Input!F35=\"\",\"\",Input!F35)","v":""},{"$f":"IF(AND(Input!G35=\"\",Input!H35=\"\"),\"\",(IF(Input!H35=\"\",Input!$D$12,(IF(Input!G35=\"\",Input!$D$12,(Input!G35/Input!H35))))))","v":""},{"$f":"IF(Input!H35=\"\",\"\",Input!H35)","v":""},null,null,null,"Based on the given input it is not yet clear if the input stream of the sewage treatment plant is suitable for this technique.  A more detailed consideration is needed."]
[21,{"$f":"IF(Input!B36=\"\",\"\",Input!B36)","v":""},{"$f":"IF(Input!C36=\"\",\"\",Input!C36)","v":""},null,null,{"$f":"IF(Input!F36=\"\",\"\",Input!F36)","v":""},{"$f":"IF(AND(Input!G36=\"\",Input!H36=\"\"),\"\",(IF(Input!H36=\"\",Input!$D$12,(IF(Input!G36=\"\",Input!$D$12,(Input!G36/Input!H36))))))","v":""},{"$f":"IF(Input!H36=\"\",\"\",Input!H36)","v":""},null,null,null,"The composition of the input stream of the sewage treatment plant indicates that implementation of this technique at this sewage treatment plant only is probably NOT feasible."]
[22,{"$f":"IF(Input!B37=\"\",\"\",Input!B37)","v":""},{"$f":"IF(Input!C37=\"\",\"\",Input!C37)","v":""},null,null,{"$f":"IF(Input!F37=\"\",\"\",Input!F37)","v":""},{"$f":"IF(AND(Input!G37=\"\",Input!H37=\"\"),\"\",(IF(Input!H37=\"\",Input!$D$12,(IF(Input!G37=\"\",Input!$D$12,(Input!G37/Input!H37))))))","v":""},{"$f":"IF(Input!H37=\"\",\"\",Input!H37)","v":""},null,null,null,"(NOTE: other aspects such as combined implementation of the technique at several STPs or desire to reduce organic load of STP could make technique feasible, see factsheets for more information)"]
[23,{"$f":"IF(Input!B38=\"\",\"\",Input!B38)","v":""},{"$f":"IF(Input!C38=\"\",\"\",Input!C38)","v":""},null,null,{"$f":"IF(Input!F38=\"\",\"\",Input!F38)","v":""},{"$f":"IF(AND(Input!G38=\"\",Input!H38=\"\"),\"\",(IF(Input!H38=\"\",Input!$D$12,(IF(Input!G38=\"\",Input!$D$12,(Input!G38/Input!H38))))))","v":""},{"$f":"IF(Input!H38=\"\",\"\",Input!H38)","v":""},null,null,null,"Not all necessary input parameters are filled in in the 'Input' tab. The result cannot be determined."]
[24,{"$f":"IF(Input!B39=\"\",\"\",Input!B39)","v":""},{"$f":"IF(Input!C39=\"\",\"\",Input!C39)","v":""},null,null,{"$f":"IF(Input!F39=\"\",\"\",Input!F39)","v":""},{"$f":"IF(AND(Input!G39=\"\",Input!H39=\"\"),\"\",(IF(Input!H39=\"\",Input!$D$12,(IF(Input!G39=\"\",Input!$D$12,(Input!G39/Input!H39))))))","v":""},{"$f":"IF(Input!H39=\"\",\"\",Input!H39)","v":""},null,null,null,"Parameter not relevant for this application, see manual for an explanation"]
[25,{"$f":"IF(Input!B40=\"\",\"\",Input!B40)","v":""},{"$f":"IF(Input!C40=\"\",\"\",Input!C40)","v":""},null,null,{"$f":"IF(Input!F40=\"\",\"\",Input!F40)","v":""},{"$f":"IF(AND(Input!G40=\"\",Input!H40=\"\"),\"\",(IF(Input!H40=\"\",Input!$D$12,(IF(Input!G40=\"\",Input!$D$12,(Input!G40/Input!H40))))))","v":""},{"$f":"IF(Input!H40=\"\",\"\",Input!H40)","v":""}]
[26,{"$f":"IF(Input!B41=\"\",\"\",Input!B41)","v":""},{"$f":"IF(Input!C41=\"\",\"\",Input!C41)","v":""},null,null,{"$f":"IF(Input!F41=\"\",\"\",Input!F41)","v":""},{"$f":"IF(AND(Input!G41=\"\",Input!H41=\"\"),\"\",(IF(Input!H41=\"\",Input!$D$12,(IF(Input!G41=\"\",Input!$D$12,(Input!G41/Input!H41))))))","v":""},{"$f":"IF(Input!H41=\"\",\"\",Input!H41)","v":""}]
[27,{"$f":"IF(Input!B42=\"\",\"\",Input!B42)","v":""},{"$f":"IF(Input!C42=\"\",\"\",Input!C42)","v":""},null,null,{"$f":"IF(Input!F42=\"\",\"\",Input!F42)","v":""},{"$f":"IF(AND(Input!G42=\"\",Input!H42=\"\"),\"\",(IF(Input!H42=\"\",Input!$D$12,(IF(Input!G42=\"\",Input!$D$12,(Input!G42/Input!H42))))))","v":""},{"$f":"IF(Input!H42=\"\",\"\",Input!H42)","v":""}]
[28,{"$f":"IF(Input!B43=\"\",\"\",Input!B43)","v":""},{"$f":"IF(Input!C43=\"\",\"\",Input!C43)","v":""},null,null,{"$f":"IF(Input!F43=\"\",\"\",Input!F43)","v":""},{"$f":"IF(AND(Input!G43=\"\",Input!H43=\"\"),\"\",(IF(Input!H43=\"\",Input!$D$12,(IF(Input!G43=\"\",Input!$D$12,(Input!G43/Input!H43))))))","v":""},{"$f":"IF(Input!H43=\"\",\"\",Input!H43)","v":""}]
[29,{"$f":"IF(Input!B44=\"\",\"\",Input!B44)","v":""},{"$f":"IF(Input!C44=\"\",\"\",Input!C44)","v":""},null,null,{"$f":"IF(Input!F44=\"\",\"\",Input!F44)","v":""},{"$f":"IF(AND(Input!G44=\"\",Input!H44=\"\"),\"\",(IF(Input!H44=\"\",Input!$D$12,(IF(Input!G44=\"\",Input!$D$12,(Input!G44/Input!H44))))))","v":""},{"$f":"IF(Input!H44=\"\",\"\",Input!H44)","v":""}]
[30,{"$f":"IF(Input!B45=\"\",\"\",Input!B45)","v":""},{"$f":"IF(Input!C45=\"\",\"\",Input!C45)","v":""},null,null,{"$f":"IF(Input!F45=\"\",\"\",Input!F45)","v":""},{"$f":"IF(AND(Input!G45=\"\",Input!H45=\"\"),\"\",(IF(Input!H45=\"\",Input!$D$12,(IF(Input!G45=\"\",Input!$D$12,(Input!G45/Input!H45))))))","v":""},{"$f":"IF(Input!H45=\"\",\"\",Input!H45)","v":""}]
[31,{"$f":"IF(Input!B46=\"\",\"\",Input!B46)","v":""},{"$f":"IF(Input!C46=\"\",\"\",Input!C46)","v":""},null,null,{"$f":"IF(Input!F46=\"\",\"\",Input!F46)","v":""},{"$f":"IF(AND(Input!G46=\"\",Input!H46=\"\"),\"\",(IF(Input!H46=\"\",Input!$D$12,(IF(Input!G46=\"\",Input!$D$12,(Input!G46/Input!H46))))))","v":""},{"$f":"IF(Input!H46=\"\",\"\",Input!H46)","v":""}]
[32,{"$f":"IF(Input!B47=\"\",\"\",Input!B47)","v":""},{"$f":"IF(Input!C47=\"\",\"\",Input!C47)","v":""},null,null,{"$f":"IF(Input!F47=\"\",\"\",Input!F47)","v":""},{"$f":"IF(AND(Input!G47=\"\",Input!H47=\"\"),\"\",(IF(Input!H47=\"\",Input!$D$12,(IF(Input!G47=\"\",Input!$D$12,(Input!G47/Input!H47))))))","v":""},{"$f":"IF(Input!H47=\"\",\"\",Input!H47)","v":""}]
[33,{"$f":"IF(Input!B48=\"\",\"\",Input!B48)","v":""},{"$f":"IF(Input!C48=\"\",\"\",Input!C48)","v":""},null,null,{"$f":"IF(Input!F48=\"\",\"\",Input!F48)","v":""},{"$f":"IF(AND(Input!G48=\"\",Input!H48=\"\"),\"\",(IF(Input!H48=\"\",Input!$D$12,(IF(Input!G48=\"\",Input!$D$12,(Input!G48/Input!H48))))))","v":""},{"$f":"IF(Input!H48=\"\",\"\",Input!H48)","v":""}]
[34,{"$f":"IF(Input!B49=\"\",\"\",Input!B49)","v":""},{"$f":"IF(Input!C49=\"\",\"\",Input!C49)","v":""},null,null,{"$f":"IF(Input!F49=\"\",\"\",Input!F49)","v":""},{"$f":"IF(AND(Input!G49=\"\",Input!H49=\"\"),\"\",(IF(Input!H49=\"\",Input!$D$12,(IF(Input!G49=\"\",Input!$D$12,(Input!G49/Input!H49))))))","v":""},{"$f":"IF(Input!H49=\"\",\"\",Input!H49)","v":""}]
[35,{"$f":"IF(Input!B50=\"\",\"\",Input!B50)","v":""},{"$f":"IF(Input!C50=\"\",\"\",Input!C50)","v":""},null,null,{"$f":"IF(Input!F50=\"\",\"\",Input!F50)","v":""},{"$f":"IF(AND(Input!G50=\"\",Input!H50=\"\"),\"\",(IF(Input!H50=\"\",Input!$D$12,(IF(Input!G50=\"\",Input!$D$12,(Input!G50/Input!H50))))))","v":""},{"$f":"IF(Input!H50=\"\",\"\",Input!H50)","v":""}]
[36,{"$f":"IF(Input!B51=\"\",\"\",Input!B51)","v":""},{"$f":"IF(Input!C51=\"\",\"\",Input!C51)","v":""},null,null,{"$f":"IF(Input!F51=\"\",\"\",Input!F51)","v":""},{"$f":"IF(AND(Input!G51=\"\",Input!H51=\"\"),\"\",(IF(Input!H51=\"\",Input!$D$12,(IF(Input!G51=\"\",Input!$D$12,(Input!G51/Input!H51))))))","v":""},{"$f":"IF(Input!H51=\"\",\"\",Input!H51)","v":""}]
[37,{"$f":"IF(Input!B52=\"\",\"\",Input!B52)","v":""},{"$f":"IF(Input!C52=\"\",\"\",Input!C52)","v":""},null,null,{"$f":"IF(Input!F52=\"\",\"\",Input!F52)","v":""},{"$f":"IF(AND(Input!G52=\"\",Input!H52=\"\"),\"\",(IF(Input!H52=\"\",Input!$D$12,(IF(Input!G52=\"\",Input!$D$12,(Input!G52/Input!H52))))))","v":""},{"$f":"IF(Input!H52=\"\",\"\",Input!H52)","v":""}]
[38,{"$f":"IF(Input!B53=\"\",\"\",Input!B53)","v":""},{"$f":"IF(Input!C53=\"\",\"\",Input!C53)","v":""},null,null,{"$f":"IF(Input!F53=\"\",\"\",Input!F53)","v":""},{"$f":"IF(AND(Input!G53=\"\",Input!H53=\"\"),\"\",(IF(Input!H53=\"\",Input!$D$12,(IF(Input!G53=\"\",Input!$D$12,(Input!G53/Input!H53))))))","v":""},{"$f":"IF(Input!H53=\"\",\"\",Input!H53)","v":""}]
[39,{"$f":"IF(Input!B54=\"\",\"\",Input!B54)","v":""},{"$f":"IF(Input!C54=\"\",\"\",Input!C54)","v":""},null,null,{"$f":"IF(Input!F54=\"\",\"\",Input!F54)","v":""},{"$f":"IF(AND(Input!G54=\"\",Input!H54=\"\"),\"\",(IF(Input!H54=\"\",Input!$D$12,(IF(Input!G54=\"\",Input!$D$12,(Input!G54/Input!H54))))))","v":""},{"$f":"IF(Input!H54=\"\",\"\",Input!H54)","v":""}]
[40,{"$f":"IF(Input!B55=\"\",\"\",Input!B55)","v":""},{"$f":"IF(Input!C55=\"\",\"\",Input!C55)","v":""},null,null,{"$f":"IF(Input!F55=\"\",\"\",Input!F55)","v":""},{"$f":"IF(AND(Input!G55=\"\",Input!H55=\"\"),\"\",(IF(Input!H55=\"\",Input!$D$12,(IF(Input!G55=\"\",Input!$D$12,(Input!G55/Input!H55))))))","v":""},{"$f":"IF(Input!H55=\"\",\"\",Input!H55)","v":""}]
[41,{"$f":"IF(Input!B56=\"\",\"\",Input!B56)","v":""},{"$f":"IF(Input!C56=\"\",\"\",Input!C56)","v":""},null,null,{"$f":"IF(Input!F56=\"\",\"\",Input!F56)","v":""},{"$f":"IF(AND(Input!G56=\"\",Input!H56=\"\"),\"\",(IF(Input!H56=\"\",Input!$D$12,(IF(Input!G56=\"\",Input!$D$12,(Input!G56/Input!H56))))))","v":""},{"$f":"IF(Input!H56=\"\",\"\",Input!H56)","v":""}]
[42,{"$f":"IF(Input!B57=\"\",\"\",Input!B57)","v":""},{"$f":"IF(Input!C57=\"\",\"\",Input!C57)","v":""},null,null,{"$f":"IF(Input!F57=\"\",\"\",Input!F57)","v":""},{"$f":"IF(AND(Input!G57=\"\",Input!H57=\"\"),\"\",(IF(Input!H57=\"\",Input!$D$12,(IF(Input!G57=\"\",Input!$D$12,(Input!G57/Input!H57))))))","v":""},{"$f":"IF(Input!H57=\"\",\"\",Input!H57)","v":""}]
[43,{"$f":"IF(Input!B58=\"\",\"\",Input!B58)","v":""},{"$f":"IF(Input!C58=\"\",\"\",Input!C58)","v":""},null,null,{"$f":"IF(Input!F58=\"\",\"\",Input!F58)","v":""},{"$f":"IF(AND(Input!G58=\"\",Input!H58=\"\"),\"\",(IF(Input!H58=\"\",Input!$D$12,(IF(Input!G58=\"\",Input!$D$12,(Input!G58/Input!H58))))))","v":""},{"$f":"IF(Input!H58=\"\",\"\",Input!H58)","v":""}]
[44,{"$f":"IF(Input!B59=\"\",\"\",Input!B59)","v":""},{"$f":"IF(Input!C59=\"\",\"\",Input!C59)","v":""},null,null,{"$f":"IF(Input!F59=\"\",\"\",Input!F59)","v":""},{"$f":"IF(AND(Input!G59=\"\",Input!H59=\"\"),\"\",(IF(Input!H59=\"\",Input!$D$12,(IF(Input!G59=\"\",Input!$D$12,(Input!G59/Input!H59))))))","v":""},{"$f":"IF(Input!H59=\"\",\"\",Input!H59)","v":""}]
[45,{"$f":"IF(Input!B60=\"\",\"\",Input!B60)","v":""},{"$f":"IF(Input!C60=\"\",\"\",Input!C60)","v":""},null,null,{"$f":"IF(Input!F60=\"\",\"\",Input!F60)","v":""},{"$f":"IF(AND(Input!G60=\"\",Input!H60=\"\"),\"\",(IF(Input!H60=\"\",Input!$D$12,(IF(Input!G60=\"\",Input!$D$12,(Input!G60/Input!H60))))))","v":""},{"$f":"IF(Input!H60=\"\",\"\",Input!H60)","v":""}]
[46,{"$f":"IF(Input!B61=\"\",\"\",Input!B61)","v":""},{"$f":"IF(Input!C61=\"\",\"\",Input!C61)","v":""},null,null,{"$f":"IF(Input!F61=\"\",\"\",Input!F61)","v":""},{"$f":"IF(AND(Input!G61=\"\",Input!H61=\"\"),\"\",(IF(Input!H61=\"\",Input!$D$12,(IF(Input!G61=\"\",Input!$D$12,(Input!G61/Input!H61))))))","v":""},{"$f":"IF(Input!H61=\"\",\"\",Input!H61)","v":""}]
[47,{"$f":"IF(Input!B62=\"\",\"\",Input!B62)","v":""},{"$f":"IF(Input!C62=\"\",\"\",Input!C62)","v":""},null,null,{"$f":"IF(Input!F62=\"\",\"\",Input!F62)","v":""},{"$f":"IF(AND(Input!G62=\"\",Input!H62=\"\"),\"\",(IF(Input!H62=\"\",Input!$D$12,(IF(Input!G62=\"\",Input!$D$12,(Input!G62/Input!H62))))))","v":""},{"$f":"IF(Input!H62=\"\",\"\",Input!H62)","v":""}]
[48,{"$f":"IF(Input!B63=\"\",\"\",Input!B63)","v":""},{"$f":"IF(Input!C63=\"\",\"\",Input!C63)","v":""},null,null,{"$f":"IF(Input!F63=\"\",\"\",Input!F63)","v":""},{"$f":"IF(AND(Input!G63=\"\",Input!H63=\"\"),\"\",(IF(Input!H63=\"\",Input!$D$12,(IF(Input!G63=\"\",Input!$D$12,(Input!G63/Input!H63))))))","v":""},{"$f":"IF(Input!H63=\"\",\"\",Input!H63)","v":""}]
[49,{"$f":"IF(Input!B64=\"\",\"\",Input!B64)","v":""},{"$f":"IF(Input!C64=\"\",\"\",Input!C64)","v":""},null,null,{"$f":"IF(Input!F64=\"\",\"\",Input!F64)","v":""},{"$f":"IF(AND(Input!G64=\"\",Input!H64=\"\"),\"\",(IF(Input!H64=\"\",Input!$D$12,(IF(Input!G64=\"\",Input!$D$12,(Input!G64/Input!H64))))))","v":""},{"$f":"IF(Input!H64=\"\",\"\",Input!H64)","v":""}]
[50,{"$f":"IF(Input!B65=\"\",\"\",Input!B65)","v":""},{"$f":"IF(Input!C65=\"\",\"\",Input!C65)","v":""},null,null,{"$f":"IF(Input!F65=\"\",\"\",Input!F65)","v":""},{"$f":"IF(AND(Input!G65=\"\",Input!H65=\"\"),\"\",(IF(Input!H65=\"\",Input!$D$12,(IF(Input!G65=\"\",Input!$D$12,(Input!G65/Input!H65))))))","v":""},{"$f":"IF(Input!H65=\"\",\"\",Input!H65)","v":""}]

{"sheet":"calc results lipids","index":8,"n_rows":57,"n_cols":19,"rows_kept":57,"cut":false,"hidden":true,"merged":[]}
[]
[null,"DECISION SUPPORT TOOL - calculation sheet PHA"]
[]
[]
[]
[null,"Name Sewage Treatment Plant","Location","Primary treatment","Percentage sewage from households","calculation PE","calculation PE","Amount of \nPE","BOD/COD","COD","OVERALL",null,"alles groen","min 1 oranje ","min 1 geel ","overall"]
[null,null,null,"yes/no","%",null,null,"PE","--","mg/l"]
[1,{"$f":"IF(Input!B16=\"\",\"\",Input!B16)","v":""},{"$f":"IF(Input!C16=\"\",\"\",Input!C16)","v":""},null,null,{"$f":"IF(Input!$D$11=' lists & calculation '!$G$3,1,IF(Input!$D$11=' lists & calculation '!$G$4,2,IF(Input!$D$11=' lists & calculation '!$G$5,3,IF(Input!$D$11=' lists & calculation '!$G$6,4,IF(Input!$D$11=' lists & calculation '!$G$7,5,IF(Input!$D$11=' lists & calculation '!$G$8,6,\"\"))))))","v":""},{"$f":"IF(Input!F16=\"\",\"\",IF(F8=1,Input!F16*1.128,IF(F8=2,Input!F16*0.9,IF(F8=3,Input!F16*1.2,IF(F8=4,Input!F16,IF(F8=5,Input!F16,IF(F8=6,Input!F16*1.333,\"\")))))))","v":""},{"$f":"IF(G8=\"\", \"\",IF(AND(G8<=20000,G8>0),0,IF(G8>=50000,2,1)))","v":""},{"$f":"IF('Results Lipids for Bio-diesel'!G6=\"\",\"\",(IF(AND('Results Lipids for Bio-diesel'!G6<=0.2,'Results Lipids for Bio-diesel'!G6>0),0,IF('Results Lipids for Bio-diesel'!G6>=0.4,2,IF(AND('Results Lipids for Bio-diesel'!G6>=0.2,'Results Lipids for Bio-diesel'!G6<=0.4),1,\"\")))))","v":""},{"$f":"IF(AND(Input!H16<=450,Input!H16>0),0,IF(Input!H16>=600,2,IF(AND(Input!H16>=450,Input!H16<=599),1,\"\")))","v":""},{"$f":"IF(OR(J8=\"\",H8=\"\",I8=\"\"),\"\",IF(M8=TRUE,2,(IF(O8=TRUE,1,0))))","v":""},null,{"$f":"IF(AND(J8=\"\",H8=\"\",I8=\"\"),\"\",AND(J8=2,H8=2,I8=2))","v":""},{"$f":"IF(AND(J8=\"\",H8=\"\",I8=\"\"),\"\",OR(J8=0,H8=0,I8=0))","v":""},{"$f":"IF(AND(J8=\"\",H8=\"\",I8=\"\"),\"\",OR(J8=1,H8=1,I8=1))","v":""},{"$f":"IF(AND(J8=\"\",H8=\"\",I8=\"\"),\"\",IF(M8=TRUE,2,(IF(O8=TRUE,1,0))))","v":""}]
[2,{"$f":"IF(Input!B17=\"\",\"\",Input!B17)","v":""},{"$f":"IF(Input!C17=\"\",\"\",Input!C17)","v":""},null,null,{"$f":"IF(Input!$D$11=' lists & calculation '!$G$3,1,IF(Input!$D$11=' lists & calculation '!$G$4,2,IF(Input!$D$11=' lists & calculation '!$G$5,3,IF(Input!$D$11=' lists & calculation '!$G$6,4,IF(Input!$D$11=' lists & calculation '!$G$7,5,IF(Input!$D$11=' lists & calculation '!$G$8,6,\"\"))))))","v":""},{"$f":"IF(Input!F17=\"\",\"\",IF(F9=1,Input!F17*1.128,IF(F9=2,Input!F17*0.9,IF(F9=3,Input!F17*1.2,IF(F9=4,Input!F17,IF(F9=5,Input!F17,IF(F9=6,Input!F17*1.333,\"\")))))))","v":""},{"$f":"IF(G9=\"\", \"\",IF(AND(G9<=20000,G9>0),0,IF(G9>=50000,2,1)))","v":""},{"$f":"IF('Results Lipids for Bio-diesel'!G7=\"\",\"\",(IF(AND('Results Lipids for Bio-diesel'!G7<=0.2,'Results Lipids for Bio-diesel'!G7>0),0,IF('Results Lipids for Bio-diesel'!G7>=0.4,2,IF(AND('Results Lipids for Bio-diesel'!G7>=0.2,'Results Lipids for Bio-diesel'!G7<=0.4),1,\"\")))))","v":""},{"$f":"IF(AND(Input!H17<=450,Input!H17>0),0,IF(Input!H17>=600,2,IF(AND(Input!H17>=450,Input!H17<=599),1,\"\")))","v":""},{"$f":"IF(OR(J9=\"\",H9=\"\",I9=\"\"),\"\",IF(M9=TRUE,2,(IF(O9=TRUE,1,0))))","v":""},null,{"$f":"IF(AND(J9=\"\",H9=\"\",I9=\"\"),\"\",AND(J9=2,H9=2,I9=2))","v":""},{"$f":"IF(AND(J9=\"\",H9=\"\",I9=\"\"),\"\",OR(J9=0,H9=0,I9=0))","v":""},{"$f":"IF(AND(J9=\"\",H9=\"\",I9=\"\"),\"\",OR(J9=1,H9=1,I9=1))","v":""},{"$f":"IF(AND(J9=\"\",H9=\"\",I9=\"\"),\"\",IF(M9=TRUE,2,(IF(O9=TRUE,1,0))))","v":""}]
[3,{"$f":"IF(Input!B18=\"\",\"\",Input!B18)","v":""},{"$f":"IF(Input!C18=\"\",\"\",Input!C18)","v":""},null,null,{"$f":"IF(Input!$D$11=' lists & calculation '!$G$3,1,IF(Input!$D$11=' lists & calculation '!$G$4,2,IF(Input!$D$11=' lists & calculation '!$G$5,3,IF(Input!$D$11=' lists & calculation '!$G$6,4,IF(Input!$D$11=' lists & calculation '!$G$7,5,IF(Input!$D$11=' lists & calculation '!$G$8,6,\"\"))))))","v":""},{"$f":"IF(Input!F18=\"\",\"\",IF(F10=1,Input!F18*1.128,IF(F10=2,Input!F18*0.9,IF(F10=3,Input!F18*1.2,IF(F10=4,Input!F18,IF(F10=5,Input!F18,IF(F10=6,Input!F18*1.333,\"\")))))))","v":""},"",{"$f":"IF('Results Lipids for Bio-diesel'!G8=\"\",\"\",(IF(AND('Results Lipids for Bio-diesel'!G8<=0.2,'Results Lipids for Bio-diesel'!G8>0),0,IF('Results Lipids for Bio-diesel'!G8>=0.4,2,IF(AND('Results Lipids for Bio-diesel'!G8>=0.2,'Results Lipids for Bio-diesel'!G8<=0.4),1,\"\")))))","v":""},{"$f":"IF(AND(Input!H18<=450,Input!H18>0),0,IF(Input!H18>=600,2,IF(AND(Input!H18>=450,Input!H18<=599),1,\"\")))","v":""},"",null,"","","",""]
[4,{"$f":"IF(Input!B19=\"\",\"\",Input!B19)","v":""},{"$f":"IF(Input!C19=\"\",\"\",Input!C19)","v":""},null,null,{"$f":"IF(Input!$D$11=' lists & calculation '!$G$3,1,IF(Input!$D$11=' lists & calculation '!$G$4,2,IF(Input!$D$11=' lists & calculation '!$G$5,3,IF(Input!$D$11=' lists & calculation '!$G$6,4,IF(Input!$D$11=' lists & calculation '!$G$7,5,IF(Input!$D$11=' lists & calculation '!$G$8,6,\"\"))))))","v":""},{"$f":"IF(Input!F19=\"\",\"\",IF(F11=1,Input!F19*1.128,IF(F11=2,Input!F19*0.9,IF(F11=3,Input!F19*1.2,IF(F11=4,Input!F19,IF(F11=5,Input!F19,IF(F11=6,Input!F19*1.333,\"\")))))))","v":""},"",{"$f":"IF('Results Lipids for Bio-diesel'!G9=\"\",\"\",(IF(AND('Results Lipids for Bio-diesel'!G9<=0.2,'Results Lipids for Bio-diesel'!G9>0),0,IF('Results Lipids for Bio-diesel'!G9>=0.4,2,IF(AND('Results Lipids for Bio-diesel'!G9>=0.2,'Results Lipids for Bio-diesel'!G9<=0.4),1,\"\")))))","v":""},{"$f":"IF(AND(Input!H19<=450,Input!H19>0),0,IF(Input!H19>=600,2,IF(AND(Input!H19>=450,Input!H19<=599),1,\"\")))","v":""},"",null,"","","",""]
[5,{"$f":"IF(Input!B20=\"\",\"\",Input!B20)","v":""},{"$f":"IF(Input!C20=\"\",\"\",Input!C20)","v":""},null,null,{"$f":"IF(Input!$D$11=' lists & calculation '!$G$3,1,IF(Input!$D$11=' lists & calculation '!$G$4,2,IF(Input!$D$11=' lists & calculation '!$G$5,3,IF(Input!$D$11=' lists & calculation '!$G$6,4,IF(Input!$D$11=' lists & calculation '!$G$7,5,IF(Input!$D$11=' lists & calculation '!$G$8,6,\"\"))))))","v":""},{"$f":"IF(Input!F20=\"\",\"\",IF(F12=1,Input!F20*1.128,IF(F12=2,Input!F20*0.9,IF(F12=3,Input!F20*1.2,IF(F12=4,Input!F20,IF(F12=5,Input!F20,IF(F12=6,Input!F20*1.333,\"\")))))))","v":""},"",{"$f":"IF('Results Lipids for Bio-diesel'!G10=\"\",\"\",(IF(AND('Results Lipids for Bio-diesel'!G10<=0.2,'Results Lipids for Bio-diesel'!G10>0),0,IF('Results Lipids for Bio-diesel'!G10>=0.4,2,IF(AND('Results Lipids for Bio-diesel'!G10>=0.2,'Results Lipids for Bio-diesel'!G10<=0.4),1,\"\")))))","v":""},{"$f":"IF(AND(Input!H20<=450,Input!H20>0),0,IF(Input!H20>=600,2,IF(AND(Input!H20>=450,Input!H20<=599),1,\"\")))","v":""},"",null,"","","","",null,"Promising",{"$f":"COUNTIF(K8:K57,2)","v":0}]
[6,{"$f":"IF(Input!B21=\"\",\"\",Input!B21)","v":""},{"$f":"IF(Input!C21=\"\",\"\",Input!C21)","v":""},null,null,{"$f":"IF(Input!$D$11=' lists & calculation '!$G$3,1,IF(Input!$D$11=' lists & calculation '!$G$4,2,IF(Input!$D$11=' lists & calculation '!$G$5,3,IF(Input!$D$11=' lists & calculation '!$G$6,4,IF(Input!$D$11=' lists & calculation '!$G$7,5,IF(Input!$D$11=' lists & calculation '!$G$8,6,\"\"))))))","v":""},{"$f":"IF(Input!F21=\"\",\"\",IF(F13=1,Input!F21*1.128,IF(F13=2,Input!F21*0.9,IF(F13=3,Input!F21*1.2,IF(F13=4,Input!F21,IF(F13=5,Input!F21,IF(F13=6,Input!F21*1.333,\"\")))))))","v":""},"",{"$f":"IF('Results Lipids for Bio-diesel'!G11=\"\",\"\",(IF(AND('Results Lipids for Bio-diesel'!G11<=0.2,'Results Lipids for Bio-diesel'!G11>0),0,IF('Results Lipids for Bio-diesel'!G11>=0.4,2,IF(AND('Results Lipids for Bio-diesel'!G11>=0.2,'Results Lipids for Bio-diesel'!G11<=0.4),1,\"\")))))","v":""},{"$f":"IF(AND(Input!H21<=450,Input!H21>0),0,IF(Input!H21>=600,2,IF(AND(Input!H21>=450,Input!H21<=599),1,\"\")))","v":""},"",null,"","","","",null,"Not yet clear",{"$f":"COUNTIF(K8:K57,1)","v":0}]
[7,{"$f":"IF(Input!B22=\"\",\"\",Input!B22)","v":""},{"$f":"IF(Input!C22=\"\",\"\",Input!C22)","v":""},null,null,{"$f":"IF(Input!$D$11=' lists & calculation '!$G$3,1,IF(Input!$D$11=' lists & calculation '!$G$4,2,IF(Input!$D$11=' lists & calculation '!$G$5,3,IF(Input!$D$11=' lists & calculation '!$G$6,4,IF(Input!$D$11=' lists & calculation '!$G$7,5,IF(Input!$D$11=' lists & calculation '!$G$8,6,\"\"))))))","v":""},{"$f":"IF(Input!F22=\"\",\"\",IF(F14=1,Input!F22*1.128,IF(F14=2,Input!F22*0.9,IF(F14=3,Input!F22*1.2,IF(F14=4,Input!F22,IF(F14=5,Input!F22,IF(F14=6,Input!F22*1.333,\"\")))))))","v":""},"",{"$f":"IF('Results Lipids for Bio-diesel'!G12=\"\",\"\",(IF(AND('Results Lipids for Bio-diesel'!G12<=0.2,'Results Lipids for Bio-diesel'!G12>0),0,IF('Results Lipids for Bio-diesel'!G12>=0.4,2,IF(AND('Results Lipids for Bio-diesel'!G12>=0.2,'Results Lipids for Bio-diesel'!G12<=0.4),1,\"\")))))","v":""},{"$f":"IF(AND(Input!H22<=450,Input!H22>0),0,IF(Input!H22>=600,2,IF(AND(Input!H22>=450,Input!H22<=599),1,\"\")))","v":""},"",null,"","","","",null,"Not suitable",{"$f":"COUNTIF(K8:K57,0)","v":0}]
[8,{"$f":"IF(Input!B23=\"\",\"\",Input!B23)","v":""},{"$f":"IF(Input!C23=\"\",\"\",Input!C23)","v":""},null,null,{"$f":"IF(Input!$D$11=' lists & calculation '!$G$3,1,IF(Input!$D$11=' lists & calculation '!$G$4,2,IF(Input!$D$11=' lists & calculation '!$G$5,3,IF(Input!$D$11=' lists & calculation '!$G$6,4,IF(Input!$D$11=' lists & calculation '!$G$7,5,IF(Input!$D$11=' lists & calculation '!$G$8,6,\"\"))))))","v":""},{"$f":"IF(Input!F23=\"\",\"\",IF(F15=1,Input!F23*1.128,IF(F15=2,Input!F23*0.9,IF(F15=3,Input!F23*1.2,IF(F15=4,Input!F23,IF(F15=5,Input!F23,IF(F15=6,Input!F23*1.333,\"\")))))))","v":""},"",{"$f":"IF('Results Lipids for Bio-diesel'!G13=\"\",\"\",(IF(AND('Results Lipids for Bio-diesel'!G13<=0.2,'Results Lipids for Bio-diesel'!G13>0),0,IF('Results Lipids for Bio-diesel'!G13>=0.4,2,IF(AND('Results Lipids for Bio-diesel'!G13>=0.2,'Results Lipids for Bio-diesel'!G13<=0.4),1,\"\")))))","v":""},{"$f":"IF(AND(Input!H23<=450,Input!H23>0),0,IF(Input!H23>=600,2,IF(AND(Input!H23>=450,Input!H23<=599),1,\"\")))","v":""},"",null,"","","","",null,null,{"$f":"COUNTIF(K8:K57,\"\")","v":50}]
[9,{"$f":"IF(Input!B24=\"\",\"\",Input!B24)","v":""},{"$f":"IF(Input!C24=\"\",\"\",Input!C24)","v":""},null,null,{"$f":"IF(Input!$D$11=' lists & calculation '!$G$3,1,IF(Input!$D$11=' lists & calculation '!$G$4,2,IF(Input!$D$11=' lists & calculation '!$G$5,3,IF(Input!$D$11=' lists & calculation '!$G$6,4,IF(Input!$D$11=' lists & calculation '!$G$7,5,IF(Input!$D$11=' lists & calculation '!$G$8,6,\"\"))))))","v":""},{"$f":"IF(Input!F24=\"\",\"\",IF(F16=1,Input!F24*1.128,IF(F16=2,Input!F24*0.9,IF(F16=3,Input!F24*1.2,IF(F16=4,Input!F24,IF(F16=5,Input!F24,IF(F16=6,Input!F24*1.333,\"\")))))))","v":""},"",{"$f":"IF('Results Lipids for Bio-diesel'!G14=\"\",\"\",(IF(AND('Results Lipids for Bio-diesel'!G14<=0.2,'Results Lipids for Bio-diesel'!G14>0),0,IF('Results Lipids for Bio-diesel'!G14>=0.4,2,IF(AND('Results Lipids for Bio-diesel'!G14>=0.2,'Results Lipids for Bio-diesel'!G14<=0.4),1,\"\")))))","v":""},{"$f":"IF(AND(Input!H24<=450,Input!H24>0),0,IF(Input!H24>=600,2,IF(AND(Input!H24>=450,Input!H24<=599),1,\"\")))","v":""},"",null,"","","",""]
[10,{"$f":"IF(Input!B25=\"\",\"\",Input!B25)","v":""},{"$f":"IF(Input!C25=\"\",\"\",Input!C25)","v":""},null,null,{"$f":"IF(Input!$D$11=' lists & calculation '!$G$3,1,IF(Input!$D$11=' lists & calculation '!$G$4,2,IF(Input!$D$11=' lists & calculation '!$G$5,3,IF(Input!$D$11=' lists & calculation '!$G$6,4,IF(Input!$D$11=' lists & calculation '!$G$7,5,IF(Input!$D$11=' lists & calculation '!$G$8,6,\"\"))))))","v":""},{"$f":"IF(Input!F25=\"\",\"\",IF(F17=1,Input!F25*1.128,IF(F17=2,Input!F25*0.9,IF(F17=3,Input!F25*1.2,IF(F17=4,Input!F25,IF(F17=5,Input!F25,IF(F17=6,Input!F25*1.333,\"\")))))))","v":""},"",{"$f":"IF('Results Lipids for Bio-diesel'!G15=\"\",\"\",(IF(AND('Results Lipids for Bio-diesel'!G15<=0.2,'Results Lipids for Bio-diesel'!G15>0),0,IF('Results Lipids for Bio-diesel'!G15>=0.4,2,IF(AND('Results Lipids for Bio-diesel'!G15>=0.2,'Results Lipids for Bio-diesel'!G15<=0.4),1,\"\")))))","v":""},{"$f":"IF(AND(Input!H25<=450,Input!H25>0),0,IF(Input!H25>=600,2,IF(AND(Input!H25>=450,Input!H25<=599),1,\"\")))","v":""},"",null,"","","",""]
[11,{"$f":"IF(Input!B26=\"\",\"\",Input!B26)","v":""},{"$f":"IF(Input!C26=\"\",\"\",Input!C26)","v":""},null,null,{"$f":"IF(Input!$D$11=' lists & calculation '!$G$3,1,IF(Input!$D$11=' lists & calculation '!$G$4,2,IF(Input!$D$11=' lists & calculation '!$G$5,3,IF(Input!$D$11=' lists & calculation '!$G$6,4,IF(Input!$D$11=' lists & calculation '!$G$7,5,IF(Input!$D$11=' lists & calculation '!$G$8,6,\"\"))))))","v":""},{"$f":"IF(Input!F26=\"\",\"\",IF(F18=1,Input!F26*1.128,IF(F18=2,Input!F26*0.9,IF(F18=3,Input!F26*1.2,IF(F18=4,Input!F26,IF(F18=5,Input!F26,IF(F18=6,Input!F26*1.333,\"\")))))))","v":""},"",{"$f":"IF('Results Lipids for Bio-diesel'!G16=\"\",\"\",(IF(AND('Results Lipids for Bio-diesel'!G16<=0.2,'Results Lipids for Bio-diesel'!G16>0),0,IF('Results Lipids for Bio-diesel'!G16>=0.4,2,IF(AND('Results Lipids for Bio-diesel'!G16>=0.2,'Results Lipids for Bio-diesel'!G16<=0.4),1,\"\")))))","v":""},{"$f":"IF(AND(Input!H26<=450,Input!H26>0),0,IF(Input!H26>=600,2,IF(AND(Input!H26>=450,Input!H26<=599),1,\"\")))","v":""},"",null,"","","",""]
[12,{"$f":"IF(Input!B27=\"\",\"\",Input!B27)","v":""},{"$f":"IF(Input!C27=\"\",\"\",Input!C27)","v":""},null,null,{"$f":"IF(Input!$D$11=' lists & calculation '!$G$3,1,IF(Input!$D$11=' lists & calculation '!$G$4,2,IF(Input!$D$11=' lists & calculation '!$G$5,3,IF(Input!$D$11=' lists & calculation '!$G$6,4,IF(Input!$D$11=' lists & calculation '!$G$7,5,IF(Input!$D$11=' lists & calculation '!$G$8,6,\"\"))))))","v":""},{"$f":"IF(Input!F27=\"\",\"\",IF(F19=1,Input!F27*1.128,IF(F19=2,Input!F27*0.9,IF(F19=3,Input!F27*1.2,IF(F19=4,Input!F27,IF(F19=5,Input!F27,IF(F19=6,Input!F27*1.333,\"\")))))))","v":""},"",{"$f":"IF('Results Lipids for Bio-diesel'!G17=\"\",\"\",(IF(AND('Results Lipids for Bio-diesel'!G17<=0.2,'Results Lipids for Bio-diesel'!G17>0),0,IF('Results Lipids for Bio-diesel'!G17>=0.4,2,IF(AND('Results Lipids for Bio-diesel'!G17>=0.2,'Results Lipids for Bio-diesel'!G17<=0.4),1,\"\")))))","v":""},{"$f":"IF(AND(Input!H27<=450,Input!H27>0),0,IF(Input!H27>=600,2,IF(AND(Input!H27>=450,Input!H27<=599),1,\"\")))","v":""},"",null,"","","",""]
[13,{"$f":"IF(Input!B28=\"\",\"\",Input!B28)","v":""},{"$f":"IF(Input!C28=\"\",\"\",Input!C28)","v":""},null,null,{"$f":"IF(Input!$D$11=' lists & calculation '!$G$3,1,IF(Input!$D$11=' lists & calculation '!$G$4,2,IF(Input!$D$11=' lists & calculation '!$G$5,3,IF(Input!$D$11=' lists & calculation '!$G$6,4,IF(Input!$D$11=' lists & calculation '!$G$7,5,IF(Input!$D$11=' lists & calculation '!$G$8,6,\"\"))))))","v":""},{"$f":"IF(Input!F28=\"\",\"\",IF(F20=1,Input!F28*1.128,IF(F20=2,Input!F28*0.9,IF(F20=3,Input!F28*1.2,IF(F20=4,Input!F28,IF(F20=5,Input!F28,IF(F20=6,Input!F28*1.333,\"\")))))))","v":""},"",{"$f":"IF('Results Lipids for Bio-diesel'!G18=\"\",\"\",(IF(AND('Results Lipids for Bio-diesel'!G18<=0.2,'Results Lipids for Bio-diesel'!G18>0),0,IF('Results Lipids for Bio-diesel'!G18>=0.4,2,IF(AND('Results Lipids for Bio-diesel'!G18>=0.2,'Results Lipids for Bio-diesel'!G18<=0.4),1,\"\")))))","v":""},{"$f":"IF(AND(Input!H28<=450,Input!H28>0),0,IF(Input!H28>=600,2,IF(AND(Input!H28>=450,Input!H28<=599),1,\"\")))","v":""},"",null,"","","",""]
[14,{"$f":"IF(Input!B29=\"\",\"\",Input!B29)","v":""},{"$f":"IF(Input!C29=\"\",\"\",Input!C29)","v":""},null,null,{"$f":"IF(Input!$D$11=' lists & calculation '!$G$3,1,IF(Input!$D$11=' lists & calculation '!$G$4,2,IF(Input!$D$11=' lists & calculation '!$G$5,3,IF(Input!$D$11=' lists & calculation '!$G$6,4,IF(Input!$D$11=' lists & calculation '!$G$7,5,IF(Input!$D$11=' lists & calculation '!$G$8,6,\"\"))))))","v":""},{"$f":"IF(Input!F29=\"\",\"\",IF(F21=1,Input!F29*1.128,IF(F21=2,Input!F29*0.9,IF(F21=3,Input!F29*1.2,IF(F21=4,Input!F29,IF(F21=5,Input!F29,IF(F21=6,Input!F29*1.333,\"\")))))))","v":""},"",{"$f":"IF('Results Lipids for Bio-diesel'!G19=\"\",\"\",(IF(AND('Results Lipids for Bio-diesel'!G19<=0.2,'Results Lipids for Bio-diesel'!G19>0),0,IF('Results Lipids for Bio-diesel'!G19>=0.4,2,IF(AND('Results Lipids for Bio-diesel'!G19>=0.2,'Results Lipids for Bio-diesel'!G19<=0.4),1,\"\")))))","v":""},{"$f":"IF(AND(Input!H29<=450,Input!H29>0),0,IF(Input!H29>=600,2,IF(AND(Input!H29>=450,Input!H29<=599),1,\"\")))","v":""},"",null,"","","",""]
[15,{"$f":"IF(Input!B30=\"\",\"\",Input!B30)","v":""},{"$f":"IF(Input!C30=\"\",\"\",Input!C30)","v":""},null,null,{"$f":"IF(Input!$D$11=' lists & calculation '!$G$3,1,IF(Input!$D$11=' lists & calculation '!$G$4,2,IF(Input!$D$11=' lists & calculation '!$G$5,3,IF(Input!$D$11=' lists & calculation '!$G$6,4,IF(Input!$D$11=' lists & calculation '!$G$7,5,IF(Input!$D$11=' lists & calculation '!$G$8,6,\"\"))))))","v":""},{"$f":"IF(Input!F30=\"\",\"\",IF(F22=1,Input!F30*1.128,IF(F22=2,Input!F30*0.9,IF(F22=3,Input!F30*1.2,IF(F22=4,Input!F30,IF(F22=5,Input!F30,IF(F22=6,Input!F30*1.333,\"\")))))))","v":""},"",{"$f":"IF('Results Lipids for Bio-diesel'!G20=\"\",\"\",(IF(AND('Results Lipids for Bio-diesel'!G20<=0.2,'Results Lipids for Bio-diesel'!G20>0),0,IF('Results Lipids for Bio-diesel'!G20>=0.4,2,IF(AND('Results Lipids for Bio-diesel'!G20>=0.2,'Results Lipids for Bio-diesel'!G20<=0.4),1,\"\")))))","v":""},{"$f":"IF(AND(Input!H30<=450,Input!H30>0),0,IF(Input!H30>=600,2,IF(AND(Input!H30>=450,Input!H30<=599),1,\"\")))","v":""},"",null,"","","",""]
[16,{"$f":"IF(Input!B31=\"\",\"\",Input!B31)","v":""},{"$f":"IF(Input!C31=\"\",\"\",Input!C31)","v":""},null,null,{"$f":"IF(Input!$D$11=' lists & calculation '!$G$3,1,IF(Input!$D$11=' lists & calculation '!$G$4,2,IF(Input!$D$11=' lists & calculation '!$G$5,3,IF(Input!$D$11=' lists & calculation '!$G$6,4,IF(Input!$D$11=' lists & calculation '!$G$7,5,IF(Input!$D$11=' lists & calculation '!$G$8,6,\"\"))))))","v":""},{"$f":"IF(Input!F31=\"\",\"\",IF(F23=1,Input!F31*1.128,IF(F23=2,Input!F31*0.9,IF(F23=3,Input!F31*1.2,IF(F23=4,Input!F31,IF(F23=5,Input!F31,IF(F23=6,Input!F31*1.333,\"\")))))))","v":""},"",{"$f":"IF('Results Lipids for Bio-diesel'!G21=\"\",\"\",(IF(AND('Results Lipids for Bio-diesel'!G21<=0.2,'Results Lipids for Bio-diesel'!G21>0),0,IF('Results Lipids for Bio-diesel'!G21>=0.4,2,IF(AND('Results Lipids for Bio-diesel'!G21>=0.2,'Results Lipids for Bio-diesel'!G21<=0.4),1,\"\")))))","v":""},{"$f":"IF(AND(Input!H31<=450,Input!H31>0),0,IF(Input!H31>=600,2,IF(AND(Input!H31>=450,Input!H31<=599),1,\"\")))","v":""},"",null,"","","",""]
[17,{"$f":"IF(Input!B32=\"\",\"\",Input!B32)","v":""},{"$f":"IF(Input!C32=\"\",\"\",Input!C32)","v":""},null,null,{"$f":"IF(Input!$D$11=' lists & calculation '!$G$3,1,IF(Input!$D$11=' lists & calculation '!$G$4,2,IF(Input!$D$11=' lists & calculation '!$G$5,3,IF(Input!$D$11=' lists & calculation '!$G$6,4,IF(Input!$D$11=' lists & calculation '!$G$7,5,IF(Input!$D$11=' lists & calculation '!$G$8,6,\"\"))))))","v":""},{"$f":"IF(Input!F32=\"\",\"\",IF(F24=1,Input!F32*1.128,IF(F24=2,Input!F32*0.9,IF(F24=3,Input!F32*1.2,IF(F24=4,Input!F32,IF(F24=5,Input!F32,IF(F24=6,Input!F32*1.333,\"\")))))))","v":""},"",{"$f":"IF('Results Lipids for Bio-diesel'!G22=\"\",\"\",(IF(AND('Results Lipids for Bio-diesel'!G22<=0.2,'Results Lipids for Bio-diesel'!G22>0),0,IF('Results Lipids for Bio-diesel'!G22>=0.4,2,IF(AND('Results Lipids for Bio-diesel'!G22>=0.2,'Results Lipids for Bio-diesel'!G22<=0.4),1,\"\")))))","v":""},{"$f":"IF(AND(Input!H32<=450,Input!H32>0),0,IF(Input!H32>=600,2,IF(AND(Input!H32>=450,Input!H32<=599),1,\"\")))","v":""},"",null,"","","",""]
[18,{"$f":"IF(Input!B33=\"\",\"\",Input!B33)","v":""},{"$f":"IF(Input!C33=\"\",\"\",Input!C33)","v":""},null,null,{"$f":"IF(Input!$D$11=' lists & calculation '!$G$3,1,IF(Input!$D$11=' lists & calculation '!$G$4,2,IF(Input!$D$11=' lists & calculation '!$G$5,3,IF(Input!$D$11=' lists & calculation '!$G$6,4,IF(Input!$D$11=' lists & calculation '!$G$7,5,IF(Input!$D$11=' lists & calculation '!$G$8,6,\"\"))))))","v":""},{"$f":"IF(Input!F33=\"\",\"\",IF(F25=1,Input!F33*1.128,IF(F25=2,Input!F33*0.9,IF(F25=3,Input!F33*1.2,IF(F25=4,Input!F33,IF(F25=5,Input!F33,IF(F25=6,Input!F33*1.333,\"\")))))))","v":""},"",{"$f":"IF('Results Lipids for Bio-diesel'!G23=\"\",\"\",(IF(AND('Results Lipids for Bio-diesel'!G23<=0.2,'Results Lipids for Bio-diesel'!G23>0),0,IF('Results Lipids for Bio-diesel'!G23>=0.4,2,IF(AND('Results Lipids for Bio-diesel'!G23>=0.2,'Results Lipids for Bio-diesel'!G23<=0.4),1,\"\")))))","v":""},{"$f":"IF(AND(Input!H33<=450,Input!H33>0),0,IF(Input!H33>=600,2,IF(AND(Input!H33>=450,Input!H33<=599),1,\"\")))","v":""},"",null,"","","",""]
[19,{"$f":"IF(Input!B34=\"\",\"\",Input!B34)","v":""},{"$f":"IF(Input!C34=\"\",\"\",Input!C34)","v":""},null,null,{"$f":"IF(Input!$D$11=' lists & calculation '!$G$3,1,IF(Input!$D$11=' lists & calculation '!$G$4,2,IF(Input!$D$11=' lists & calculation '!$G$5,3,IF(Input!$D$11=' lists & calculation '!$G$6,4,IF(Input!$D$11=' lists & calculation '!$G$7,5,IF(Input!$D$11=' lists & calculation '!$G$8,6,\"\"))))))","v":""},{"$f":"IF(Input!F34=\"\",\"\",IF(F26=1,Input!F34*1.128,IF(F26=2,Input!F34*0.9,IF(F26=3,Input!F34*1.2,IF(F26=4,Input!F34,IF(F26=5,Input!F34,IF(F26=6,Input!F34*1.333,\"\")))))))","v":""},"",{"$f":"IF('Results Lipids for Bio-diesel'!G24=\"\",\"\",(IF(AND('Results Lipids for Bio-diesel'!G24<=0.2,'Results Lipids for Bio-diesel'!G24>0),0,IF('Results Lipids for Bio-diesel'!G24>=0.4,2,IF(AND('Results Lipids for Bio-diesel'!G24>=0.2,'Results Lipids for Bio-diesel'!G24<=0.4),1,\"\")))))","v":""},{"$f":"IF(AND(Input!H34<=450,Input!H34>0),0,IF(Input!H34>=600,2,IF(AND(Input!H34>=450,Input!H34<=599),1,\"\")))","v":""},"",null,"","","",""]
[20,{"$f":"IF(Input!B35=\"\",\"\",Input!B35)","v":""},{"$f":"IF(Input!C35=\"\",\"\",Input!C35)","v":""},null,null,{"$f":"IF(Input!$D$11=' lists & calculation '!$G$3,1,IF(Input!$D$11=' lists & calculation '!$G$4,2,IF(Input!$D$11=' lists & calculation '!$G$5,3,IF(Input!$D$11=' lists & calculation '!$G$6,4,IF(Input!$D$11=' lists & calculation '!$G$7,5,IF(Input!$D$11=' lists & calculation '!$G$8,6,\"\"))))))","v":""},{"$f":"IF(Input!F35=\"\",\"\",IF(F27=1,Input!F35*1.128,IF(F27=2,Input!F35*0.9,IF(F27=3,Input!F35*1.2,IF(F27=4,Input!F35,IF(F27=5,Input!F35,IF(F27=6,Input!F35*1.333,\"\")))))))","v":""},"",{"$f":"IF('Results Lipids for Bio-diesel'!G25=\"\",\"\",(IF(AND('Results Lipids for Bio-diesel'!G25<=0.2,'Results Lipids for Bio-diesel'!G25>0),0,IF('Results Lipids for Bio-diesel'!G25>=0.4,2,IF(AND('Results Lipids for Bio-diesel'!G25>=0.2,'Results Lipids for Bio-diesel'!G25<=0.4),1,\"\")))))","v":""},{"$f":"IF(AND(Input!H35<=450,Input!H35>0),0,IF(Input!H35>=600,2,IF(AND(Input!H35>=450,Input!H35<=599),1,\"\")))","v":""},"",null,"","","",""]
[21,{"$f":"IF(Input!B36=\"\",\"\",Input!B36)","v":""},{"$f":"IF(Input!C36=\"\",\"\",Input!C36)","v":""},null,null,{"$f":"IF(Input!$D$11=' lists & calculation '!$G$3,1,IF(Input!$D$11=' lists & calculation '!$G$4,2,IF(Input!$D$11=' lists & calculation '!$G$5,3,IF(Input!$D$11=' lists & calculation '!$G$6,4,IF(Input!$D$11=' lists & calculation '!$G$7,5,IF(Input!$D$11=' lists & calculation '!$G$8,6,\"\"))))))","v":""},{"$f":"IF(Input!F36=\"\",\"\",IF(F28=1,Input!F36*1.128,IF(F28=2,Input!F36*0.9,IF(F28=3,Input!F36*1.2,IF(F28=4,Input!F36,IF(F28=5,Input!F36,IF(F28=6,Input!F36*1.333,\"\")))))))","v":""},"",{"$f":"IF('Results Lipids for Bio-diesel'!G26=\"\",\"\",(IF(AND('Results Lipids for Bio-diesel'!G26<=0.2,'Results Lipids for Bio-diesel'!G26>0),0,IF('Results Lipids for Bio-diesel'!G26>=0.4,2,IF(AND('Results Lipids for Bio-diesel'!G26>=0.2,'Results Lipids for Bio-diesel'!G26<=0.4),1,\"\")))))","v":""},{"$f":"IF(AND(Input!H36<=450,Input!H36>0),0,IF(Input!H36>=600,2,IF(AND(Input!H36>=450,Input!H36<=599),1,\"\")))","v":""},"",null,"","","",""]
[22,{"$f":"IF(Input!B37=\"\",\"\",Input!B37)","v":""},{"$f":"IF(Input!C37=\"\",\"\",Input!C37)","v":""},null,null,{"$f":"IF(Input!$D$11=' lists & calculation '!$G$3,1,IF(Input!$D$11=' lists & calculation '!$G$4,2,IF(Input!$D$11=' lists & calculation '!$G$5,3,IF(Input!$D$11=' lists & calculation '!$G$6,4,IF(Input!$D$11=' lists & calculation '!$G$7,5,IF(Input!$D$11=' lists & calculation '!$G$8,6,\"\"))))))","v":""},{"$f":"IF(Input!F37=\"\",\"\",IF(F29=1,Input!F37*1.128,IF(F29=2,Input!F37*0.9,IF(F29=3,Input!F37*1.2,IF(F29=4,Input!F37,IF(F29=5,Input!F37,IF(F29=6,Input!F37*1.333,\"\")))))))","v":""},"",{"$f":"IF('Results Lipids for Bio-diesel'!G27=\"\",\"\",(IF(AND('Results Lipids for Bio-diesel'!G27<=0.2,'Results Lipids for Bio-diesel'!G27>0),0,IF('Results Lipids for Bio-diesel'!G27>=0.4,2,IF(AND('Results Lipids for Bio-diesel'!G27>=0.2,'Results Lipids for Bio-diesel'!G27<=0.4),1,\"\")))))","v":""},{"$f":"IF(AND(Input!H37<=450,Input!H37>0),0,IF(Input!H37>=600,2,IF(AND(Input!H37>=450,Input!H37<=599),1,\"\")))","v":""},"",null,"","","",""]
[23,{"$f":"IF(Input!B38=\"\",\"\",Input!B38)","v":""},{"$f":"IF(Input!C38=\"\",\"\",Input!C38)","v":""},null,null,{"$f":"IF(Input!$D$11=' lists & calculation '!$G$3,1,IF(Input!$D$11=' lists & calculation '!$G$4,2,IF(Input!$D$11=' lists & calculation '!$G$5,3,IF(Input!$D$11=' lists & calculation '!$G$6,4,IF(Input!$D$11=' lists & calculation '!$G$7,5,IF(Input!$D$11=' lists & calculation '!$G$8,6,\"\"))))))","v":""},{"$f":"IF(Input!F38=\"\",\"\",IF(F30=1,Input!F38*1.128,IF(F30=2,Input!F38*0.9,IF(F30=3,Input!F38*1.2,IF(F30=4,Input!F38,IF(F30=5,Input!F38,IF(F30=6,Input!F38*1.333,\"\")))))))","v":""},"",{"$f":"IF('Results Lipids for Bio-diesel'!G28=\"\",\"\",(IF(AND('Results Lipids for Bio-diesel'!G28<=0.2,'Results Lipids for Bio-diesel'!G28>0),0,IF('Results Lipids for Bio-diesel'!G28>=0.4,2,IF(AND('Results Lipids for Bio-diesel'!G28>=0.2,'Results Lipids for Bio-diesel'!G28<=0.4),1,\"\")))))","v":""},{"$f":"IF(AND(Input!H38<=450,Input!H38>0),0,IF(Input!H38>=600,2,IF(AND(Input!H38>=450,Input!H38<=599),1,\"\")))","v":""},"",null,"","","",""]
[24,{"$f":"IF(Input!B39=\"\",\"\",Input!B39)","v":""},{"$f":"IF(Input!C39=\"\",\"\",Input!C39)","v":""},null,null,{"$f":"IF(Input!$D$11=' lists & calculation '!$G$3,1,IF(Input!$D$11=' lists & calculation '!$G$4,2,IF(Input!$D$11=' lists & calculation '!$G$5,3,IF(Input!$D$11=' lists & calculation '!$G$6,4,IF(Input!$D$11=' lists & calculation '!$G$7,5,IF(Input!$D$11=' lists & calculation '!$G$8,6,\"\"))))))","v":""},{"$f":"IF(Input!F39=\"\",\"\",IF(F31=1,Input!F39*1.128,IF(F31=2,Input!F39*0.9,IF(F31=3,Input!F39*1.2,IF(F31=4,Input!F39,IF(F31=5,Input!F39,IF(F31=6,Input!F39*1.333,\"\")))))))","v":""},"",{"$f":"IF('Results Lipids for Bio-diesel'!G29=\"\",\"\",(IF(AND('Results Lipids for Bio-diesel'!G29<=0.2,'Results Lipids for Bio-diesel'!G29>0),0,IF('Results Lipids for Bio-diesel'!G29>=0.4,2,IF(AND('Results Lipids for Bio-diesel'!G29>=0.2,'Results Lipids for Bio-diesel'!G29<=0.4),1,\"\")))))","v":""},{"$f":"IF(AND(Input!H39<=450,Input!H39>0),0,IF(Input!H39>=600,2,IF(AND(Input!H39>=450,Input!H39<=599),1,\"\")))","v":""},"",null,"","","",""]
[25,{"$f":"IF(Input!B40=\"\",\"\",Input!B40)","v":""},{"$f":"IF(Input!C40=\"\",\"\",Input!C40)","v":""},null,null,{"$f":"IF(Input!$D$11=' lists & calculation '!$G$3,1,IF(Input!$D$11=' lists & calculation '!$G$4,2,IF(Input!$D$11=' lists & calculation '!$G$5,3,IF(Input!$D$11=' lists & calculation '!$G$6,4,IF(Input!$D$11=' lists & calculation '!$G$7,5,IF(Input!$D$11=' lists & calculation '!$G$8,6,\"\"))))))","v":""},{"$f":"IF(Input!F40=\"\",\"\",IF(F32=1,Input!F40*1.128,IF(F32=2,Input!F40*0.9,IF(F32=3,Input!F40*1.2,IF(F32=4,Input!F40,IF(F32=5,Input!F40,IF(F32=6,Input!F40*1.333,\"\")))))))","v":""},"",{"$f":"IF('Results Lipids for Bio-diesel'!G30=\"\",\"\",(IF(AND('Results Lipids for Bio-diesel'!G30<=0.2,'Results Lipids for Bio-diesel'!G30>0),0,IF('Results Lipids for Bio-diesel'!G30>=0.4,2,IF(AND('Results Lipids for Bio-diesel'!G30>=0.2,'Results Lipids for Bio-diesel'!G30<=0.4),1,\"\")))))","v":""},{"$f":"IF(AND(Input!H40<=450,Input!H40>0),0,IF(Input!H40>=600,2,IF(AND(Input!H40>=450,Input!H40<=599),1,\"\")))","v":""},"",null,"","","",""]
[26,{"$f":"IF(Input!B41=\"\",\"\",Input!B41)","v":""},{"$f":"IF(Input!C41=\"\",\"\",Input!C41)","v":""},null,null,{"$f":"IF(Input!$D$11=' lists & calculation '!$G$3,1,IF(Input!$D$11=' lists & calculation '!$G$4,2,IF(Input!$D$11=' lists & calculation '!$G$5,3,IF(Input!$D$11=' lists & calculation '!$G$6,4,IF(Input!$D$11=' lists & calculation '!$G$7,5,IF(Input!$D$11=' lists & calculation '!$G$8,6,\"\"))))))","v":""},{"$f":"IF(Input!F41=\"\",\"\",IF(F33=1,Input!F41*1.128,IF(F33=2,Input!F41*0.9,IF(F33=3,Input!F41*1.2,IF(F33=4,Input!F41,IF(F33=5,Input!F41,IF(F33=6,Input!F41*1.333,\"\")))))))","v":""},"",{"$f":"IF('Results Lipids for Bio-diesel'!G31=\"\",\"\",(IF(AND('Results Lipids for Bio-diesel'!G31<=0.2,'Results Lipids for Bio-diesel'!G31>0),0,IF('Results Lipids for Bio-diesel'!G31>=0.4,2,IF(AND('Results Lipids for Bio-diesel'!G31>=0.2,'Results Lipids for Bio-diesel'!G31<=0.4),1,\"\")))))","v":""},{"$f":"IF(AND(Input!H41<=450,Input!H41>0),0,IF(Input!H41>=600,2,IF(AND(Input!H41>=450,Input!H41<=599),1,\"\")))","v":""},"",null,"","","",""]
[27,{"$f":"IF(Input!B42=\"\",\"\",Input!B42)","v":""},{"$f":"IF(Input!C42=\"\",\"\",Input!C42)","v":""},null,null,{"$f":"IF(Input!$D$11=' lists & calculation '!$G$3,1,IF(Input!$D$11=' lists & calculation '!$G$4,2,IF(Input!$D$11=' lists & calculation '!$G$5,3,IF(Input!$D$11=' lists & calculation '!$G$6,4,IF(Input!$D$11=' lists & calculation '!$G$7,5,IF(Input!$D$11=' lists & calculation '!$G$8,6,\"\"))))))","v":""},{"$f":"IF(Input!F42=\"\",\"\",IF(F34=1,Input!F42*1.128,IF(F34=2,Input!F42*0.9,IF(F34=3,Input!F42*1.2,IF(F34=4,Input!F42,IF(F34=5,Input!F42,IF(F34=6,Input!F42*1.333,\"\")))))))","v":""},"",{"$f":"IF('Results Lipids for Bio-diesel'!G32=\"\",\"\",(IF(AND('Results Lipids for Bio-diesel'!G32<=0.2,'Results Lipids for Bio-diesel'!G32>0),0,IF('Results Lipids for Bio-diesel'!G32>=0.4,2,IF(AND('Results Lipids for Bio-diesel'!G32>=0.2,'Results Lipids for Bio-diesel'!G32<=0.4),1,\"\")))))","v":""},{"$f":"IF(AND(Input!H42<=450,Input!H42>0),0,IF(Input!H42>=600,2,IF(AND(Input!H42>=450,Input!H42<=599),1,\"\")))","v":""},"",null,"","","",""]
[28,{"$f":"IF(Input!B43=\"\",\"\",Input!B43)","v":""},{"$f":"IF(Input!C43=\"\",\"\",Input!C43)","v":""},null,null,{"$f":"IF(Input!$D$11=' lists & calculation '!$G$3,1,IF(Input!$D$11=' lists & calculation '!$G$4,2,IF(Input!$D$11=' lists & calculation '!$G$5,3,IF(Input!$D$11=' lists & calculation '!$G$6,4,IF(Input!$D$11=' lists & calculation '!$G$7,5,IF(Input!$D$11=' lists & calculation '!$G$8,6,\"\"))))))","v":""},{"$f":"IF(Input!F43=\"\",\"\",IF(F35=1,Input!F43*1.128,IF(F35=2,Input!F43*0.9,IF(F35=3,Input!F43*1.2,IF(F35=4,Input!F43,IF(F35=5,Input!F43,IF(F35=6,Input!F43*1.333,\"\")))))))","v":""},"",{"$f":"IF('Results Lipids for Bio-diesel'!G33=\"\",\"\",(IF(AND('Results Lipids for Bio-diesel'!G33<=0.2,'Results Lipids for Bio-diesel'!G33>0),0,IF('Results Lipids for Bio-diesel'!G33>=0.4,2,IF(AND('Results Lipids for Bio-diesel'!G33>=0.2,'Results Lipids for Bio-diesel'!G33<=0.4),1,\"\")))))","v":""},{"$f":"IF(AND(Input!H43<=450,Input!H43>0),0,IF(Input!H43>=600,2,IF(AND(Input!H43>=450,Input!H43<=599),1,\"\")))","v":""},"",null,"","","",""]
[29,{"$f":"IF(Input!B44=\"\",\"\",Input!B44)","v":""},{"$f":"IF(Input!C44=\"\",\"\",Input!C44)","v":""},null,null,{"$f":"IF(Input!$D$11=' lists & calculation '!$G$3,1,IF(Input!$D$11=' lists & calculation '!$G$4,2,IF(Input!$D$11=' lists & calculation '!$G$5,3,IF(Input!$D$11=' lists & calculation '!$G$6,4,IF(Input!$D$11=' lists & calculation '!$G$7,5,IF(Input!$D$11=' lists & calculation '!$G$8,6,\"\"))))))","v":""},{"$f":"IF(Input!F44=\"\",\"\",IF(F36=1,Input!F44*1.128,IF(F36=2,Input!F44*0.9,IF(F36=3,Input!F44*1.2,IF(F36=4,Input!F44,IF(F36=5,Input!F44,IF(F36=6,Input!F44*1.333,\"\")))))))","v":""},"",{"$f":"IF('Results Lipids for Bio-diesel'!G34=\"\",\"\",(IF(AND('Results Lipids for Bio-diesel'!G34<=0.2,'Results Lipids for Bio-diesel'!G34>0),0,IF('Results Lipids for Bio-diesel'!G34>=0.4,2,IF(AND('Results Lipids for Bio-diesel'!G34>=0.2,'Results Lipids for Bio-diesel'!G34<=0.4),1,\"\")))))","v":""},{"$f":"IF(AND(Input!H44<=450,Input!H44>0),0,IF(Input!H44>=600,2,IF(AND(Input!H44>=450,Input!H44<=599),1,\"\")))","v":""},"",null,"","","",""]
[30,{"$f":"IF(Input!B45=\"\",\"\",Input!B45)","v":""},{"$f":"IF(Input!C45=\"\",\"\",Input!C45)","v":""},null,null,{"$f":"IF(Input!$D$11=' lists & calculation '!$G$3,1,IF(Input!$D$11=' lists & calculation '!$G$4,2,IF(Input!$D$11=' lists & calculation '!$G$5,3,IF(Input!$D$11=' lists & calculation '!$G$6,4,IF(Input!$D$11=' lists & calculation '!$G$7,5,IF(Input!$D$11=' lists & calculation '!$G$8,6,\"\"))))))","v":""},{"$f":"IF(Input!F45=\"\",\"\",IF(F37=1,Input!F45*1.128,IF(F37=2,Input!F45*0.9,IF(F37=3,Input!F45*1.2,IF(F37=4,Input!F45,IF(F37=5,Input!F45,IF(F37=6,Input!F45*1.333,\"\")))))))","v":""},"",{"$f":"IF('Results Lipids for Bio-diesel'!G35=\"\",\"\",(IF(AND('Results Lipids for Bio-diesel'!G35<=0.2,'Results Lipids for Bio-diesel'!G35>0),0,IF('Results Lipids for Bio-diesel'!G35>=0.4,2,IF(AND('Results Lipids for Bio-diesel'!G35>=0.2,'Results Lipids for Bio-diesel'!G35<=0.4),1,\"\")))))","v":""},{"$f":"IF(AND(Input!H45<=450,Input!H45>0),0,IF(Input!H45>=600,2,IF(AND(Input!H45>=450,Input!H45<=599),1,\"\")))","v":""},"",null,"","","",""]
[31,{"$f":"IF(Input!B46=\"\",\"\",Input!B46)","v":""},{"$f":"IF(Input!C46=\"\",\"\",Input!C46)","v":""},null,null,{"$f":"IF(Input!$D$11=' lists & calculation '!$G$3,1,IF(Input!$D$11=' lists & calculation '!$G$4,2,IF(Input!$D$11=' lists & calculation '!$G$5,3,IF(Input!$D$11=' lists & calculation '!$G$6,4,IF(Input!$D$11=' lists & calculation '!$G$7,5,IF(Input!$D$11=' lists & calculation '!$G$8,6,\"\"))))))","v":""},{"$f":"IF(Input!F46=\"\",\"\",IF(F38=1,Input!F46*1.128,IF(F38=2,Input!F46*0.9,IF(F38=3,Input!F46*1.2,IF(F38=4,Input!F46,IF(F38=5,Input!F46,IF(F38=6,Input!F46*1.333,\"\")))))))","v":""},"",{"$f":"IF('Results Lipids for Bio-diesel'!G36=\"\",\"\",(IF(AND('Results Lipids for Bio-diesel'!G36<=0.2,'Results Lipids for Bio-diesel'!G36>0),0,IF('Results Lipids for Bio-diesel'!G36>=0.4,2,IF(AND('Results Lipids for Bio-diesel'!G36>=0.2,'Results Lipids for Bio-diesel'!G36<=0.4),1,\"\")))))","v":""},{"$f":"IF(AND(Input!H46<=450,Input!H46>0),0,IF(Input!H46>=600,2,IF(AND(Input!H46>=450,Input!H46<=599),1,\"\")))","v":""},"",null,"","","",""]
[32,{"$f":"IF(Input!B47=\"\",\"\",Input!B47)","v":""},{"$f":"IF(Input!C47=\"\",\"\",Input!C47)","v":""},null,null,{"$f":"IF(Input!$D$11=' lists & calculation '!$G$3,1,IF(Input!$D$11=' lists & calculation '!$G$4,2,IF(Input!$D$11=' lists & calculation '!$G$5,3,IF(Input!$D$11=' lists & calculation '!$G$6,4,IF(Input!$D$11=' lists & calculation '!$G$7,5,IF(Input!$D$11=' lists & calculation '!$G$8,6,\"\"))))))","v":""},{"$f":"IF(Input!F47=\"\",\"\",IF(F39=1,Input!F47*1.128,IF(F39=2,Input!F47*0.9,IF(F39=3,Input!F47*1.2,IF(F39=4,Input!F47,IF(F39=5,Input!F47,IF(F39=6,Input!F47*1.333,\"\")))))))","v":""},"",{"$f":"IF('Results Lipids for Bio-diesel'!G37=\"\",\"\",(IF(AND('Results Lipids for Bio-diesel'!G37<=0.2,'Results Lipids for Bio-diesel'!G37>0),0,IF('Results Lipids for Bio-diesel'!G37>=0.4,2,IF(AND('Results Lipids for Bio-diesel'!G37>=0.2,'Results Lipids for Bio-diesel'!G37<=0.4),1,\"\")))))","v":""},{"$f":"IF(AND(Input!H47<=450,Input!H47>0),0,IF(Input!H47>=600,2,IF(AND(Input!H47>=450,Input!H47<=599),1,\"\")))","v":""},"",null,"","","",""]
[33,{"$f":"IF(Input!B48=\"\",\"\",Input!B48)","v":""},{"$f":"IF(Input!C48=\"\",\"\",Input!C48)","v":""},null,null,{"$f":"IF(Input!$D$11=' lists & calculation '!$G$3,1,IF(Input!$D$11=' lists & calculation '!$G$4,2,IF(Input!$D$11=' lists & calculation '!$G$5,3,IF(Input!$D$11=' lists & calculation '!$G$6,4,IF(Input!$D$11=' lists & calculation '!$G$7,5,IF(Input!$D$11=' lists & calculation '!$G$8,6,\"\"))))))","v":""},{"$f":"IF(Input!F48=\"\",\"\",IF(F40=1,Input!F48*1.128,IF(F40=2,Input!F48*0.9,IF(F40=3,Input!F48*1.2,IF(F40=4,Input!F48,IF(F40=5,Input!F48,IF(F40=6,Input!F48*1.333,\"\")))))))","v":""},"",{"$f":"IF('Results Lipids for Bio-diesel'!G38=\"\",\"\",(IF(AND('Results Lipids for Bio-diesel'!G38<=0.2,'Results Lipids for Bio-diesel'!G38>0),0,IF('Results Lipids for Bio-diesel'!G38>=0.4,2,IF(AND('Results Lipids for Bio-diesel'!G38>=0.2,'Results Lipids for Bio-diesel'!G38<=0.4),1,\"\")))))","v":""},{"$f":"IF(AND(Input!H48<=450,Input!H48>0),0,IF(Input!H48>=600,2,IF(AND(Input!H48>=450,Input!H48<=599),1,\"\")))","v":""},"",null,"","","",""]
[34,{"$f":"IF(Input!B49=\"\",\"\",Input!B49)","v":""},{"$f":"IF(Input!C49=\"\",\"\",Input!C49)","v":""},null,null,{"$f":"IF(Input!$D$11=' lists & calculation '!$G$3,1,IF(Input!$D$11=' lists & calculation '!$G$4,2,IF(Input!$D$11=' lists & calculation '!$G$5,3,IF(Input!$D$11=' lists & calculation '!$G$6,4,IF(Input!$D$11=' lists & calculation '!$G$7,5,IF(Input!$D$11=' lists & calculation '!$G$8,6,\"\"))))))","v":""},{"$f":"IF(Input!F49=\"\",\"\",IF(F41=1,Input!F49*1.128,IF(F41=2,Input!F49*0.9,IF(F41=3,Input!F49*1.2,IF(F41=4,Input!F49,IF(F41=5,Input!F49,IF(F41=6,Input!F49*1.333,\"\")))))))","v":""},"",{"$f":"IF('Results Lipids for Bio-diesel'!G39=\"\",\"\",(IF(AND('Results Lipids for Bio-diesel'!G39<=0.2,'Results Lipids for Bio-diesel'!G39>0),0,IF('Results Lipids for Bio-diesel'!G39>=0.4,2,IF(AND('Results Lipids for Bio-diesel'!G39>=0.2,'Results Lipids for Bio-diesel'!G39<=0.4),1,\"\")))))","v":""},{"$f":"IF(AND(Input!H49<=450,Input!H49>0),0,IF(Input!H49>=600,2,IF(AND(Input!H49>=450,Input!H49<=599),1,\"\")))","v":""},"",null,"","","",""]
[35,{"$f":"IF(Input!B50=\"\",\"\",Input!B50)","v":""},{"$f":"IF(Input!C50=\"\",\"\",Input!C50)","v":""},null,null,{"$f":"IF(Input!$D$11=' lists & calculation '!$G$3,1,IF(Input!$D$11=' lists & calculation '!$G$4,2,IF(Input!$D$11=' lists & calculation '!$G$5,3,IF(Input!$D$11=' lists & calculation '!$G$6,4,IF(Input!$D$11=' lists & calculation '!$G$7,5,IF(Input!$D$11=' lists & calculation '!$G$8,6,\"\"))))))","v":""},{"$f":"IF(Input!F50=\"\",\"\",IF(F42=1,Input!F50*1.128,IF(F42=2,Input!F50*0.9,IF(F42=3,Input!F50*1.2,IF(F42=4,Input!F50,IF(F42=5,Input!F50,IF(F42=6,Input!F50*1.333,\"\")))))))","v":""},"",{"$f":"IF('Results Lipids for Bio-diesel'!G40=\"\",\"\",(IF(AND('Results Lipids for Bio-diesel'!G40<=0.2,'Results Lipids for Bio-diesel'!G40>0),0,IF('Results Lipids for Bio-diesel'!G40>=0.4,2,IF(AND('Results Lipids for Bio-diesel'!G40>=0.2,'Results Lipids for Bio-diesel'!G40<=0.4),1,\"\")))))","v":""},{"$f":"IF(AND(Input!H50<=450,Input!H50>0),0,IF(Input!H50>=600,2,IF(AND(Input!H50>=450,Input!H50<=599),1,\"\")))","v":""},"",null,"","","",""]
[36,{"$f":"IF(Input!B51=\"\",\"\",Input!B51)","v":""},{"$f":"IF(Input!C51=\"\",\"\",Input!C51)","v":""},null,null,{"$f":"IF(Input!$D$11=' lists & calculation '!$G$3,1,IF(Input!$D$11=' lists & calculation '!$G$4,2,IF(Input!$D$11=' lists & calculation '!$G$5,3,IF(Input!$D$11=' lists & calculation '!$G$6,4,IF(Input!$D$11=' lists & calculation '!$G$7,5,IF(Input!$D$11=' lists & calculation '!$G$8,6,\"\"))))))","v":""},{"$f":"IF(Input!F51=\"\",\"\",IF(F43=1,Input!F51*1.128,IF(F43=2,Input!F51*0.9,IF(F43=3,Input!F51*1.2,IF(F43=4,Input!F51,IF(F43=5,Input!F51,IF(F43=6,Input!F51*1.333,\"\")))))))","v":""},"",{"$f":"IF('Results Lipids for Bio-diesel'!G41=\"\",\"\",(IF(AND('Results Lipids for Bio-diesel'!G41<=0.2,'Results Lipids for Bio-diesel'!G41>0),0,IF('Results Lipids for Bio-diesel'!G41>=0.4,2,IF(AND('Results Lipids for Bio-diesel'!G41>=0.2,'Results Lipids for Bio-diesel'!G41<=0.4),1,\"\")))))","v":""},{"$f":"IF(AND(Input!H51<=450,Input!H51>0),0,IF(Input!H51>=600,2,IF(AND(Input!H51>=450,Input!H51<=599),1,\"\")))","v":""},"",null,"","","",""]
[37,{"$f":"IF(Input!B52=\"\",\"\",Input!B52)","v":""},{"$f":"IF(Input!C52=\"\",\"\",Input!C52)","v":""},null,null,{"$f":"IF(Input!$D$11=' lists & calculation '!$G$3,1,IF(Input!$D$11=' lists & calculation '!$G$4,2,IF(Input!$D$11=' lists & calculation '!$G$5,3,IF(Input!$D$11=' lists & calculation '!$G$6,4,IF(Input!$D$11=' lists & calculation '!$G$7,5,IF(Input!$D$11=' lists & calculation '!$G$8,6,\"\"))))))","v":""},{"$f":"IF(Input!F52=\"\",\"\",IF(F44=1,Input!F52*1.128,IF(F44=2,Input!F52*0.9,IF(F44=3,Input!F52*1.2,IF(F44=4,Input!F52,IF(F44=5,Input!F52,IF(F44=6,Input!F52*1.333,\"\")))))))","v":""},"",{"$f":"IF('Results Lipids for Bio-diesel'!G42=\"\",\"\",(IF(AND('Results Lipids for Bio-diesel'!G42<=0.2,'Results Lipids for Bio-diesel'!G42>0),0,IF('Results Lipids for Bio-diesel'!G42>=0.4,2,IF(AND('Results Lipids for Bio-diesel'!G42>=0.2,'Results Lipids for Bio-diesel'!G42<=0.4),1,\"\")))))","v":""},{"$f":"IF(AND(Input!H52<=450,Input!H52>0),0,IF(Input!H52>=600,2,IF(AND(Input!H52>=450,Input!H52<=599),1,\"\")))","v":""},"",null,"","","",""]
[38,{"$f":"IF(Input!B53=\"\",\"\",Input!B53)","v":""},{"$f":"IF(Input!C53=\"\",\"\",Input!C53)","v":""},null,null,{"$f":"IF(Input!$D$11=' lists & calculation '!$G$3,1,IF(Input!$D$11=' lists & calculation '!$G$4,2,IF(Input!$D$11=' lists & calculation '!$G$5,3,IF(Input!$D$11=' lists & calculation '!$G$6,4,IF(Input!$D$11=' lists & calculation '!$G$7,5,IF(Input!$D$11=' lists & calculation '!$G$8,6,\"\"))))))","v":""},{"$f":"IF(Input!F53=\"\",\"\",IF(F45=1,Input!F53*1.128,IF(F45=2,Input!F53*0.9,IF(F45=3,Input!F53*1.2,IF(F45=4,Input!F53,IF(F45=5,Input!F53,IF(F45=6,Input!F53*1.333,\"\")))))))","v":""},"",{"$f":"IF('Results Lipids for Bio-diesel'!G43=\"\",\"\",(IF(AND('Results Lipids for Bio-diesel'!G43<=0.2,'Results Lipids for Bio-diesel'!G43>0),0,IF('Results Lipids for Bio-diesel'!G43>=0.4,2,IF(AND('Results Lipids for Bio-diesel'!G43>=0.2,'Results Lipids for Bio-diesel'!G43<=0.4),1,\"\")))))","v":""},{"$f":"IF(AND(Input!H53<=450,Input!H53>0),0,IF(Input!H53>=600,2,IF(AND(Input!H53>=450,Input!H53<=599),1,\"\")))","v":""},"",null,"","","",""]
[39,{"$f":"IF(Input!B54=\"\",\"\",Input!B54)","v":""},{"$f":"IF(Input!C54=\"\",\"\",Input!C54)","v":""},null,null,{"$f":"IF(Input!$D$11=' lists & calculation '!$G$3,1,IF(Input!$D$11=' lists & calculation '!$G$4,2,IF(Input!$D$11=' lists & calculation '!$G$5,3,IF(Input!$D$11=' lists & calculation '!$G$6,4,IF(Input!$D$11=' lists & calculation '!$G$7,5,IF(Input!$D$11=' lists & calculation '!$G$8,6,\"\"))))))","v":""},{"$f":"IF(Input!F54=\"\",\"\",IF(F46=1,Input!F54*1.128,IF(F46=2,Input!F54*0.9,IF(F46=3,Input!F54*1.2,IF(F46=4,Input!F54,IF(F46=5,Input!F54,IF(F46=6,Input!F54*1.333,\"\")))))))","v":""},"",{"$f":"IF('Results Lipids for Bio-diesel'!G44=\"\",\"\",(IF(AND('Results Lipids for Bio-diesel'!G44<=0.2,'Results Lipids for Bio-diesel'!G44>0),0,IF('Results Lipids for Bio-diesel'!G44>=0.4,2,IF(AND('Results Lipids for Bio-diesel'!G44>=0.2,'Results Lipids for Bio-diesel'!G44<=0.4),1,\"\")))))","v":""},{"$f":"IF(AND(Input!H54<=450,Input!H54>0),0,IF(Input!H54>=600,2,IF(AND(Input!H54>=450,Input!H54<=599),1,\"\")))","v":""},"",null,"","","",""]
[40,{"$f":"IF(Input!B55=\"\",\"\",Input!B55)","v":""},{"$f":"IF(Input!C55=\"\",\"\",Input!C55)","v":""},null,null,{"$f":"IF(Input!$D$11=' lists & calculation '!$G$3,1,IF(Input!$D$11=' lists & calculation '!$G$4,2,IF(Input!$D$11=' lists & calculation '!$G$5,3,IF(Input!$D$11=' lists & calculation '!$G$6,4,IF(Input!$D$11=' lists & calculation '!$G$7,5,IF(Input!$D$11=' lists & calculation '!$G$8,6,\"\"))))))","v":""},{"$f":"IF(Input!F55=\"\",\"\",IF(F47=1,Input!F55*1.128,IF(F47=2,Input!F55*0.9,IF(F47=3,Input!F55*1.2,IF(F47=4,Input!F55,IF(F47=5,Input!F55,IF(F47=6,Input!F55*1.333,\"\")))))))","v":""},"",{"$f":"IF('Results Lipids for Bio-diesel'!G45=\"\",\"\",(IF(AND('Results Lipids for Bio-diesel'!G45<=0.2,'Results Lipids for Bio-diesel'!G45>0),0,IF('Results Lipids for Bio-diesel'!G45>=0.4,2,IF(AND('Results Lipids for Bio-diesel'!G45>=0.2,'Results Lipids for Bio-diesel'!G45<=0.4),1,\"\")))))","v":""},{"$f":"IF(AND(Input!H55<=450,Input!H55>0),0,IF(Input!H55>=600,2,IF(AND(Input!H55>=450,Input!H55<=599),1,\"\")))","v":""},"",null,"","","",""]
[41,{"$f":"IF(Input!B56=\"\",\"\",Input!B56)","v":""},{"$f":"IF(Input!C56=\"\",\"\",Input!C56)","v":""},null,null,{"$f":"IF(Input!$D$11=' lists & calculation '!$G$3,1,IF(Input!$D$11=' lists & calculation '!$G$4,2,IF(Input!$D$11=' lists & calculation '!$G$5,3,IF(Input!$D$11=' lists & calculation '!$G$6,4,IF(Input!$D$11=' lists & calculation '!$G$7,5,IF(Input!$D$11=' lists & calculation '!$G$8,6,\"\"))))))","v":""},{"$f":"IF(Input!F56=\"\",\"\",IF(F48=1,Input!F56*1.128,IF(F48=2,Input!F56*0.9,IF(F48=3,Input!F56*1.2,IF(F48=4,Input!F56,IF(F48=5,Input!F56,IF(F48=6,Input!F56*1.333,\"\")))))))","v":""},"",{"$f":"IF('Results Lipids for Bio-diesel'!G46=\"\",\"\",(IF(AND('Results Lipids for Bio-diesel'!G46<=0.2,'Results Lipids for Bio-diesel'!G46>0),0,IF('Results Lipids for Bio-diesel'!G46>=0.4,2,IF(AND('Results Lipids for Bio-diesel'!G46>=0.2,'Results Lipids for Bio-diesel'!G46<=0.4),1,\"\")))))","v":""},{"$f":"IF(AND(Input!H56<=450,Input!H56>0),0,IF(Input!H56>=600,2,IF(AND(Input!H56>=450,Input!H56<=599),1,\"\")))","v":""},"",null,"","","",""]
[42,{"$f":"IF(Input!B57=\"\",\"\",Input!B57)","v":""},{"$f":"IF(Input!C57=\"\",\"\",Input!C57)","v":""},null,null,{"$f":"IF(Input!$D$11=' lists & calculation '!$G$3,1,IF(Input!$D$11=' lists & calculation '!$G$4,2,IF(Input!$D$11=' lists & calculation '!$G$5,3,IF(Input!$D$11=' lists & calculation '!$G$6,4,IF(Input!$D$11=' lists & calculation '!$G$7,5,IF(Input!$D$11=' lists & calculation '!$G$8,6,\"\"))))))","v":""},{"$f":"IF(Input!F57=\"\",\"\",IF(F49=1,Input!F57*1.128,IF(F49=2,Input!F57*0.9,IF(F49=3,Input!F57*1.2,IF(F49=4,Input!F57,IF(F49=5,Input!F57,IF(F49=6,Input!F57*1.333,\"\")))))))","v":""},"",{"$f":"IF('Results Lipids for Bio-diesel'!G47=\"\",\"\",(IF(AND('Results Lipids for Bio-diesel'!G47<=0.2,'Results Lipids for Bio-diesel'!G47>0),0,IF('Results Lipids for Bio-diesel'!G47>=0.4,2,IF(AND('Results Lipids for Bio-diesel'!G47>=0.2,'Results Lipids for Bio-diesel'!G47<=0.4),1,\"\")))))","v":""},{"$f":"IF(AND(Input!H57<=450,Input!H57>0),0,IF(Input!H57>=600,2,IF(AND(Input!H57>=450,Input!H57<=599),1,\"\")))","v":""},"",null,"","","",""]
[43,{"$f":"IF(Input!B58=\"\",\"\",Input!B58)","v":""},{"$f":"IF(Input!C58=\"\",\"\",Input!C58)","v":""},null,null,{"$f":"IF(Input!$D$11=' lists & calculation '!$G$3,1,IF(Input!$D$11=' lists & calculation '!$G$4,2,IF(Input!$D$11=' lists & calculation '!$G$5,3,IF(Input!$D$11=' lists & calculation '!$G$6,4,IF(Input!$D$11=' lists & calculation '!$G$7,5,IF(Input!$D$11=' lists & calculation '!$G$8,6,\"\"))))))","v":""},{"$f":"IF(Input!F58=\"\",\"\",IF(F50=1,Input!F58*1.128,IF(F50=2,Input!F58*0.9,IF(F50=3,Input!F58*1.2,IF(F50=4,Input!F58,IF(F50=5,Input!F58,IF(F50=6,Input!F58*1.333,\"\")))))))","v":""},"",{"$f":"IF('Results Lipids for Bio-diesel'!G48=\"\",\"\",(IF(AND('Results Lipids for Bio-diesel'!G48<=0.2,'Results Lipids for Bio-diesel'!G48>0),0,IF('Results Lipids for Bio-diesel'!G48>=0.4,2,IF(AND('Results Lipids for Bio-diesel'!G48>=0.2,'Results Lipids for Bio-diesel'!G48<=0.4),1,\"\")))))","v":""},{"$f":"IF(AND(Input!H58<=450,Input!H58>0),0,IF(Input!H58>=600,2,IF(AND(Input!H58>=450,Input!H58<=599),1,\"\")))","v":""},"",null,"","","",""]
[44,{"$f":"IF(Input!B59=\"\",\"\",Input!B59)","v":""},{"$f":"IF(Input!C59=\"\",\"\",Input!C59)","v":""},null,null,{"$f":"IF(Input!$D$11=' lists & calculation '!$G$3,1,IF(Input!$D$11=' lists & calculation '!$G$4,2,IF(Input!$D$11=' lists & calculation '!$G$5,3,IF(Input!$D$11=' lists & calculation '!$G$6,4,IF(Input!$D$11=' lists & calculation '!$G$7,5,IF(Input!$D$11=' lists & calculation '!$G$8,6,\"\"))))))","v":""},{"$f":"IF(Input!F59=\"\",\"\",IF(F51=1,Input!F59*1.128,IF(F51=2,Input!F59*0.9,IF(F51=3,Input!F59*1.2,IF(F51=4,Input!F59,IF(F51=5,Input!F59,IF(F51=6,Input!F59*1.333,\"\")))))))","v":""},"",{"$f":"IF('Results Lipids for Bio-diesel'!G49=\"\",\"\",(IF(AND('Results Lipids for Bio-diesel'!G49<=0.2,'Results Lipids for Bio-diesel'!G49>0),0,IF('Results Lipids for Bio-diesel'!G49>=0.4,2,IF(AND('Results Lipids for Bio-diesel'!G49>=0.2,'Results Lipids for Bio-diesel'!G49<=0.4),1,\"\")))))","v":""},{"$f":"IF(AND(Input!H59<=450,Input!H59>0),0,IF(Input!H59>=600,2,IF(AND(Input!H59>=450,Input!H59<=599),1,\"\")))","v":""},"",null,"","","",""]
[45,{"$f":"IF(Input!B60=\"\",\"\",Input!B60)","v":""},{"$f":"IF(Input!C60=\"\",\"\",Input!C60)","v":""},null,null,{"$f":"IF(Input!$D$11=' lists & calculation '!$G$3,1,IF(Input!$D$11=' lists & calculation '!$G$4,2,IF(Input!$D$11=' lists & calculation '!$G$5,3,IF(Input!$D$11=' lists & calculation '!$G$6,4,IF(Input!$D$11=' lists & calculation '!$G$7,5,IF(Input!$D$11=' lists & calculation '!$G$8,6,\"\"))))))","v":""},{"$f":"IF(Input!F60=\"\",\"\",IF(F52=1,Input!F60*1.128,IF(F52=2,Input!F60*0.9,IF(F52=3,Input!F60*1.2,IF(F52=4,Input!F60,IF(F52=5,Input!F60,IF(F52=6,Input!F60*1.333,\"\")))))))","v":""},"",{"$f":"IF('Results Lipids for Bio-diesel'!G50=\"\",\"\",(IF(AND('Results Lipids for Bio-diesel'!G50<=0.2,'Results Lipids for Bio-diesel'!G50>0),0,IF('Results Lipids for Bio-diesel'!G50>=0.4,2,IF(AND('Results Lipids for Bio-diesel'!G50>=0.2,'Results Lipids for Bio-diesel'!G50<=0.4),1,\"\")))))","v":""},{"$f":"IF(AND(Input!H60<=450,Input!H60>0),0,IF(Input!H60>=600,2,IF(AND(Input!H60>=450,Input!H60<=599),1,\"\")))","v":""},"",null,"","","",""]
[46,{"$f":"IF(Input!B61=\"\",\"\",Input!B61)","v":""},{"$f":"IF(Input!C61=\"\",\"\",Input!C61)","v":""},null,null,{"$f":"IF(Input!$D$11=' lists & calculation '!$G$3,1,IF(Input!$D$11=' lists & calculation '!$G$4,2,IF(Input!$D$11=' lists & calculation '!$G$5,3,IF(Input!$D$11=' lists & calculation '!$G$6,4,IF(Input!$D$11=' lists & calculation '!$G$7,5,IF(Input!$D$11=' lists & calculation '!$G$8,6,\"\"))))))","v":""},{"$f":"IF(Input!F61=\"\",\"\",IF(F53=1,Input!F61*1.128,IF(F53=2,Input!F61*0.9,IF(F53=3,Input!F61*1.2,IF(F53=4,Input!F61,IF(F53=5,Input!F61,IF(F53=6,Input!F61*1.333,\"\")))))))","v":""},"",{"$f":"IF('Results Lipids for Bio-diesel'!G51=\"\",\"\",(IF(AND('Results Lipids for Bio-diesel'!G51<=0.2,'Results Lipids for Bio-diesel'!G51>0),0,IF('Results Lipids for Bio-diesel'!G51>=0.4,2,IF(AND('Results Lipids for Bio-diesel'!G51>=0.2,'Results Lipids for Bio-diesel'!G51<=0.4),1,\"\")))))","v":""},{"$f":"IF(AND(Input!H61<=450,Input!H61>0),0,IF(Input!H61>=600,2,IF(AND(Input!H61>=450,Input!H61<=599),1,\"\")))","v":""},"",null,"","","",""]
[47,{"$f":"IF(Input!B62=\"\",\"\",Input!B62)","v":""},{"$f":"IF(Input!C62=\"\",\"\",Input!C62)","v":""},null,null,{"$f":"IF(Input!$D$11=' lists & calculation '!$G$3,1,IF(Input!$D$11=' lists & calculation '!$G$4,2,IF(Input!$D$11=' lists & calculation '!$G$5,3,IF(Input!$D$11=' lists & calculation '!$G$6,4,IF(Input!$D$11=' lists & calculation '!$G$7,5,IF(Input!$D$11=' lists & calculation '!$G$8,6,\"\"))))))","v":""},{"$f":"IF(Input!F62=\"\",\"\",IF(F54=1,Input!F62*1.128,IF(F54=2,Input!F62*0.9,IF(F54=3,Input!F62*1.2,IF(F54=4,Input!F62,IF(F54=5,Input!F62,IF(F54=6,Input!F62*1.333,\"\")))))))","v":""},"",{"$f":"IF('Results Lipids for Bio-diesel'!G52=\"\",\"\",(IF(AND('Results Lipids for Bio-diesel'!G52<=0.2,'Results Lipids for Bio-diesel'!G52>0),0,IF('Results Lipids for Bio-diesel'!G52>=0.4,2,IF(AND('Results Lipids for Bio-diesel'!G52>=0.2,'Results Lipids for Bio-diesel'!G52<=0.4),1,\"\")))))","v":""},{"$f":"IF(AND(Input!H62<=450,Input!H62>0),0,IF(Input!H62>=600,2,IF(AND(Input!H62>=450,Input!H62<=599),1,\"\")))","v":""},"",null,"","","",""]
[48,{"$f":"IF(Input!B63=\"\",\"\",Input!B63)","v":""},{"$f":"IF(Input!C63=\"\",\"\",Input!C63)","v":""},null,null,{"$f":"IF(Input!$D$11=' lists & calculation '!$G$3,1,IF(Input!$D$11=' lists & calculation '!$G$4,2,IF(Input!$D$11=' lists & calculation '!$G$5,3,IF(Input!$D$11=' lists & calculation '!$G$6,4,IF(Input!$D$11=' lists & calculation '!$G$7,5,IF(Input!$D$11=' lists & calculation '!$G$8,6,\"\"))))))","v":""},{"$f":"IF(Input!F63=\"\",\"\",IF(F55=1,Input!F63*1.128,IF(F55=2,Input!F63*0.9,IF(F55=3,Input!F63*1.2,IF(F55=4,Input!F63,IF(F55=5,Input!F63,IF(F55=6,Input!F63*1.333,\"\")))))))","v":""},"",{"$f":"IF('Results Lipids for Bio-diesel'!G53=\"\",\"\",(IF(AND('Results Lipids for Bio-diesel'!G53<=0.2,'Results Lipids for Bio-diesel'!G53>0),0,IF('Results Lipids for Bio-diesel'!G53>=0.4,2,IF(AND('Results Lipids for Bio-diesel'!G53>=0.2,'Results Lipids for Bio-diesel'!G53<=0.4),1,\"\")))))","v":""},{"$f":"IF(AND(Input!H63<=450,Input!H63>0),0,IF(Input!H63>=600,2,IF(AND(Input!H63>=450,Input!H63<=599),1,\"\")))","v":""},"",null,"","","",""]
[49,{"$f":"IF(Input!B64=\"\",\"\",Input!B64)","v":""},{"$f":"IF(Input!C64=\"\",\"\",Input!C64)","v":""},null,null,{"$f":"IF(Input!$D$11=' lists & calculation '!$G$3,1,IF(Input!$D$11=' lists & calculation '!$G$4,2,IF(Input!$D$11=' lists & calculation '!$G$5,3,IF(Input!$D$11=' lists & calculation '!$G$6,4,IF(Input!$D$11=' lists & calculation '!$G$7,5,IF(Input!$D$11=' lists & calculation '!$G$8,6,\"\"))))))","v":""},{"$f":"IF(Input!F64=\"\",\"\",IF(F56=1,Input!F64*1.128,IF(F56=2,Input!F64*0.9,IF(F56=3,Input!F64*1.2,IF(F56=4,Input!F64,IF(F56=5,Input!F64,IF(F56=6,Input!F64*1.333,\"\")))))))","v":""},"",{"$f":"IF('Results Lipids for Bio-diesel'!G54=\"\",\"\",(IF(AND('Results Lipids for Bio-diesel'!G54<=0.2,'Results Lipids for Bio-diesel'!G54>0),0,IF('Results Lipids for Bio-diesel'!G54>=0.4,2,IF(AND('Results Lipids for Bio-diesel'!G54>=0.2,'Results Lipids for Bio-diesel'!G54<=0.4),1,\"\")))))","v":""},{"$f":"IF(AND(Input!H64<=450,Input!H64>0),0,IF(Input!H64>=600,2,IF(AND(Input!H64>=450,Input!H64<=599),1,\"\")))","v":""},"",null,"","","",""]
[50,{"$f":"IF(Input!B65=\"\",\"\",Input!B65)","v":""},{"$f":"IF(Input!C65=\"\",\"\",Input!C65)","v":""},null,null,{"$f":"IF(Input!$D$11=' lists & calculation '!$G$3,1,IF(Input!$D$11=' lists & calculation '!$G$4,2,IF(Input!$D$11=' lists & calculation '!$G$5,3,IF(Input!$D$11=' lists & calculation '!$G$6,4,IF(Input!$D$11=' lists & calculation '!$G$7,5,IF(Input!$D$11=' lists & calculation '!$G$8,6,\"\"))))))","v":""},{"$f":"IF(Input!F65=\"\",\"\",IF(F57=1,Input!F65*1.128,IF(F57=2,Input!F65*0.9,IF(F57=3,Input!F65*1.2,IF(F57=4,Input!F65,IF(F57=5,Input!F65,IF(F57=6,Input!F65*1.333,\"\")))))))","v":""},"",{"$f":"IF('Results Lipids for Bio-diesel'!G55=\"\",\"\",(IF(AND('Results Lipids for Bio-diesel'!G55<=0.2,'Results Lipids for Bio-diesel'!G55>0),0,IF('Results Lipids for Bio-diesel'!G55>=0.4,2,IF(AND('Results Lipids for Bio-diesel'!G55>=0.2,'Results Lipids for Bio-diesel'!G55<=0.4),1,\"\")))))","v":""},{"$f":"IF(AND(Input!H65<=450,Input!H65>0),0,IF(Input!H65>=600,2,IF(AND(Input!H65>=450,Input!H65<=599),1,\"\")))","v":""},{"$f":"IF(OR(J57=\"\",H57=\"\",I57=\"\"),\"\",IF(M57=TRUE,2,(IF(O57=TRUE,1,0))))","v":""},null,"","","",""]

{"sheet":"factsheet Lipids for Bio-diesel","index":9,"n_rows":30,"n_cols":3,"rows_kept":30,"cut":false,"hidden":false,"merged":[[43,7,43,8],[44,7,44,8],[45,7,45,8],[46,7,46,8],[47,7,47,8],[37,7,37,8],[38,7,38,8],[40,6,40,8],[41,7,41,8],[42,7,42,8],[32,7,32,8],[33,7,33,8],[34,7,34,8],[35,7,35,8],[36,7,36,8],[8,1,8,3],[13,1,13,3],[17,1,17,3],[21,1,21,3],[31,6,31,8],[20,1,20,2],[26,1,26,2],[27,1,27,2],[16,1,16,2],[15,1,15,2]]}
[null,"LIPID ACCUMULATION IN MICROTHRIX TO PRODUCE (BIO)DIESEL"]
[]
[null,"Possible effects on other processes of sewage treatment plant"]
[]
[null,null,"implementation of lipid accumulation in Microthrix has no impact on this process"]
[null,null,"implementation of lipid accumulation in Microthrix POSSIBLY has an effect on this process"]
[null,null,"implementation of lipid accumulation in Microthrix has an effect on this process"]
[]
[null,"Nutrient and/or organic carbon removal"]
[null,"Aerobic secondary treatment"]
[null,"Anammox"]
[null,"Nereda"]
[null,"Coagulation / flocculation"]
[null,"Energy production"]
[null,"Anaerobic digestion of primary & secondary sludge to methane"]
[null,"Heat or electricity from cellulose"]
[null,"Gasification of sewage sludge to syngas"]
[null,"Nutrient recovery"]
[null,"Struvite  from waste water (Anphos)"]
[null,"Phosphorus from sewage sludge (EuPhore, TetraPhos, PULSE, Struvia, RecoPhos, Airprex, Pearl)"]
[null,"Phosphorus from sewage water (FiltraPHOS)"]
[null,"Other recovery processes"]
[null,"Lemna growth (eg. to feed or protein)"]
[null,"(micro) Algae growth (eg. to feed or protein)"]
[null,"PHA production"]
[null,"Pyrolysis of cellulose to produce oil, (bio)char & acetic acid"]
[null,"Kaumera (biopolymer from Nereda process)"]
[null,"Direct use of sludge as fertilizer (ROUTES)"]
[]
[null,"Additional information on technique"]

{"sheet":"Results Oil-Char-Acetic acid","index":10,"n_rows":55,"n_cols":12,"rows_kept":55,"cut":false,"hidden":false,"merged":[[27,11,27,28],[28,11,28,28],[25,10,26,10],[23,11,23,28],[24,11,24,28],[25,11,25,28],[26,11,26,28]]}
[]
[null,"DECISION SUPPORT TOOL - RESULTS OIL - CHAR - ACETIC ACID"]
[]
[null,"Name Sewage Treatment Plant","Location","Primary treatment","Percentage sewage from households","Amount of \nPopulation Equivalents","BOD/COD","COD","OVERALL"]
[null,null,null,"yes/no","%","PE","--","mg/l"]
[1,{"$f":"IF(Input!B16=\"\",\"\",Input!B16)","v":""},{"$f":"IF(Input!C16=\"\",\"\",Input!C16)","v":""},null,{"$f":"IF(Input!E16=\"\",\"\",Input!E16)","v":""},{"$f":"IF(Input!F16=\"\",\"\",Input!F16)","v":""}]
[2,{"$f":"IF(Input!B17=\"\",\"\",Input!B17)","v":""},{"$f":"IF(Input!C17=\"\",\"\",Input!C17)","v":""},null,{"$f":"IF(Input!E17=\"\",\"\",Input!E17)","v":""},{"$f":"IF(Input!F17=\"\",\"\",Input!F17)","v":""}]
[3,{"$f":"IF(Input!B18=\"\",\"\",Input!B18)","v":""},{"$f":"IF(Input!C18=\"\",\"\",Input!C18)","v":""},null,{"$f":"IF(Input!E18=\"\",\"\",Input!E18)","v":""},{"$f":"IF(Input!F18=\"\",\"\",Input!F18)","v":""}]
[4,{"$f":"IF(Input!B19=\"\",\"\",Input!B19)","v":""},{"$f":"IF(Input!C19=\"\",\"\",Input!C19)","v":""},null,{"$f":"IF(Input!E19=\"\",\"\",Input!E19)","v":""},{"$f":"IF(Input!F19=\"\",\"\",Input!F19)","v":""}]
[5,{"$f":"IF(Input!B20=\"\",\"\",Input!B20)","v":""},{"$f":"IF(Input!C20=\"\",\"\",Input!C20)","v":""},null,{"$f":"IF(Input!E20=\"\",\"\",Input!E20)","v":""},{"$f":"IF(Input!F20=\"\",\"\",Input!F20)","v":""}]
[6,{"$f":"IF(Input!B21=\"\",\"\",Input!B21)","v":""},{"$f":"IF(Input!C21=\"\",\"\",Input!C21)","v":""},null,{"$f":"IF(Input!E21=\"\",\"\",Input!E21)","v":""},{"$f":"IF(Input!F21=\"\",\"\",Input!F21)","v":""}]
[7,{"$f":"IF(Input!B22=\"\",\"\",Input!B22)","v":""},{"$f":"IF(Input!C22=\"\",\"\",Input!C22)","v":""},null,{"$f":"IF(Input!E22=\"\",\"\",Input!E22)","v":""},{"$f":"IF(Input!F22=\"\",\"\",Input!F22)","v":""}]
[8,{"$f":"IF(Input!B23=\"\",\"\",Input!B23)","v":""},{"$f":"IF(Input!C23=\"\",\"\",Input!C23)","v":""},null,{"$f":"IF(Input!E23=\"\",\"\",Input!E23)","v":""},{"$f":"IF(Input!F23=\"\",\"\",Input!F23)","v":""}]
[9,{"$f":"IF(Input!B24=\"\",\"\",Input!B24)","v":""},{"$f":"IF(Input!C24=\"\",\"\",Input!C24)","v":""},null,{"$f":"IF(Input!E24=\"\",\"\",Input!E24)","v":""},{"$f":"IF(Input!F24=\"\",\"\",Input!F24)","v":""}]
[10,{"$f":"IF(Input!B25=\"\",\"\",Input!B25)","v":""},{"$f":"IF(Input!C25=\"\",\"\",Input!C25)","v":""},null,{"$f":"IF(Input!E25=\"\",\"\",Input!E25)","v":""},{"$f":"IF(Input!F25=\"\",\"\",Input!F25)","v":""}]
[11,{"$f":"IF(Input!B26=\"\",\"\",Input!B26)","v":""},{"$f":"IF(Input!C26=\"\",\"\",Input!C26)","v":""},null,{"$f":"IF(Input!E26=\"\",\"\",Input!E26)","v":""},{"$f":"IF(Input!F26=\"\",\"\",Input!F26)","v":""}]
[12,{"$f":"IF(Input!B27=\"\",\"\",Input!B27)","v":""},{"$f":"IF(Input!C27=\"\",\"\",Input!C27)","v":""},null,{"$f":"IF(Input!E27=\"\",\"\",Input!E27)","v":""},{"$f":"IF(Input!F27=\"\",\"\",Input!F27)","v":""}]
[13,{"$f":"IF(Input!B28=\"\",\"\",Input!B28)","v":""},{"$f":"IF(Input!C28=\"\",\"\",Input!C28)","v":""},null,{"$f":"IF(Input!E28=\"\",\"\",Input!E28)","v":""},{"$f":"IF(Input!F28=\"\",\"\",Input!F28)","v":""}]
[14,{"$f":"IF(Input!B29=\"\",\"\",Input!B29)","v":""},{"$f":"IF(Input!C29=\"\",\"\",Input!C29)","v":""},null,{"$f":"IF(Input!E29=\"\",\"\",Input!E29)","v":""},{"$f":"IF(Input!F29=\"\",\"\",Input!F29)","v":""}]
[15,{"$f":"IF(Input!B30=\"\",\"\",Input!B30)","v":""},{"$f":"IF(Input!C30=\"\",\"\",Input!C30)","v":""},null,{"$f":"IF(Input!E30=\"\",\"\",Input!E30)","v":""},{"$f":"IF(Input!F30=\"\",\"\",Input!F30)","v":""}]
[16,{"$f":"IF(Input!B31=\"\",\"\",Input!B31)","v":""},{"$f":"IF(Input!C31=\"\",\"\",Input!C31)","v":""},null,{"$f":"IF(Input!E31=\"\",\"\",Input!E31)","v":""},{"$f":"IF(Input!F31=\"\",\"\",Input!F31)","v":""}]
[17,{"$f":"IF(Input!B32=\"\",\"\",Input!B32)","v":""},{"$f":"IF(Input!C32=\"\",\"\",Input!C32)","v":""},null,{"$f":"IF(Input!E32=\"\",\"\",Input!E32)","v":""},{"$f":"IF(Input!F32=\"\",\"\",Input!F32)","v":""}]
[18,{"$f":"IF(Input!B33=\"\",\"\",Input!B33)","v":""},{"$f":"IF(Input!C33=\"\",\"\",Input!C33)","v":""},null,{"$f":"IF(Input!E33=\"\",\"\",Input!E33)","v":""},{"$f":"IF(Input!F33=\"\",\"\",Input!F33)","v":""}]
[19,{"$f":"IF(Input!B34=\"\",\"\",Input!B34)","v":""},{"$f":"IF(Input!C34=\"\",\"\",Input!C34)","v":""},null,{"$f":"IF(Input!E34=\"\",\"\",Input!E34)","v":""},{"$f":"IF(Input!F34=\"\",\"\",Input!F34)","v":""},null,null,null,null,null,"Input of information indicates that the input stream of the sewage treatment plant is promising for this technique"]
[20,{"$f":"IF(Input!B35=\"\",\"\",Input!B35)","v":""},{"$f":"IF(Input!C35=\"\",\"\",Input!C35)","v":""},null,{"$f":"IF(Input!E35=\"\",\"\",Input!E35)","v":""},{"$f":"IF(Input!F35=\"\",\"\",Input!F35)","v":""},null,null,null,null,null,"Based on the given input it is not yet clear if the input stream of the sewage treatment plant is suitable for this technique.  A more detailed consideration is needed."]
[21,{"$f":"IF(Input!B36=\"\",\"\",Input!B36)","v":""},{"$f":"IF(Input!C36=\"\",\"\",Input!C36)","v":""},null,{"$f":"IF(Input!E36=\"\",\"\",Input!E36)","v":""},{"$f":"IF(Input!F36=\"\",\"\",Input!F36)","v":""},null,null,null,null,null,"The composition of the input stream of the sewage treatment plant indicates that implementation of this technique at this sewage treatment plant only is probably NOT feasible."]
[22,{"$f":"IF(Input!B37=\"\",\"\",Input!B37)","v":""},{"$f":"IF(Input!C37=\"\",\"\",Input!C37)","v":""},null,{"$f":"IF(Input!E37=\"\",\"\",Input!E37)","v":""},{"$f":"IF(Input!F37=\"\",\"\",Input!F37)","v":""},null,null,null,null,null,"(NOTE: other aspects such as combined implementation of the technique at several STPs or desire to reduce organic load of STP could make technique feasible, see factsheets for more information)"]
[23,{"$f":"IF(Input!B38=\"\",\"\",Input!B38)","v":""},{"$f":"IF(Input!C38=\"\",\"\",Input!C38)","v":""},null,{"$f":"IF(Input!E38=\"\",\"\",Input!E38)","v":""},{"$f":"IF(Input!F38=\"\",\"\",Input!F38)","v":""},null,null,null,null,null,"Not all necessary input parameters are filled in in the 'Input' tab. The result cannot be determined."]
[24,{"$f":"IF(Input!B39=\"\",\"\",Input!B39)","v":""},{"$f":"IF(Input!C39=\"\",\"\",Input!C39)","v":""},null,{"$f":"IF(Input!E39=\"\",\"\",Input!E39)","v":""},{"$f":"IF(Input!F39=\"\",\"\",Input!F39)","v":""},null,null,null,null,null,"Parameter not relevant for this application, see manual for an explanation"]
[25,{"$f":"IF(Input!B40=\"\",\"\",Input!B40)","v":""},{"$f":"IF(Input!C40=\"\",\"\",Input!C40)","v":""},null,{"$f":"IF(Input!E40=\"\",\"\",Input!E40)","v":""},{"$f":"IF(Input!F40=\"\",\"\",Input!F40)","v":""}]
[26,{"$f":"IF(Input!B41=\"\",\"\",Input!B41)","v":""},{"$f":"IF(Input!C41=\"\",\"\",Input!C41)","v":""},null,{"$f":"IF(Input!E41=\"\",\"\",Input!E41)","v":""},{"$f":"IF(Input!F41=\"\",\"\",Input!F41)","v":""}]
[27,{"$f":"IF(Input!B42=\"\",\"\",Input!B42)","v":""},{"$f":"IF(Input!C42=\"\",\"\",Input!C42)","v":""},null,{"$f":"IF(Input!E42=\"\",\"\",Input!E42)","v":""},{"$f":"IF(Input!F42=\"\",\"\",Input!F42)","v":""}]
[28,{"$f":"IF(Input!B43=\"\",\"\",Input!B43)","v":""},{"$f":"IF(Input!C43=\"\",\"\",Input!C43)","v":""},null,{"$f":"IF(Input!E43=\"\",\"\",Input!E43)","v":""},{"$f":"IF(Input!F43=\"\",\"\",Input!F43)","v":""}]
[29,{"$f":"IF(Input!B44=\"\",\"\",Input!B44)","v":""},{"$f":"IF(Input!C44=\"\",\"\",Input!C44)","v":""},null,{"$f":"IF(Input!E44=\"\",\"\",Input!E44)","v":""},{"$f":"IF(Input!F44=\"\",\"\",Input!F44)","v":""}]
[30,{"$f":"IF(Input!B45=\"\",\"\",Input!B45)","v":""},{"$f":"IF(Input!C45=\"\",\"\",Input!C45)","v":""},null,{"$f":"IF(Input!E45=\"\",\"\",Input!E45)","v":""},{"$f":"IF(Input!F45=\"\",\"\",Input!F45)","v":""}]
[31,{"$f":"IF(Input!B46=\"\",\"\",Input!B46)","v":""},{"$f":"IF(Input!C46=\"\",\"\",Input!C46)","v":""},null,{"$f":"IF(Input!E46=\"\",\"\",Input!E46)","v":""},{"$f":"IF(Input!F46=\"\",\"\",Input!F46)","v":""}]
[32,{"$f":"IF(Input!B47=\"\",\"\",Input!B47)","v":""},{"$f":"IF(Input!C47=\"\",\"\",Input!C47)","v":""},null,{"$f":"IF(Input!E47=\"\",\"\",Input!E47)","v":""},{"$f":"IF(Input!F47=\"\",\"\",Input!F47)","v":""}]
[33,{"$f":"IF(Input!B48=\"\",\"\",Input!B48)","v":""},{"$f":"IF(Input!C48=\"\",\"\",Input!C48)","v":""},null,{"$f":"IF(Input!E48=\"\",\"\",Input!E48)","v":""},{"$f":"IF(Input!F48=\"\",\"\",Input!F48)","v":""}]
[34,{"$f":"IF(Input!B49=\"\",\"\",Input!B49)","v":""},{"$f":"IF(Input!C49=\"\",\"\",Input!C49)","v":""},null,{"$f":"IF(Input!E49=\"\",\"\",Input!E49)","v":""},{"$f":"IF(Input!F49=\"\",\"\",Input!F49)","v":""}]
[35,{"$f":"IF(Input!B50=\"\",\"\",Input!B50)","v":""},{"$f":"IF(Input!C50=\"\",\"\",Input!C50)","v":""},null,{"$f":"IF(Input!E50=\"\",\"\",Input!E50)","v":""},{"$f":"IF(Input!F50=\"\",\"\",Input!F50)","v":""}]
[36,{"$f":"IF(Input!B51=\"\",\"\",Input!B51)","v":""},{"$f":"IF(Input!C51=\"\",\"\",Input!C51)","v":""},null,{"$f":"IF(Input!E51=\"\",\"\",Input!E51)","v":""},{"$f":"IF(Input!F51=\"\",\"\",Input!F51)","v":""}]
[37,{"$f":"IF(Input!B52=\"\",\"\",Input!B52)","v":""},{"$f":"IF(Input!C52=\"\",\"\",Input!C52)","v":""},null,{"$f":"IF(Input!E52=\"\",\"\",Input!E52)","v":""},{"$f":"IF(Input!F52=\"\",\"\",Input!F52)","v":""}]
[38,{"$f":"IF(Input!B53=\"\",\"\",Input!B53)","v":""},{"$f":"IF(Input!C53=\"\",\"\",Input!C53)","v":""},null,{"$f":"IF(Input!E53=\"\",\"\",Input!E53)","v":""},{"$f":"IF(Input!F53=\"\",\"\",Input!F53)","v":""}]
[39,{"$f":"IF(Input!B54=\"\",\"\",Input!B54)","v":""},{"$f":"IF(Input!C54=\"\",\"\",Input!C54)","v":""},null,{"$f":"IF(Input!E54=\"\",\"\",Input!E54)","v":""},{"$f":"IF(Input!F54=\"\",\"\",Input!F54)","v":""}]
[40,{"$f":"IF(Input!B55=\"\",\"\",Input!B55)","v":""},{"$f":"IF(Input!C55=\"\",\"\",Input!C55)","v":""},null,{"$f":"IF(Input!E55=\"\",\"\",Input!E55)","v":""},{"$f":"IF(Input!F55=\"\",\"\",Input!F55)","v":""}]
[41,{"$f":"IF(Input!B56=\"\",\"\",Input!B56)","v":""},{"$f":"IF(Input!C56=\"\",\"\",Input!C56)","v":""},null,{"$f":"IF(Input!E56=\"\",\"\",Input!E56)","v":""},{"$f":"IF(Input!F56=\"\",\"\",Input!F56)","v":""}]
[42,{"$f":"IF(Input!B57=\"\",\"\",Input!B57)","v":""},{"$f":"IF(Input!C57=\"\",\"\",Input!C57)","v":""},null,{"$f":"IF(Input!E57=\"\",\"\",Input!E57)","v":""},{"$f":"IF(Input!F57=\"\",\"\",Input!F57)","v":""}]
[43,{"$f":"IF(Input!B58=\"\",\"\",Input!B58)","v":""},{"$f":"IF(Input!C58=\"\",\"\",Input!C58)","v":""},null,{"$f":"IF(Input!E58=\"\",\"\",Input!E58)","v":""},{"$f":"IF(Input!F58=\"\",\"\",Input!F58)","v":""}]
[44,{"$f":"IF(Input!B59=\"\",\"\",Input!B59)","v":""},{"$f":"IF(Input!C59=\"\",\"\",Input!C59)","v":""},null,{"$f":"IF(Input!E59=\"\",\"\",Input!E59)","v":""},{"$f":"IF(Input!F59=\"\",\"\",Input!F59)","v":""}]
[45,{"$f":"IF(Input!B60=\"\",\"\",Input!B60)","v":""},{"$f":"IF(Input!C60=\"\",\"\",Input!C60)","v":""},null,{"$f":"IF(Input!E60=\"\",\"\",Input!E60)","v":""},{"$f":"IF(Input!F60=\"\",\"\",Input!F60)","v":""}]
[46,{"$f":"IF(Input!B61=\"\",\"\",Input!B61)","v":""},{"$f":"IF(Input!C61=\"\",\"\",Input!C61)","v":""},null,{"$f":"IF(Input!E61=\"\",\"\",Input!E61)","v":""},{"$f":"IF(Input!F61=\"\",\"\",Input!F61)","v":""}]
[47,{"$f":"IF(Input!B62=\"\",\"\",Input!B62)","v":""},{"$f":"IF(Input!C62=\"\",\"\",Input!C62)","v":""},null,{"$f":"IF(Input!E62=\"\",\"\",Input!E62)","v":""},{"$f":"IF(Input!F62=\"\",\"\",Input!F62)","v":""}]
[48,{"$f":"IF(Input!B63=\"\",\"\",Input!B63)","v":""},{"$f":"IF(Input!C63=\"\",\"\",Input!C63)","v":""},null,{"$f":"IF(Input!E63=\"\",\"\",Input!E63)","v":""},{"$f":"IF(Input!F63=\"\",\"\",Input!F63)","v":""}]
[49,{"$f":"IF(Input!B64=\"\",\"\",Input!B64)","v":""},{"$f":"IF(Input!C64=\"\",\"\",Input!C64)","v":""},null,{"$f":"IF(Input!E64=\"\",\"\",Input!E64)","v":""},{"$f":"IF(Input!F64=\"\",\"\",Input!F64)","v":""}]
[50,{"$f":"IF(Input!B65=\"\",\"\",Input!B65)","v":""},{"$f":"IF(Input!C65=\"\",\"\",Input!C65)","v":""},null,{"$f":"IF(Input!E65=\"\",\"\",Input!E65)","v":""},{"$f":"IF(Input!F65=\"\",\"\",Input!F65)","v":""}]

{"sheet":"calc results cellulose","index":11,"n_rows":57,"n_cols":26,"rows_kept":57,"cut":false,"hidden":true,"merged":[]}
[]
[null,"DECISION SUPPORT TOOL - calculation sheet Oil-Char-Acetic acid"]
[]
[]
[]
[null,"Name Sewage Treatment Plant","Location","Primary treatment","Percentage sewage from households","calculation PE","calculation PE","Amount of \nPE","PE and %HH combined","PE and %HH translated to 0,1,2","BOD/COD","COD","OVERALL",null,"alles groen","min 1 oranje ","min 1 geel ","overall"]
[null,null,null,"yes/no","%",null,null,"PE",null,null,"--","mg/l"]
[1,{"$f":"IF(Input!B16=\"\",\"\",Input!B16)","v":""},{"$f":"IF(Input!C16=\"\",\"\",Input!C16)","v":""},null,{"$f":"IF(Input!E16=\"<25%\",1,IF(Input!E16=\">50%\",3,IF(Input!E16=\"25-50%\",2,\"\")))","v":""},{"$f":"IF(Input!$D$11=' lists & calculation '!$G$3,1,IF(Input!$D$11=' lists & calculation '!$G$4,2,IF(Input!$D$11=' lists & calculation '!$G$5,3,IF(Input!$D$11=' lists & calculation '!$G$6,4,IF(Input!$D$11=' lists & calculation '!$G$7,5,IF(Input!$D$11=' lists & calculation '!$G$8,6,\"\"))))))","v":""},{"$f":"IF(Input!F16=\"\",\"\",IF(F8=1,Input!F16*1.128,IF(F8=2,Input!F16*0.9,IF(F8=3,Input!F16*1.2,IF(F8=4,Input!F16,IF(F8=5,Input!F16,IF(F8=6,Input!F16*1.333,\"\")))))))","v":""},{"$f":"IF(G8=\"\",\"\",IF(AND(G8<25000,G8>0),1,IF(AND(G8>=25000,G8<50000),2,IF(AND(G8>=50000,G8<100000),3,IF(AND(G8>=100000,G8<150000),4,IF(AND(G8>=150000,G8<300000),5,6))))))","v":""},{"$f":"(IF(OR(E8=\"\",H8=\"\"),\"\",(E8+H8)))","v":""},{"$f":"IF(OR(E8=\"\",H8=\"\"),\"\",IF(I8<5,0,IF(AND(I8=5,E8=1),0,IF(AND(I8=5,E8>1),1,IF(AND(I8=6,E8=1),1,IF(AND(I8=6,E8>1),2,IF(I8>6,2,\"\")))))))","v":""},null,null,{"$f":"J8","v":""},null,{"$f":"IF(J8=\"\",\"\",J8=2)","v":""},{"$f":"IF(J8=\"\",\"\",J8=0)","v":""},{"$f":"IF(J8=\"\",\"\",J8=1)","v":""},{"$f":"IF(AND(H8=\"\",L8=\"\"),\"\",IF(O8=TRUE,2,(IF(Q8=TRUE,1,0))))","v":""}]
[2,{"$f":"IF(Input!B17=\"\",\"\",Input!B17)","v":""},{"$f":"IF(Input!C17=\"\",\"\",Input!C17)","v":""},null,{"$f":"IF(Input!E17=\"<25%\",1,IF(Input!E17=\">50%\",3,IF(Input!E17=\"25-50%\",2,\"\")))","v":""},{"$f":"IF(Input!$D$11=' lists & calculation '!$G$3,1,IF(Input!$D$11=' lists & calculation '!$G$4,2,IF(Input!$D$11=' lists & calculation '!$G$5,3,IF(Input!$D$11=' lists & calculation '!$G$6,4,IF(Input!$D$11=' lists & calculation '!$G$7,5,IF(Input!$D$11=' lists & calculation '!$G$8,6,\"\"))))))","v":""},{"$f":"IF(Input!F17=\"\",\"\",IF(F9=1,Input!F17*1.128,IF(F9=2,Input!F17*0.9,IF(F9=3,Input!F17*1.2,IF(F9=4,Input!F17,IF(F9=5,Input!F17,IF(F9=6,Input!F17*1.333,\"\")))))))","v":""},{"$f":"IF(G9=\"\",\"\",IF(AND(G9<25000,G9>0),1,IF(AND(G9>=25000,G9<50000),2,IF(AND(G9>=50000,G9<100000),3,IF(AND(G9>=100000,G9<150000),4,IF(AND(G9>=150000,G9<300000),5,6))))))","v":""},{"$f":"(IF(OR(E9=\"\",H9=\"\"),\"\",(E9+H9)))","v":""},"",null,null,{"$f":"J9","v":""},null,{"$f":"IF(AND(H9=\"\",L9=\"\"),\"\",AND(H9=2,L9=2))","v":""},{"$f":"IF(AND(H9=\"\",L9=\"\"),\"\",OR(H9=0,L9=0))","v":""},{"$f":"IF(AND(H9=\"\",L9=\"\"),\"\",OR(,H9=1,L9=1))","v":""},{"$f":"IF(AND(H9=\"\",L9=\"\"),\"\",IF(O9=TRUE,2,(IF(Q9=TRUE,1,0))))","v":""}]
[3,{"$f":"IF(Input!B18=\"\",\"\",Input!B18)","v":""},{"$f":"IF(Input!C18=\"\",\"\",Input!C18)","v":""},null,{"$f":"IF(Input!E18=\"<25%\",1,IF(Input!E18=\">50%\",3,IF(Input!E18=\"25-50%\",2,\"\")))","v":""},{"$f":"IF(Input!$D$11=' lists & calculation '!$G$3,1,IF(Input!$D$11=' lists & calculation '!$G$4,2,IF(Input!$D$11=' lists & calculation '!$G$5,3,IF(Input!$D$11=' lists & calculation '!$G$6,4,IF(Input!$D$11=' lists & calculation '!$G$7,5,IF(Input!$D$11=' lists & calculation '!$G$8,6,\"\"))))))","v":""},{"$f":"IF(Input!F18=\"\",\"\",IF(F10=1,Input!F18*1.128,IF(F10=2,Input!F18*0.9,IF(F10=3,Input!F18*1.2,IF(F10=4,Input!F18,IF(F10=5,Input!F18,IF(F10=6,Input!F18*1.333,\"\")))))))","v":""},"","","",null,null,"",null,"","","",""]
[4,{"$f":"IF(Input!B19=\"\",\"\",Input!B19)","v":""},{"$f":"IF(Input!C19=\"\",\"\",Input!C19)","v":""},null,{"$f":"IF(Input!E19=\"<25%\",1,IF(Input!E19=\">50%\",3,IF(Input!E19=\"25-50%\",2,\"\")))","v":""},{"$f":"IF(Input!$D$11=' lists & calculation '!$G$3,1,IF(Input!$D$11=' lists & calculation '!$G$4,2,IF(Input!$D$11=' lists & calculation '!$G$5,3,IF(Input!$D$11=' lists & calculation '!$G$6,4,IF(Input!$D$11=' lists & calculation '!$G$7,5,IF(Input!$D$11=' lists & calculation '!$G$8,6,\"\"))))))","v":""},{"$f":"IF(Input!F19=\"\",\"\",IF(F11=1,Input!F19*1.128,IF(F11=2,Input!F19*0.9,IF(F11=3,Input!F19*1.2,IF(F11=4,Input!F19,IF(F11=5,Input!F19,IF(F11=6,Input!F19*1.333,\"\")))))))","v":""},"","","",null,null,"",null,"","","",""]
[5,{"$f":"IF(Input!B20=\"\",\"\",Input!B20)","v":""},{"$f":"IF(Input!C20=\"\",\"\",Input!C20)","v":""},null,{"$f":"IF(Input!E20=\"<25%\",1,IF(Input!E20=\">50%\",3,IF(Input!E20=\"25-50%\",2,\"\")))","v":""},{"$f":"IF(Input!$D$11=' lists & calculation '!$G$3,1,IF(Input!$D$11=' lists & calculation '!$G$4,2,IF(Input!$D$11=' lists & calculation '!$G$5,3,IF(Input!$D$11=' lists & calculation '!$G$6,4,IF(Input!$D$11=' lists & calculation '!$G$7,5,IF(Input!$D$11=' lists & calculation '!$G$8,6,\"\"))))))","v":""},{"$f":"IF(Input!F20=\"\",\"\",IF(F12=1,Input!F20*1.128,IF(F12=2,Input!F20*0.9,IF(F12=3,Input!F20*1.2,IF(F12=4,Input!F20,IF(F12=5,Input!F20,IF(F12=6,Input!F20*1.333,\"\")))))))","v":""},"","","",null,null,"",null,"","","","",null,"Promising",{"$f":"COUNTIF(M8:M57,2)","v":0}]
[6,{"$f":"IF(Input!B21=\"\",\"\",Input!B21)","v":""},{"$f":"IF(Input!C21=\"\",\"\",Input!C21)","v":""},null,{"$f":"IF(Input!E21=\"<25%\",1,IF(Input!E21=\">50%\",3,IF(Input!E21=\"25-50%\",2,\"\")))","v":""},{"$f":"IF(Input!$D$11=' lists & calculation '!$G$3,1,IF(Input!$D$11=' lists & calculation '!$G$4,2,IF(Input!$D$11=' lists & calculation '!$G$5,3,IF(Input!$D$11=' lists & calculation '!$G$6,4,IF(Input!$D$11=' lists & calculation '!$G$7,5,IF(Input!$D$11=' lists & calculation '!$G$8,6,\"\"))))))","v":""},{"$f":"IF(Input!F21=\"\",\"\",IF(F13=1,Input!F21*1.128,IF(F13=2,Input!F21*0.9,IF(F13=3,Input!F21*1.2,IF(F13=4,Input!F21,IF(F13=5,Input!F21,IF(F13=6,Input!F21*1.333,\"\")))))))","v":""},"","","",null,null,"",null,"","","","",null,"Not yet clear",{"$f":"COUNTIF(M8:M57,1)","v":0}]
[7,{"$f":"IF(Input!B22=\"\",\"\",Input!B22)","v":""},{"$f":"IF(Input!C22=\"\",\"\",Input!C22)","v":""},null,{"$f":"IF(Input!E22=\"<25%\",1,IF(Input!E22=\">50%\",3,IF(Input!E22=\"25-50%\",2,\"\")))","v":""},{"$f":"IF(Input!$D$11=' lists & calculation '!$G$3,1,IF(Input!$D$11=' lists & calculation '!$G$4,2,IF(Input!$D$11=' lists & calculation '!$G$5,3,IF(Input!$D$11=' lists & calculation '!$G$6,4,IF(Input!$D$11=' lists & calculation '!$G$7,5,IF(Input!$D$11=' lists & calculation '!$G$8,6,\"\"))))))","v":""},{"$f":"IF(Input!F22=\"\",\"\",IF(F14=1,Input!F22*1.128,IF(F14=2,Input!F22*0.9,IF(F14=3,Input!F22*1.2,IF(F14=4,Input!F22,IF(F14=5,Input!F22,IF(F14=6,Input!F22*1.333,\"\")))))))","v":""},"","","",null,null,"",null,"","","","",null,"Not suitable",{"$f":"COUNTIF(M8:M57,0)","v":0}]
[8,{"$f":"IF(Input!B23=\"\",\"\",Input!B23)","v":""},{"$f":"IF(Input!C23=\"\",\"\",Input!C23)","v":""},null,{"$f":"IF(Input!E23=\"<25%\",1,IF(Input!E23=\">50%\",3,IF(Input!E23=\"25-50%\",2,\"\")))","v":""},{"$f":"IF(Input!$D$11=' lists & calculation '!$G$3,1,IF(Input!$D$11=' lists & calculation '!$G$4,2,IF(Input!$D$11=' lists & calculation '!$G$5,3,IF(Input!$D$11=' lists & calculation '!$G$6,4,IF(Input!$D$11=' lists & calculation '!$G$7,5,IF(Input!$D$11=' lists & calculation '!$G$8,6,\"\"))))))","v":""},{"$f":"IF(Input!F23=\"\",\"\",IF(F15=1,Input!F23*1.128,IF(F15=2,Input!F23*0.9,IF(F15=3,Input!F23*1.2,IF(F15=4,Input!F23,IF(F15=5,Input!F23,IF(F15=6,Input!F23*1.333,\"\")))))))","v":""},"","","",null,null,"",null,"","","","",null,null,{"$f":"COUNTIF(M8:M57,\"\")","v":50}]
[9,{"$f":"IF(Input!B24=\"\",\"\",Input!B24)","v":""},{"$f":"IF(Input!C24=\"\",\"\",Input!C24)","v":""},null,{"$f":"IF(Input!E24=\"<25%\",1,IF(Input!E24=\">50%\",3,IF(Input!E24=\"25-50%\",2,\"\")))","v":""},{"$f":"IF(Input!$D$11=' lists & calculation '!$G$3,1,IF(Input!$D$11=' lists & calculation '!$G$4,2,IF(Input!$D$11=' lists & calculation '!$G$5,3,IF(Input!$D$11=' lists & calculation '!$G$6,4,IF(Input!$D$11=' lists & calculation '!$G$7,5,IF(Input!$D$11=' lists & calculation '!$G$8,6,\"\"))))))","v":""},{"$f":"IF(Input!F24=\"\",\"\",IF(F16=1,Input!F24*1.128,IF(F16=2,Input!F24*0.9,IF(F16=3,Input!F24*1.2,IF(F16=4,Input!F24,IF(F16=5,Input!F24,IF(F16=6,Input!F24*1.333,\"\")))))))","v":""},"","",{"$f":"IF(OR(E16=\"\",H16=\"\"),\"\",IF(I16<5,0,IF(AND(I16=5,E16=1),0,IF(AND(I16=5,E16>1),1,IF(AND(I16=6,E16=1),1,IF(AND(I16=6,E16>1),2,IF(I16>6,2,\"\")))))))","v":""},null,null,"",null,"","","",""]
[10,{"$f":"IF(Input!B25=\"\",\"\",Input!B25)","v":""},{"$f":"IF(Input!C25=\"\",\"\",Input!C25)","v":""},null,{"$f":"IF(Input!E25=\"<25%\",1,IF(Input!E25=\">50%\",3,IF(Input!E25=\"25-50%\",2,\"\")))","v":""},{"$f":"IF(Input!$D$11=' lists & calculation '!$G$3,1,IF(Input!$D$11=' lists & calculation '!$G$4,2,IF(Input!$D$11=' lists & calculation '!$G$5,3,IF(Input!$D$11=' lists & calculation '!$G$6,4,IF(Input!$D$11=' lists & calculation '!$G$7,5,IF(Input!$D$11=' lists & calculation '!$G$8,6,\"\"))))))","v":""},{"$f":"IF(Input!F25=\"\",\"\",IF(F17=1,Input!F25*1.128,IF(F17=2,Input!F25*0.9,IF(F17=3,Input!F25*1.2,IF(F17=4,Input!F25,IF(F17=5,Input!F25,IF(F17=6,Input!F25*1.333,\"\")))))))","v":""},"","",{"$f":"IF(OR(E17=\"\",H17=\"\"),\"\",IF(I17<5,0,IF(AND(I17=5,E17=1),0,IF(AND(I17=5,E17>1),1,IF(AND(I17=6,E17=1),1,IF(AND(I17=6,E17>1),2,IF(I17>6,2,\"\")))))))","v":""},null,null,"",null,"","","",""]
[11,{"$f":"IF(Input!B26=\"\",\"\",Input!B26)","v":""},{"$f":"IF(Input!C26=\"\",\"\",Input!C26)","v":""},null,{"$f":"IF(Input!E26=\"<25%\",1,IF(Input!E26=\">50%\",3,IF(Input!E26=\"25-50%\",2,\"\")))","v":""},{"$f":"IF(Input!$D$11=' lists & calculation '!$G$3,1,IF(Input!$D$11=' lists & calculation '!$G$4,2,IF(Input!$D$11=' lists & calculation '!$G$5,3,IF(Input!$D$11=' lists & calculation '!$G$6,4,IF(Input!$D$11=' lists & calculation '!$G$7,5,IF(Input!$D$11=' lists & calculation '!$G$8,6,\"\"))))))","v":""},{"$f":"IF(Input!F26=\"\",\"\",IF(F18=1,Input!F26*1.128,IF(F18=2,Input!F26*0.9,IF(F18=3,Input!F26*1.2,IF(F18=4,Input!F26,IF(F18=5,Input!F26,IF(F18=6,Input!F26*1.333,\"\")))))))","v":""},"","","",null,null,"",null,"","","",""]
[12,{"$f":"IF(Input!B27=\"\",\"\",Input!B27)","v":""},{"$f":"IF(Input!C27=\"\",\"\",Input!C27)","v":""},null,{"$f":"IF(Input!E27=\"<25%\",1,IF(Input!E27=\">50%\",3,IF(Input!E27=\"25-50%\",2,\"\")))","v":""},{"$f":"IF(Input!$D$11=' lists & calculation '!$G$3,1,IF(Input!$D$11=' lists & calculation '!$G$4,2,IF(Input!$D$11=' lists & calculation '!$G$5,3,IF(Input!$D$11=' lists & calculation '!$G$6,4,IF(Input!$D$11=' lists & calculation '!$G$7,5,IF(Input!$D$11=' lists & calculation '!$G$8,6,\"\"))))))","v":""},{"$f":"IF(Input!F27=\"\",\"\",IF(F19=1,Input!F27*1.128,IF(F19=2,Input!F27*0.9,IF(F19=3,Input!F27*1.2,IF(F19=4,Input!F27,IF(F19=5,Input!F27,IF(F19=6,Input!F27*1.333,\"\")))))))","v":""},"","","",null,null,"",null,"","","",""]
[13,{"$f":"IF(Input!B28=\"\",\"\",Input!B28)","v":""},{"$f":"IF(Input!C28=\"\",\"\",Input!C28)","v":""},null,{"$f":"IF(Input!E28=\"<25%\",1,IF(Input!E28=\">50%\",3,IF(Input!E28=\"25-50%\",2,\"\")))","v":""},{"$f":"IF(Input!$D$11=' lists & calculation '!$G$3,1,IF(Input!$D$11=' lists & calculation '!$G$4,2,IF(Input!$D$11=' lists & calculation '!$G$5,3,IF(Input!$D$11=' lists & calculation '!$G$6,4,IF(Input!$D$11=' lists & calculation '!$G$7,5,IF(Input!$D$11=' lists & calculation '!$G$8,6,\"\"))))))","v":""},{"$f":"IF(Input!F28=\"\",\"\",IF(F20=1,Input!F28*1.128,IF(F20=2,Input!F28*0.9,IF(F20=3,Input!F28*1.2,IF(F20=4,Input!F28,IF(F20=5,Input!F28,IF(F20=6,Input!F28*1.333,\"\")))))))","v":""},"","","",null,null,"",null,"","","","",null,"column J"]
[14,{"$f":"IF(Input!B29=\"\",\"\",Input!B29)","v":""},{"$f":"IF(Input!C29=\"\",\"\",Input!C29)","v":""},null,{"$f":"IF(Input!E29=\"<25%\",1,IF(Input!E29=\">50%\",3,IF(Input!E29=\"25-50%\",2,\"\")))","v":""},{"$f":"IF(Input!$D$11=' lists & calculation '!$G$3,1,IF(Input!$D$11=' lists & calculation '!$G$4,2,IF(Input!$D$11=' lists & calculation '!$G$5,3,IF(Input!$D$11=' lists & calculation '!$G$6,4,IF(Input!$D$11=' lists & calculation '!$G$7,5,IF(Input!$D$11=' lists & calculation '!$G$8,6,\"\"))))))","v":""},{"$f":"IF(Input!F29=\"\",\"\",IF(F21=1,Input!F29*1.128,IF(F21=2,Input!F29*0.9,IF(F21=3,Input!F29*1.2,IF(F21=4,Input!F29,IF(F21=5,Input!F29,IF(F21=6,Input!F29*1.333,\"\")))))))","v":""},"","","",null,null,"",null,"","","","",null,null,"PE"]
[15,{"$f":"IF(Input!B30=\"\",\"\",Input!B30)","v":""},{"$f":"IF(Input!C30=\"\",\"\",Input!C30)","v":""},null,{"$f":"IF(Input!E30=\"<25%\",1,IF(Input!E30=\">50%\",3,IF(Input!E30=\"25-50%\",2,\"\")))","v":""},{"$f":"IF(Input!$D$11=' lists & calculation '!$G$3,1,IF(Input!$D$11=' lists & calculation '!$G$4,2,IF(Input!$D$11=' lists & calculation '!$G$5,3,IF(Input!$D$11=' lists & calculation '!$G$6,4,IF(Input!$D$11=' lists & calculation '!$G$7,5,IF(Input!$D$11=' lists & calculation '!$G$8,6,\"\"))))))","v":""},{"$f":"IF(Input!F30=\"\",\"\",IF(F22=1,Input!F30*1.128,IF(F22=2,Input!F30*0.9,IF(F22=3,Input!F30*1.2,IF(F22=4,Input!F30,IF(F22=5,Input!F30,IF(F22=6,Input!F30*1.333,\"\")))))))","v":""},"","","",null,null,"",null,"","","","",null,null,1,2,3,4,5,6]
[16,{"$f":"IF(Input!B31=\"\",\"\",Input!B31)","v":""},{"$f":"IF(Input!C31=\"\",\"\",Input!C31)","v":""},null,{"$f":"IF(Input!E31=\"<25%\",1,IF(Input!E31=\">50%\",3,IF(Input!E31=\"25-50%\",2,\"\")))","v":""},{"$f":"IF(Input!$D$11=' lists & calculation '!$G$3,1,IF(Input!$D$11=' lists & calculation '!$G$4,2,IF(Input!$D$11=' lists & calculation '!$G$5,3,IF(Input!$D$11=' lists & calculation '!$G$6,4,IF(Input!$D$11=' lists & calculation '!$G$7,5,IF(Input!$D$11=' lists & calculation '!$G$8,6,\"\"))))))","v":""},{"$f":"IF(Input!F31=\"\",\"\",IF(F23=1,Input!F31*1.128,IF(F23=2,Input!F31*0.9,IF(F23=3,Input!F31*1.2,IF(F23=4,Input!F31,IF(F23=5,Input!F31,IF(F23=6,Input!F31*1.333,\"\")))))))","v":""},"","","",null,null,"",null,"","","","",null,"HH","<25","<50","<100","<150","<300",">300"]
[17,{"$f":"IF(Input!B32=\"\",\"\",Input!B32)","v":""},{"$f":"IF(Input!C32=\"\",\"\",Input!C32)","v":""},null,{"$f":"IF(Input!E32=\"<25%\",1,IF(Input!E32=\">50%\",3,IF(Input!E32=\"25-50%\",2,\"\")))","v":""},{"$f":"IF(Input!$D$11=' lists & calculation '!$G$3,1,IF(Input!$D$11=' lists & calculation '!$G$4,2,IF(Input!$D$11=' lists & calculation '!$G$5,3,IF(Input!$D$11=' lists & calculation '!$G$6,4,IF(Input!$D$11=' lists & calculation '!$G$7,5,IF(Input!$D$11=' lists & calculation '!$G$8,6,\"\"))))))","v":""},{"$f":"IF(Input!F32=\"\",\"\",IF(F24=1,Input!F32*1.128,IF(F24=2,Input!F32*0.9,IF(F24=3,Input!F32*1.2,IF(F24=4,Input!F32,IF(F24=5,Input!F32,IF(F24=6,Input!F32*1.333,\"\")))))))","v":""},"","","",null,null,"",null,"","","","",1,"<25",{"$f":"$S24+U$22","v":2},{"$f":"$S24+V$22","v":3},4,5,6,7]
[18,{"$f":"IF(Input!B33=\"\",\"\",Input!B33)","v":""},{"$f":"IF(Input!C33=\"\",\"\",Input!C33)","v":""},null,{"$f":"IF(Input!E33=\"<25%\",1,IF(Input!E33=\">50%\",3,IF(Input!E33=\"25-50%\",2,\"\")))","v":""},{"$f":"IF(Input!$D$11=' lists & calculation '!$G$3,1,IF(Input!$D$11=' lists & calculation '!$G$4,2,IF(Input!$D$11=' lists & calculation '!$G$5,3,IF(Input!$D$11=' lists & calculation '!$G$6,4,IF(Input!$D$11=' lists & calculation '!$G$7,5,IF(Input!$D$11=' lists & calculation '!$G$8,6,\"\"))))))","v":""},{"$f":"IF(Input!F33=\"\",\"\",IF(F25=1,Input!F33*1.128,IF(F25=2,Input!F33*0.9,IF(F25=3,Input!F33*1.2,IF(F25=4,Input!F33,IF(F25=5,Input!F33,IF(F25=6,Input!F33*1.333,\"\")))))))","v":""},"","","",null,null,"",null,"","","","",2,"25-50",{"$f":"$S25+U$22","v":3},4,5,6,7,8]
[19,{"$f":"IF(Input!B34=\"\",\"\",Input!B34)","v":""},{"$f":"IF(Input!C34=\"\",\"\",Input!C34)","v":""},null,{"$f":"IF(Input!E34=\"<25%\",1,IF(Input!E34=\">50%\",3,IF(Input!E34=\"25-50%\",2,\"\")))","v":""},{"$f":"IF(Input!$D$11=' lists & calculation '!$G$3,1,IF(Input!$D$11=' lists & calculation '!$G$4,2,IF(Input!$D$11=' lists & calculation '!$G$5,3,IF(Input!$D$11=' lists & calculation '!$G$6,4,IF(Input!$D$11=' lists & calculation '!$G$7,5,IF(Input!$D$11=' lists & calculation '!$G$8,6,\"\"))))))","v":""},{"$f":"IF(Input!F34=\"\",\"\",IF(F26=1,Input!F34*1.128,IF(F26=2,Input!F34*0.9,IF(F26=3,Input!F34*1.2,IF(F26=4,Input!F34,IF(F26=5,Input!F34,IF(F26=6,Input!F34*1.333,\"\")))))))","v":""},"","","",null,null,"",null,"","","","",3,">50",4,5,6,7,8,9]
[20,{"$f":"IF(Input!B35=\"\",\"\",Input!B35)","v":""},{"$f":"IF(Input!C35=\"\",\"\",Input!C35)","v":""},null,{"$f":"IF(Input!E35=\"<25%\",1,IF(Input!E35=\">50%\",3,IF(Input!E35=\"25-50%\",2,\"\")))","v":""},{"$f":"IF(Input!$D$11=' lists & calculation '!$G$3,1,IF(Input!$D$11=' lists & calculation '!$G$4,2,IF(Input!$D$11=' lists & calculation '!$G$5,3,IF(Input!$D$11=' lists & calculation '!$G$6,4,IF(Input!$D$11=' lists & calculation '!$G$7,5,IF(Input!$D$11=' lists & calculation '!$G$8,6,\"\"))))))","v":""},{"$f":"IF(Input!F35=\"\",\"\",IF(F27=1,Input!F35*1.128,IF(F27=2,Input!F35*0.9,IF(F27=3,Input!F35*1.2,IF(F27=4,Input!F35,IF(F27=5,Input!F35,IF(F27=6,Input!F35*1.333,\"\")))))))","v":""},"","","",null,null,"",null,"","","",""]
[21,{"$f":"IF(Input!B36=\"\",\"\",Input!B36)","v":""},{"$f":"IF(Input!C36=\"\",\"\",Input!C36)","v":""},null,{"$f":"IF(Input!E36=\"<25%\",1,IF(Input!E36=\">50%\",3,IF(Input!E36=\"25-50%\",2,\"\")))","v":""},{"$f":"IF(Input!$D$11=' lists & calculation '!$G$3,1,IF(Input!$D$11=' lists & calculation '!$G$4,2,IF(Input!$D$11=' lists & calculation '!$G$5,3,IF(Input!$D$11=' lists & calculation '!$G$6,4,IF(Input!$D$11=' lists & calculation '!$G$7,5,IF(Input!$D$11=' lists & calculation '!$G$8,6,\"\"))))))","v":""},{"$f":"IF(Input!F36=\"\",\"\",IF(F28=1,Input!F36*1.128,IF(F28=2,Input!F36*0.9,IF(F28=3,Input!F36*1.2,IF(F28=4,Input!F36,IF(F28=5,Input!F36,IF(F28=6,Input!F36*1.333,\"\")))))))","v":""},"","","",null,null,"",null,"","","",""]
[22,{"$f":"IF(Input!B37=\"\",\"\",Input!B37)","v":""},{"$f":"IF(Input!C37=\"\",\"\",Input!C37)","v":""},null,{"$f":"IF(Input!E37=\"<25%\",1,IF(Input!E37=\">50%\",3,IF(Input!E37=\"25-50%\",2,\"\")))","v":""},{"$f":"IF(Input!$D$11=' lists & calculation '!$G$3,1,IF(Input!$D$11=' lists & calculation '!$G$4,2,IF(Input!$D$11=' lists & calculation '!$G$5,3,IF(Input!$D$11=' lists & calculation '!$G$6,4,IF(Input!$D$11=' lists & calculation '!$G$7,5,IF(Input!$D$11=' lists & calculation '!$G$8,6,\"\"))))))","v":""},{"$f":"IF(Input!F37=\"\",\"\",IF(F29=1,Input!F37*1.128,IF(F29=2,Input!F37*0.9,IF(F29=3,Input!F37*1.2,IF(F29=4,Input!F37,IF(F29=5,Input!F37,IF(F29=6,Input!F37*1.333,\"\")))))))","v":""},"","","",null,null,"",null,"","","",""]
[23,{"$f":"IF(Input!B38=\"\",\"\",Input!B38)","v":""},{"$f":"IF(Input!C38=\"\",\"\",Input!C38)","v":""},null,{"$f":"IF(Input!E38=\"<25%\",1,IF(Input!E38=\">50%\",3,IF(Input!E38=\"25-50%\",2,\"\")))","v":""},{"$f":"IF(Input!$D$11=' lists & calculation '!$G$3,1,IF(Input!$D$11=' lists & calculation '!$G$4,2,IF(Input!$D$11=' lists & calculation '!$G$5,3,IF(Input!$D$11=' lists & calculation '!$G$6,4,IF(Input!$D$11=' lists & calculation '!$G$7,5,IF(Input!$D$11=' lists & calculation '!$G$8,6,\"\"))))))","v":""},{"$f":"IF(Input!F38=\"\",\"\",IF(F30=1,Input!F38*1.128,IF(F30=2,Input!F38*0.9,IF(F30=3,Input!F38*1.2,IF(F30=4,Input!F38,IF(F30=5,Input!F38,IF(F30=6,Input!F38*1.333,\"\")))))))","v":""},"","","",null,null,"",null,"","","",""]
[24,{"$f":"IF(Input!B39=\"\",\"\",Input!B39)","v":""},{"$f":"IF(Input!C39=\"\",\"\",Input!C39)","v":""},null,{"$f":"IF(Input!E39=\"<25%\",1,IF(Input!E39=\">50%\",3,IF(Input!E39=\"25-50%\",2,\"\")))","v":""},{"$f":"IF(Input!$D$11=' lists & calculation '!$G$3,1,IF(Input!$D$11=' lists & calculation '!$G$4,2,IF(Input!$D$11=' lists & calculation '!$G$5,3,IF(Input!$D$11=' lists & calculation '!$G$6,4,IF(Input!$D$11=' lists & calculation '!$G$7,5,IF(Input!$D$11=' lists & calculation '!$G$8,6,\"\"))))))","v":""},{"$f":"IF(Input!F39=\"\",\"\",IF(F31=1,Input!F39*1.128,IF(F31=2,Input!F39*0.9,IF(F31=3,Input!F39*1.2,IF(F31=4,Input!F39,IF(F31=5,Input!F39,IF(F31=6,Input!F39*1.333,\"\")))))))","v":""},"","","",null,null,"",null,"","","",""]
[25,{"$f":"IF(Input!B40=\"\",\"\",Input!B40)","v":""},{"$f":"IF(Input!C40=\"\",\"\",Input!C40)","v":""},null,{"$f":"IF(Input!E40=\"<25%\",1,IF(Input!E40=\">50%\",3,IF(Input!E40=\"25-50%\",2,\"\")))","v":""},{"$f":"IF(Input!$D$11=' lists & calculation '!$G$3,1,IF(Input!$D$11=' lists & calculation '!$G$4,2,IF(Input!$D$11=' lists & calculation '!$G$5,3,IF(Input!$D$11=' lists & calculation '!$G$6,4,IF(Input!$D$11=' lists & calculation '!$G$7,5,IF(Input!$D$11=' lists & calculation '!$G$8,6,\"\"))))))","v":""},{"$f":"IF(Input!F40=\"\",\"\",IF(F32=1,Input!F40*1.128,IF(F32=2,Input!F40*0.9,IF(F32=3,Input!F40*1.2,IF(F32=4,Input!F40,IF(F32=5,Input!F40,IF(F32=6,Input!F40*1.333,\"\")))))))","v":""},"","","",null,null,"",null,"","","",""]
[26,{"$f":"IF(Input!B41=\"\",\"\",Input!B41)","v":""},{"$f":"IF(Input!C41=\"\",\"\",Input!C41)","v":""},null,{"$f":"IF(Input!E41=\"<25%\",1,IF(Input!E41=\">50%\",3,IF(Input!E41=\"25-50%\",2,\"\")))","v":""},{"$f":"IF(Input!$D$11=' lists & calculation '!$G$3,1,IF(Input!$D$11=' lists & calculation '!$G$4,2,IF(Input!$D$11=' lists & calculation '!$G$5,3,IF(Input!$D$11=' lists & calculation '!$G$6,4,IF(Input!$D$11=' lists & calculation '!$G$7,5,IF(Input!$D$11=' lists & calculation '!$G$8,6,\"\"))))))","v":""},{"$f":"IF(Input!F41=\"\",\"\",IF(F33=1,Input!F41*1.128,IF(F33=2,Input!F41*0.9,IF(F33=3,Input!F41*1.2,IF(F33=4,Input!F41,IF(F33=5,Input!F41,IF(F33=6,Input!F41*1.333,\"\")))))))","v":""},"","","",null,null,"",null,"","","",""]
[27,{"$f":"IF(Input!B42=\"\",\"\",Input!B42)","v":""},{"$f":"IF(Input!C42=\"\",\"\",Input!C42)","v":""},null,{"$f":"IF(Input!E42=\"<25%\",1,IF(Input!E42=\">50%\",3,IF(Input!E42=\"25-50%\",2,\"\")))","v":""},{"$f":"IF(Input!$D$11=' lists & calculation '!$G$3,1,IF(Input!$D$11=' lists & calculation '!$G$4,2,IF(Input!$D$11=' lists & calculation '!$G$5,3,IF(Input!$D$11=' lists & calculation '!$G$6,4,IF(Input!$D$11=' lists & calculation '!$G$7,5,IF(Input!$D$11=' lists & calculation '!$G$8,6,\"\"))))))","v":""},{"$f":"IF(Input!F42=\"\",\"\",IF(F34=1,Input!F42*1.128,IF(F34=2,Input!F42*0.9,IF(F34=3,Input!F42*1.2,IF(F34=4,Input!F42,IF(F34=5,Input!F42,IF(F34=6,Input!F42*1.333,\"\")))))))","v":""},"","","",null,null,"",null,"","","",""]
[28,{"$f":"IF(Input!B43=\"\",\"\",Input!B43)","v":""},{"$f":"IF(Input!C43=\"\",\"\",Input!C43)","v":""},null,{"$f":"IF(Input!E43=\"<25%\",1,IF(Input!E43=\">50%\",3,IF(Input!E43=\"25-50%\",2,\"\")))","v":""},{"$f":"IF(Input!$D$11=' lists & calculation '!$G$3,1,IF(Input!$D$11=' lists & calculation '!$G$4,2,IF(Input!$D$11=' lists & calculation '!$G$5,3,IF(Input!$D$11=' lists & calculation '!$G$6,4,IF(Input!$D$11=' lists & calculation '!$G$7,5,IF(Input!$D$11=' lists & calculation '!$G$8,6,\"\"))))))","v":""},{"$f":"IF(Input!F43=\"\",\"\",IF(F35=1,Input!F43*1.128,IF(F35=2,Input!F43*0.9,IF(F35=3,Input!F43*1.2,IF(F35=4,Input!F43,IF(F35=5,Input!F43,IF(F35=6,Input!F43*1.333,\"\")))))))","v":""},"","","",null,null,"",null,"","","",""]
[29,{"$f":"IF(Input!B44=\"\",\"\",Input!B44)","v":""},{"$f":"IF(Input!C44=\"\",\"\",Input!C44)","v":""},null,{"$f":"IF(Input!E44=\"<25%\",1,IF(Input!E44=\">50%\",3,IF(Input!E44=\"25-50%\",2,\"\")))","v":""},{"$f":"IF(Input!$D$11=' lists & calculation '!$G$3,1,IF(Input!$D$11=' lists & calculation '!$G$4,2,IF(Input!$D$11=' lists & calculation '!$G$5,3,IF(Input!$D$11=' lists & calculation '!$G$6,4,IF(Input!$D$11=' lists & calculation '!$G$7,5,IF(Input!$D$11=' lists & calculation '!$G$8,6,\"\"))))))","v":""},{"$f":"IF(Input!F44=\"\",\"\",IF(F36=1,Input!F44*1.128,IF(F36=2,Input!F44*0.9,IF(F36=3,Input!F44*1.2,IF(F36=4,Input!F44,IF(F36=5,Input!F44,IF(F36=6,Input!F44*1.333,\"\")))))))","v":""},"","","",null,null,"",null,"","","",""]
[30,{"$f":"IF(Input!B45=\"\",\"\",Input!B45)","v":""},{"$f":"IF(Input!C45=\"\",\"\",Input!C45)","v":""},null,{"$f":"IF(Input!E45=\"<25%\",1,IF(Input!E45=\">50%\",3,IF(Input!E45=\"25-50%\",2,\"\")))","v":""},{"$f":"IF(Input!$D$11=' lists & calculation '!$G$3,1,IF(Input!$D$11=' lists & calculation '!$G$4,2,IF(Input!$D$11=' lists & calculation '!$G$5,3,IF(Input!$D$11=' lists & calculation '!$G$6,4,IF(Input!$D$11=' lists & calculation '!$G$7,5,IF(Input!$D$11=' lists & calculation '!$G$8,6,\"\"))))))","v":""},{"$f":"IF(Input!F45=\"\",\"\",IF(F37=1,Input!F45*1.128,IF(F37=2,Input!F45*0.9,IF(F37=3,Input!F45*1.2,IF(F37=4,Input!F45,IF(F37=5,Input!F45,IF(F37=6,Input!F45*1.333,\"\")))))))","v":""},"","","",null,null,"",null,"","","",""]
[31,{"$f":"IF(Input!B46=\"\",\"\",Input!B46)","v":""},{"$f":"IF(Input!C46=\"\",\"\",Input!C46)","v":""},null,{"$f":"IF(Input!E46=\"<25%\",1,IF(Input!E46=\">50%\",3,IF(Input!E46=\"25-50%\",2,\"\")))","v":""},{"$f":"IF(Input!$D$11=' lists & calculation '!$G$3,1,IF(Input!$D$11=' lists & calculation '!$G$4,2,IF(Input!$D$11=' lists & calculation '!$G$5,3,IF(Input!$D$11=' lists & calculation '!$G$6,4,IF(Input!$D$11=' lists & calculation '!$G$7,5,IF(Input!$D$11=' lists & calculation '!$G$8,6,\"\"))))))","v":""},{"$f":"IF(Input!F46=\"\",\"\",IF(F38=1,Input!F46*1.128,IF(F38=2,Input!F46*0.9,IF(F38=3,Input!F46*1.2,IF(F38=4,Input!F46,IF(F38=5,Input!F46,IF(F38=6,Input!F46*1.333,\"\")))))))","v":""},"","","",null,null,"",null,"","","",""]
[32,{"$f":"IF(Input!B47=\"\",\"\",Input!B47)","v":""},{"$f":"IF(Input!C47=\"\",\"\",Input!C47)","v":""},null,{"$f":"IF(Input!E47=\"<25%\",1,IF(Input!E47=\">50%\",3,IF(Input!E47=\"25-50%\",2,\"\")))","v":""},{"$f":"IF(Input!$D$11=' lists & calculation '!$G$3,1,IF(Input!$D$11=' lists & calculation '!$G$4,2,IF(Input!$D$11=' lists & calculation '!$G$5,3,IF(Input!$D$11=' lists & calculation '!$G$6,4,IF(Input!$D$11=' lists & calculation '!$G$7,5,IF(Input!$D$11=' lists & calculation '!$G$8,6,\"\"))))))","v":""},{"$f":"IF(Input!F47=\"\",\"\",IF(F39=1,Input!F47*1.128,IF(F39=2,Input!F47*0.9,IF(F39=3,Input!F47*1.2,IF(F39=4,Input!F47,IF(F39=5,Input!F47,IF(F39=6,Input!F47*1.333,\"\")))))))","v":""},"","","",null,null,"",null,"","","",""]
[33,{"$f":"IF(Input!B48=\"\",\"\",Input!B48)","v":""},{"$f":"IF(Input!C48=\"\",\"\",Input!C48)","v":""},null,{"$f":"IF(Input!E48=\"<25%\",1,IF(Input!E48=\">50%\",3,IF(Input!E48=\"25-50%\",2,\"\")))","v":""},{"$f":"IF(Input!$D$11=' lists & calculation '!$G$3,1,IF(Input!$D$11=' lists & calculation '!$G$4,2,IF(Input!$D$11=' lists & calculation '!$G$5,3,IF(Input!$D$11=' lists & calculation '!$G$6,4,IF(Input!$D$11=' lists & calculation '!$G$7,5,IF(Input!$D$11=' lists & calculation '!$G$8,6,\"\"))))))","v":""},{"$f":"IF(Input!F48=\"\",\"\",IF(F40=1,Input!F48*1.128,IF(F40=2,Input!F48*0.9,IF(F40=3,Input!F48*1.2,IF(F40=4,Input!F48,IF(F40=5,Input!F48,IF(F40=6,Input!F48*1.333,\"\")))))))","v":""},"","","",null,null,"",null,"","","",""]
[34,{"$f":"IF(Input!B49=\"\",\"\",Input!B49)","v":""},{"$f":"IF(Input!C49=\"\",\"\",Input!C49)","v":""},null,{"$f":"IF(Input!E49=\"<25%\",1,IF(Input!E49=\">50%\",3,IF(Input!E49=\"25-50%\",2,\"\")))","v":""},{"$f":"IF(Input!$D$11=' lists & calculation '!$G$3,1,IF(Input!$D$11=' lists & calculation '!$G$4,2,IF(Input!$D$11=' lists & calculation '!$G$5,3,IF(Input!$D$11=' lists & calculation '!$G$6,4,IF(Input!$D$11=' lists & calculation '!$G$7,5,IF(Input!$D$11=' lists & calculation '!$G$8,6,\"\"))))))","v":""},{"$f":"IF(Input!F49=\"\",\"\",IF(F41=1,Input!F49*1.128,IF(F41=2,Input!F49*0.9,IF(F41=3,Input!F49*1.2,IF(F41=4,Input!F49,IF(F41=5,Input!F49,IF(F41=6,Input!F49*1.333,\"\")))))))","v":""},"","","",null,null,"",null,"","","",""]
[35,{"$f":"IF(Input!B50=\"\",\"\",Input!B50)","v":""},{"$f":"IF(Input!C50=\"\",\"\",Input!C50)","v":""},null,{"$f":"IF(Input!E50=\"<25%\",1,IF(Input!E50=\">50%\",3,IF(Input!E50=\"25-50%\",2,\"\")))","v":""},{"$f":"IF(Input!$D$11=' lists & calculation '!$G$3,1,IF(Input!$D$11=' lists & calculation '!$G$4,2,IF(Input!$D$11=' lists & calculation '!$G$5,3,IF(Input!$D$11=' lists & calculation '!$G$6,4,IF(Input!$D$11=' lists & calculation '!$G$7,5,IF(Input!$D$11=' lists & calculation '!$G$8,6,\"\"))))))","v":""},{"$f":"IF(Input!F50=\"\",\"\",IF(F42=1,Input!F50*1.128,IF(F42=2,Input!F50*0.9,IF(F42=3,Input!F50*1.2,IF(F42=4,Input!F50,IF(F42=5,Input!F50,IF(F42=6,Input!F50*1.333,\"\")))))))","v":""},"","","",null,null,"",null,"","","",""]
[36,{"$f":"IF(Input!B51=\"\",\"\",Input!B51)","v":""},{"$f":"IF(Input!C51=\"\",\"\",Input!C51)","v":""},null,{"$f":"IF(Input!E51=\"<25%\",1,IF(Input!E51=\">50%\",3,IF(Input!E51=\"25-50%\",2,\"\")))","v":""},{"$f":"IF(Input!$D$11=' lists & calculation '!$G$3,1,IF(Input!$D$11=' lists & calculation '!$G$4,2,IF(Input!$D$11=' lists & calculation '!$G$5,3,IF(Input!$D$11=' lists & calculation '!$G$6,4,IF(Input!$D$11=' lists & calculation '!$G$7,5,IF(Input!$D$11=' lists & calculation '!$G$8,6,\"\"))))))","v":""},{"$f":"IF(Input!F51=\"\",\"\",IF(F43=1,Input!F51*1.128,IF(F43=2,Input!F51*0.9,IF(F43=3,Input!F51*1.2,IF(F43=4,Input!F51,IF(F43=5,Input!F51,IF(F43=6,Input!F51*1.333,\"\")))))))","v":""},"","","",null,null,"",null,"","","",""]
[37,{"$f":"IF(Input!B52=\"\",\"\",Input!B52)","v":""},{"$f":"IF(Input!C52=\"\",\"\",Input!C52)","v":""},null,{"$f":"IF(Input!E52=\"<25%\",1,IF(Input!E52=\">50%\",3,IF(Input!E52=\"25-50%\",2,\"\")))","v":""},{"$f":"IF(Input!$D$11=' lists & calculation '!$G$3,1,IF(Input!$D$11=' lists & calculation '!$G$4,2,IF(Input!$D$11=' lists & calculation '!$G$5,3,IF(Input!$D$11=' lists & calculation '!$G$6,4,IF(Input!$D$11=' lists & calculation '!$G$7,5,IF(Input!$D$11=' lists & calculation '!$G$8,6,\"\"))))))","v":""},{"$f":"IF(Input!F52=\"\",\"\",IF(F44=1,Input!F52*1.128,IF(F44=2,Input!F52*0.9,IF(F44=3,Input!F52*1.2,IF(F44=4,Input!F52,IF(F44=5,Input!F52,IF(F44=6,Input!F52*1.333,\"\")))))))","v":""},"","","",null,null,"",null,"","","",""]
[38,{"$f":"IF(Input!B53=\"\",\"\",Input!B53)","v":""},{"$f":"IF(Input!C53=\"\",\"\",Input!C53)","v":""},null,{"$f":"IF(Input!E53=\"<25%\",1,IF(Input!E53=\">50%\",3,IF(Input!E53=\"25-50%\",2,\"\")))","v":""},{"$f":"IF(Input!$D$11=' lists & calculation '!$G$3,1,IF(Input!$D$11=' lists & calculation '!$G$4,2,IF(Input!$D$11=' lists & calculation '!$G$5,3,IF(Input!$D$11=' lists & calculation '!$G$6,4,IF(Input!$D$11=' lists & calculation '!$G$7,5,IF(Input!$D$11=' lists & calculation '!$G$8,6,\"\"))))))","v":""},{"$f":"IF(Input!F53=\"\",\"\",IF(F45=1,Input!F53*1.128,IF(F45=2,Input!F53*0.9,IF(F45=3,Input!F53*1.2,IF(F45=4,Input!F53,IF(F45=5,Input!F53,IF(F45=6,Input!F53*1.333,\"\")))))))","v":""},"","","",null,null,"",null,"","","",""]
[39,{"$f":"IF(Input!B54=\"\",\"\",Input!B54)","v":""},{"$f":"IF(Input!C54=\"\",\"\",Input!C54)","v":""},null,{"$f":"IF(Input!E54=\"<25%\",1,IF(Input!E54=\">50%\",3,IF(Input!E54=\"25-50%\",2,\"\")))","v":""},{"$f":"IF(Input!$D$11=' lists & calculation '!$G$3,1,IF(Input!$D$11=' lists & calculation '!$G$4,2,IF(Input!$D$11=' lists & calculation '!$G$5,3,IF(Input!$D$11=' lists & calculation '!$G$6,4,IF(Input!$D$11=' lists & calculation '!$G$7,5,IF(Input!$D$11=' lists & calculation '!$G$8,6,\"\"))))))","v":""},{"$f":"IF(Input!F54=\"\",\"\",IF(F46=1,Input!F54*1.128,IF(F46=2,Input!F54*0.9,IF(F46=3,Input!F54*1.2,IF(F46=4,Input!F54,IF(F46=5,Input!F54,IF(F46=6,Input!F54*1.333,\"\")))))))","v":""},"","","",null,null,"",null,"","","",""]
[40,{"$f":"IF(Input!B55=\"\",\"\",Input!B55)","v":""},{"$f":"IF(Input!C55=\"\",\"\",Input!C55)","v":""},null,{"$f":"IF(Input!E55=\"<25%\",1,IF(Input!E55=\">50%\",3,IF(Input!E55=\"25-50%\",2,\"\")))","v":""},{"$f":"IF(Input!$D$11=' lists & calculation '!$G$3,1,IF(Input!$D$11=' lists & calculation '!$G$4,2,IF(Input!$D$11=' lists & calculation '!$G$5,3,IF(Input!$D$11=' lists & calculation '!$G$6,4,IF(Input!$D$11=' lists & calculation '!$G$7,5,IF(Input!$D$11=' lists & calculation '!$G$8,6,\"\"))))))","v":""},{"$f":"IF(Input!F55=\"\",\"\",IF(F47=1,Input!F55*1.128,IF(F47=2,Input!F55*0.9,IF(F47=3,Input!F55*1.2,IF(F47=4,Input!F55,IF(F47=5,Input!F55,IF(F47=6,Input!F55*1.333,\"\")))))))","v":""},"","","",null,null,"",null,"","","",""]
[41,{"$f":"IF(Input!B56=\"\",\"\",Input!B56)","v":""},{"$f":"IF(Input!C56=\"\",\"\",Input!C56)","v":""},null,{"$f":"IF(Input!E56=\"<25%\",1,IF(Input!E56=\">50%\",3,IF(Input!E56=\"25-50%\",2,\"\")))","v":""},{"$f":"IF(Input!$D$11=' lists & calculation '!$G$3,1,IF(Input!$D$11=' lists & calculation '!$G$4,2,IF(Input!$D$11=' lists & calculation '!$G$5,3,IF(Input!$D$11=' lists & calculation '!$G$6,4,IF(Input!$D$11=' lists & calculation '!$G$7,5,IF(Input!$D$11=' lists & calculation '!$G$8,6,\"\"))))))","v":""},{"$f":"IF(Input!F56=\"\",\"\",IF(F48=1,Input!F56*1.128,IF(F48=2,Input!F56*0.9,IF(F48=3,Input!F56*1.2,IF(F48=4,Input!F56,IF(F48=5,Input!F56,IF(F48=6,Input!F56*1.333,\"\")))))))","v":""},"","","",null,null,"",null,"","","",""]
[42,{"$f":"IF(Input!B57=\"\",\"\",Input!B57)","v":""},{"$f":"IF(Input!C57=\"\",\"\",Input!C57)","v":""},null,{"$f":"IF(Input!E57=\"<25%\",1,IF(Input!E57=\">50%\",3,IF(Input!E57=\"25-50%\",2,\"\")))","v":""},{"$f":"IF(Input!$D$11=' lists & calculation '!$G$3,1,IF(Input!$D$11=' lists & calculation '!$G$4,2,IF(Input!$D$11=' lists & calculation '!$G$5,3,IF(Input!$D$11=' lists & calculation '!$G$6,4,IF(Input!$D$11=' lists & calculation '!$G$7,5,IF(Input!$D$11=' lists & calculation '!$G$8,6,\"\"))))))","v":""},{"$f":"IF(Input!F57=\"\",\"\",IF(F49=1,Input!F57*1.128,IF(F49=2,Input!F57*0.9,IF(F49=3,Input!F57*1.2,IF(F49=4,Input!F57,IF(F49=5,Input!F57,IF(F49=6,Input!F57*1.333,\"\")))))))","v":""},"","","",null,null,"",null,"","","",""]
[43,{"$f":"IF(Input!B58=\"\",\"\",Input!B58)","v":""},{"$f":"IF(Input!C58=\"\",\"\",Input!C58)","v":""},null,{"$f":"IF(Input!E58=\"<25%\",1,IF(Input!E58=\">50%\",3,IF(Input!E58=\"25-50%\",2,\"\")))","v":""},{"$f":"IF(Input!$D$11=' lists & calculation '!$G$3,1,IF(Input!$D$11=' lists & calculation '!$G$4,2,IF(Input!$D$11=' lists & calculation '!$G$5,3,IF(Input!$D$11=' lists & calculation '!$G$6,4,IF(Input!$D$11=' lists & calculation '!$G$7,5,IF(Input!$D$11=' lists & calculation '!$G$8,6,\"\"))))))","v":""},{"$f":"IF(Input!F58=\"\",\"\",IF(F50=1,Input!F58*1.128,IF(F50=2,Input!F58*0.9,IF(F50=3,Input!F58*1.2,IF(F50=4,Input!F58,IF(F50=5,Input!F58,IF(F50=6,Input!F58*1.333,\"\")))))))","v":""},"","","",null,null,"",null,"","","",""]
[44,{"$f":"IF(Input!B59=\"\",\"\",Input!B59)","v":""},{"$f":"IF(Input!C59=\"\",\"\",Input!C59)","v":""},null,{"$f":"IF(Input!E59=\"<25%\",1,IF(Input!E59=\">50%\",3,IF(Input!E59=\"25-50%\",2,\"\")))","v":""},{"$f":"IF(Input!$D$11=' lists & calculation '!$G$3,1,IF(Input!$D$11=' lists & calculation '!$G$4,2,IF(Input!$D$11=' lists & calculation '!$G$5,3,IF(Input!$D$11=' lists & calculation '!$G$6,4,IF(Input!$D$11=' lists & calculation '!$G$7,5,IF(Input!$D$11=' lists & calculation '!$G$8,6,\"\"))))))","v":""},{"$f":"IF(Input!F59=\"\",\"\",IF(F51=1,Input!F59*1.128,IF(F51=2,Input!F59*0.9,IF(F51=3,Input!F59*1.2,IF(F51=4,Input!F59,IF(F51=5,Input!F59,IF(F51=6,Input!F59*1.333,\"\")))))))","v":""},"","","",null,null,"",null,"","","",""]
[45,{"$f":"IF(Input!B60=\"\",\"\",Input!B60)","v":""},{"$f":"IF(Input!C60=\"\",\"\",Input!C60)","v":""},null,{"$f":"IF(Input!E60=\"<25%\",1,IF(Input!E60=\">50%\",3,IF(Input!E60=\"25-50%\",2,\"\")))","v":""},{"$f":"IF(Input!$D$11=' lists & calculation '!$G$3,1,IF(Input!$D$11=' lists & calculation '!$G$4,2,IF(Input!$D$11=' lists & calculation '!$G$5,3,IF(Input!$D$11=' lists & calculation '!$G$6,4,IF(Input!$D$11=' lists & calculation '!$G$7,5,IF(Input!$D$11=' lists & calculation '!$G$8,6,\"\"))))))","v":""},{"$f":"IF(Input!F60=\"\",\"\",IF(F52=1,Input!F60*1.128,IF(F52=2,Input!F60*0.9,IF(F52=3,Input!F60*1.2,IF(F52=4,Input!F60,IF(F52=5,Input!F60,IF(F52=6,Input!F60*1.333,\"\")))))))","v":""},"","","",null,null,"",null,"","","",""]
[46,{"$f":"IF(Input!B61=\"\",\"\",Input!B61)","v":""},{"$f":"IF(Input!C61=\"\",\"\",Input!C61)","v":""},null,{"$f":"IF(Input!E61=\"<25%\",1,IF(Input!E61=\">50%\",3,IF(Input!E61=\"25-50%\",2,\"\")))","v":""},{"$f":"IF(Input!$D$11=' lists & calculation '!$G$3,1,IF(Input!$D$11=' lists & calculation '!$G$4,2,IF(Input!$D$11=' lists & calculation '!$G$5,3,IF(Input!$D$11=' lists & calculation '!$G$6,4,IF(Input!$D$11=' lists & calculation '!$G$7,5,IF(Input!$D$11=' lists & calculation '!$G$8,6,\"\"))))))","v":""},{"$f":"IF(Input!F61=\"\",\"\",IF(F53=1,Input!F61*1.128,IF(F53=2,Input!F61*0.9,IF(F53=3,Input!F61*1.2,IF(F53=4,Input!F61,IF(F53=5,Input!F61,IF(F53=6,Input!F61*1.333,\"\")))))))","v":""},"","","",null,null,"",null,"","","",""]
[47,{"$f":"IF(Input!B62=\"\",\"\",Input!B62)","v":""},{"$f":"IF(Input!C62=\"\",\"\",Input!C62)","v":""},null,{"$f":"IF(Input!E62=\"<25%\",1,IF(Input!E62=\">50%\",3,IF(Input!E62=\"25-50%\",2,\"\")))","v":""},{"$f":"IF(Input!$D$11=' lists & calculation '!$G$3,1,IF(Input!$D$11=' lists & calculation '!$G$4,2,IF(Input!$D$11=' lists & calculation '!$G$5,3,IF(Input!$D$11=' lists & calculation '!$G$6,4,IF(Input!$D$11=' lists & calculation '!$G$7,5,IF(Input!$D$11=' lists & calculation '!$G$8,6,\"\"))))))","v":""},{"$f":"IF(Input!F62=\"\",\"\",IF(F54=1,Input!F62*1.128,IF(F54=2,Input!F62*0.9,IF(F54=3,Input!F62*1.2,IF(F54=4,Input!F62,IF(F54=5,Input!F62,IF(F54=6,Input!F62*1.333,\"\")))))))","v":""},"","","",null,null,"",null,"","","",""]
[48,{"$f":"IF(Input!B63=\"\",\"\",Input!B63)","v":""},{"$f":"IF(Input!C63=\"\",\"\",Input!C63)","v":""},null,{"$f":"IF(Input!E63=\"<25%\",1,IF(Input!E63=\">50%\",3,IF(Input!E63=\"25-50%\",2,\"\")))","v":""},{"$f":"IF(Input!$D$11=' lists & calculation '!$G$3,1,IF(Input!$D$11=' lists & calculation '!$G$4,2,IF(Input!$D$11=' lists & calculation '!$G$5,3,IF(Input!$D$11=' lists & calculation '!$G$6,4,IF(Input!$D$11=' lists & calculation '!$G$7,5,IF(Input!$D$11=' lists & calculation '!$G$8,6,\"\"))))))","v":""},{"$f":"IF(Input!F63=\"\",\"\",IF(F55=1,Input!F63*1.128,IF(F55=2,Input!F63*0.9,IF(F55=3,Input!F63*1.2,IF(F55=4,Input!F63,IF(F55=5,Input!F63,IF(F55=6,Input!F63*1.333,\"\")))))))","v":""},"","","",null,null,"",null,"","","",""]
[49,{"$f":"IF(Input!B64=\"\",\"\",Input!B64)","v":""},{"$f":"IF(Input!C64=\"\",\"\",Input!C64)","v":""},null,{"$f":"IF(Input!E64=\"<25%\",1,IF(Input!E64=\">50%\",3,IF(Input!E64=\"25-50%\",2,\"\")))","v":""},{"$f":"IF(Input!$D$11=' lists & calculation '!$G$3,1,IF(Input!$D$11=' lists & calculation '!$G$4,2,IF(Input!$D$11=' lists & calculation '!$G$5,3,IF(Input!$D$11=' lists & calculation '!$G$6,4,IF(Input!$D$11=' lists & calculation '!$G$7,5,IF(Input!$D$11=' lists & calculation '!$G$8,6,\"\"))))))","v":""},{"$f":"IF(Input!F64=\"\",\"\",IF(F56=1,Input!F64*1.128,IF(F56=2,Input!F64*0.9,IF(F56=3,Input!F64*1.2,IF(F56=4,Input!F64,IF(F56=5,Input!F64,IF(F56=6,Input!F64*1.333,\"\")))))))","v":""},"","","",null,null,"",null,"","","",""]
[50,{"$f":"IF(Input!B65=\"\",\"\",Input!B65)","v":""},{"$f":"IF(Input!C65=\"\",\"\",Input!C65)","v":""},null,{"$f":"IF(Input!E65=\"<25%\",1,IF(Input!E65=\">50%\",3,IF(Input!E65=\"25-50%\",2,\"\")))","v":""},{"$f":"IF(Input!$D$11=' lists & calculation '!$G$3,1,IF(Input!$D$11=' lists & calculation '!$G$4,2,IF(Input!$D$11=' lists & calculation '!$G$5,3,IF(Input!$D$11=' lists & calculation '!$G$6,4,IF(Input!$D$11=' lists & calculation '!$G$7,5,IF(Input!$D$11=' lists & calculation '!$G$8,6,\"\"))))))","v":""},{"$f":"IF(Input!F65=\"\",\"\",IF(F57=1,Input!F65*1.128,IF(F57=2,Input!F65*0.9,IF(F57=3,Input!F65*1.2,IF(F57=4,Input!F65,IF(F57=5,Input!F65,IF(F57=6,Input!F65*1.333,\"\")))))))","v":""},"","",{"$f":"IF(OR(E57=\"\",H57=\"\"),\"\",IF(I57<5,0,IF(AND(I57=5,E57=0),0,IF(AND(I57=5,E57>0),1,IF(AND(I57=6,E57=0),1,IF(AND(I57=6,E57>0),2,IF(I57>6,2,\"\")))))))","v":""},null,null,"",null,"","","",""]

{"sheet":"factsheet Oil-Char-Acetic Acid","index":12,"n_rows":30,"n_cols":3,"rows_kept":30,"cut":false,"hidden":false,"merged":[[47,7,47,8],[42,7,42,8],[45,7,45,8],[46,7,46,8],[43,6,44,6],[43,7,44,8],[36,7,36,8],[37,7,37,8],[38,7,38,8],[40,6,40,8],[41,7,41,8],[31,6,31,8],[32,7,32,8],[33,7,33,8],[34,7,34,8],[35,7,35,8],[31,1,31,2],[8,1,8,3],[13,1,13,3],[17,1,17,3],[21,1,21,3],[16,1,16,2],[20,1,20,2],[26,1,26,2],[27,1,27,2]]}
[null,"PYROLYSIS OF CELLULOSE TO PRODUCE OIL, (BIO)CHAR AND ACETIC ACID"]
[]
[null,"Possible effects on other processes of sewage treatment plant"]
[]
[null,null,"implementation of pyrolysis of cellulose has no impact on this process"]
[null,null,"implementation of pyrolysis of cellulose POSSIBLY has an effect on this process"]
[null,null,"implementation of pyrolysis of cellulose has an effect on this process"]
[]
[null,"Nutrient and/or organic carbon removal"]
[null,"Aerobic secondary treatment"]
[null,"Anammox"]
[null,"Nereda"]
[null,"Coagulation / flocculation"]
[null,"Energy production"]
[null,"Anaerobic digestion of primary & secondary sludge to methane"]
[null,"Heat or electricity from cellulose"]
[null,"Gasification of sewage sludge to syngas"]
[null,"Nutrient recovery"]
[null,"Struvite  from waste water (Anphos)"]
[null,"Phosphorus from sewage sludge (EuPhore, TetraPhos, PULSE, Struvia, RecoPhos, Airprex, Pearl)"]
[null,"Phosphorus from sewage water (FiltraPHOS)"]
[null,"Other recovery processes"]
[null,"Lemna growth (eg. to feed or protein)"]
[null,"(micro) Algae growth (eg. to feed or protein)"]
[null,"PHA production"]
[null,"Lipid production for bio-oil"]
[null,"Kaumera (biopolymer from Nereda process)"]
[null,"Direct use of sludge as fertilizer (ROUTES)"]
[]
[null,"Additional information on technique"]

{"sheet":"Decision rules","index":13,"n_rows":10,"n_cols":8,"rows_kept":10,"cut":false,"hidden":false,"merged":[]}
[null,"Which decision rules are used in the DST?"]
[]
[null,"PHA",null,null,"Lipids for biodiesel",null,null,"Oil - Char - Acetic Acid"]
[null,"1. The sewage treatment plant should have a primary treatment (YES)",null,null,"1. Primary treatment (yes/no) and percentage sewage from households are not relevant for lipids for Bio-diesel.",null,null,"1. Primary treatment (yes/no), BOD/COD and COD are not relevant for oil, char and acetic acid."]
[null,"2. Amount of population equivalents (PE): criterium differs per country because the calculation of the PE is different.",null,null,"2. Amount of population equivalents (PE): criterium differs per country because the calculation of the PE is different.",null,null,"2. Percentage sewage from households"]
[null,"BELGIUM\nPE < 45000 = input stream of STP is probably NOT suitable for this technique\n45000 < PE < 90000 = it is not yet clear if input stream of STP is suitable for this technique\nPE > 90000 = input stream of STP  is promising for this technique\n\nFRANCE\nPE < 36000 = input stream of STP is probably NOT suitable for this technique\n36000 < PE < 72000 = it is not yet clear if input stream of STP is suitable for this technique\nPE > 72000 = input stream of STP  is promising for this technique\n\nGERMANY\nPE < 48000 = input stream of STP is probably NOT suitable for this technique\n48000 < PE < 96000 = it is not yet clear if input stream of STP is suitable for this technique\nPE > 96000 = input stream of STP  is promising for this technique\n\nLUXEMBOURG & NETHERLANDS\nPE < 40000 = input stream of STP is probably NOT suitable for this technique\n40000 < PE < 80000 = it is not yet clear if input stream of STP is suitable for this technique\nPE > 80000 = input stream of STP  is promising for this technique\n\nUNITED KINGDOM\nPE < 53000 = input stream of STP is probably NOT suitable for this technique\n53000 < PE < 107000 = it is not yet clear if input stream of STP is suitable for this technique\nPE > 107000 = input stream of STP  is promising for this technique",null,null,"BELGIUM\nPE < 22500 = input stream of STP is probably NOT suitable for this technique\n22500 < PE < 56400 = it is not yet clear if input stream of STP is suitable for this technique\nPE > 56400 = input stream of STP  is promising for this technique\n\nFRANCE\nPE < 18000 = input stream of STP is probably NOT suitable for this technique\n18000 < PE < 45000 = it is not yet clear if input stream of STP is suitable for this technique\nPE > 45000 = input stream of STP  is promising for this technique\n\nGERMANY\nPE < 24000 = input stream of STP is probably NOT suitable for this technique\n24000 < PE < 60000 = it is not yet clear if input stream of STP is suitable for this technique\nPE > 60000 = input stream of STP  is promising for this technique\n\nLUXEMBOURG & NETHERLANDS\nPE < 20000 = input stream of STP is probably NOT suitable for this technique\n20000 < PE < 50000 = it is not yet clear if input stream of STP is suitable for this technique\nPE > 50000 = input stream of STP  is promising for this technique\n\nUNITED KINGDOM\nPE < 26650 = input stream of STP is probably NOT suitable for this technique\n26650 < PE < 66650 = it is not yet clear if input stream of STP is suitable for this technique\nPE > 66650 = input stream of STP  is promising for this technique",null,null,"The input stream of STP is probably NOT suitable for this technique if:\n- % sewage water from households < 25% and PE < 40,000\n- % sewage water from households 25 - 50% and PE < 25,000\n\nIt is not yet clear if input stream of STP is suitable for this technique if:\n- % sewage water from households < 25% and PE > 40,000\n- % sewage water from households 25 - 50% and PE > 25,000\n- % sewage water from households >50% and PE < 40,000\n\nThe input stream of STP  is promising for this technique if:\n- % sewage water from households > 50% and PE > 40,000"]
[null,"3. BOD/COD ratio:",null,null,"3. BOD/COD ratio:",null,null,"3. Amount of population equivalents (PE): criterium differs per country because the calculation of the PE is different."]
[null,"BOD/COD-ratio < 0,2 = input stream of STP is probably NOT suitable for this technique\n0,2 < BOD/COD-ratio < 0,4 = it is not yet clear if input stream of STP is suitable for this technique\nBOD/COD-ratio >0,4 = input stream of STP  is promising for this technique\n\nIf the default value is used for the BOD/COD ratio (see manual and/or input tab for explanation), the value / number is  red and bold. This means that the shown result of the cell (green/yellow/orange) is NOT based on actual measuring data but on a default value.",null,null,"BOD/COD-ratio < 0,2 = input stream of STP is probably NOT suitable for this technique\n0,2 < BOD/COD-ratio < 0,4 = it is not yet clear if input stream of STP is suitable for this technique\nBOD/COD-ratio >0,4 = input stream of STP  is promising for this technique\n\nIf the default value is used for the BOD/COD ratio (see manual and/or input tab for explanation), the value / number is  red and bold. This means that the shown result of the cell (green/yellow/orange) is NOT based on actual measuring data but on a default value.",null,null,"The input stream of STP is probably NOT suitable for this technique if:\n- % sewage water from households < 25% and PE < 40,000\n- % sewage water from households 25 - 50% and PE < 25,000\n\nIt is not yet clear if input stream of STP is suitable for this technique if:\n- % sewage water from households < 25% and PE > 40,000\n- % sewage water from households 25 - 50% and PE > 25,000\n- % sewage water from households >50% and PE < 40,000\n\nThe input stream of STP  is promising for this technique if:\n- % sewage water from households > 50% and PE > 40,000"]
[null,"4. percentage sewage from households and COD concentration are not relevant for PHA production",null,null,"4. COD"]
[null,null,null,null,"COD < 450 mg/l = input stream of STP is probably NOT suitable for this technique\n450 < COD < 600 mg/l = it is not yet clear if input stream of STP is suitable for this technique\nCOD > 600 mg/l = input stream of STP is promising for this technique"]

{"sheet":" lists & calculation ","index":14,"n_rows":28,"n_cols":17,"rows_kept":28,"cut":false,"hidden":true,"merged":[]}
[null,"households",null,"primary treatment",null,null,"PE"]
[null,"<25%",null,"Yes"]
[null,"25-50%",null,"No",null,null,"Belgium (COD 135 g/day, BOD 60 g/day, 150 liter per person per day)"]
[null,">50%",null,null,null,null,"France (COD 135 g/day, BOD 60 g/day, 120 liter per person per day)",null,null,null,null,null,null,null,"=IF(Input!D3=' lists & calculation '!G3;1;IF(Input!D3=' lists & calculation '!G4;2;IF(Input!D3=' lists & calculation '!G5;3;IF(Input!D3=' lists & calculation '!G6;4;IF(Input!D3=' lists & calculation '!G7;5;\"\")))))"]
[null,null,null,null,null,null,"Germany (COD 120 g/day, BOD 60 g/day, 180 liter per person per day)"]
[null,null,null,null,null,null,"Luxembourg (COD 120 g/day, BOD 60 g/day, 150 liter per person per day)"]
[null,null,null,null,null,null,"Netherlands (COD 120 g/day, BOD 54 g/day, 150 liter per person per day)"]
[null,null,null,null,null,null,"United Kingdom (COD 120 g/day, BOD 60 g/day, 200 liter per person per day)"]
[]
[]
[]
[]
[null,null,"primary treatment",null,"% households",null,"amount PE","households&PE","BOD/COD",null,"COD",null,null,null,null,"Overall"]
[]
[null,"PHA",{"$f":"IF($D$9=\"No\",0,IF($D$9=\"Yes\",2,\"\"))","v":""},null,null,null,{"$f":"IF(AND(#REF!<=40000,#REF!>0),0,IF(#REF!>=80000,2,IF(AND(#REF!>=40000,#REF!<=79999),1,\"\")))","v":{"$error":"#REF!"}},null,{"$f":"IF(AND(#REF!<=0.2,#REF!>0),0,IF(#REF!>=0.4,2,IF(AND(#REF!>=0.2,#REF!<=0.4),1,\"\")))","v":{"$error":"#REF!"}},null,null,null,{"$f":"IF(AND(#REF!<=50000,#REF!>0),0,IF(#REF!>=100000,2,IF(AND(#REF!>=50000,#REF!<=99999),1,\"\")))","v":{"$error":"#REF!"}},null,"alles groen",{"$f":"AND('calc results PHA'!D8=2,'calc results PHA'!H8=2,'calc results PHA'!I8=2)","v":false},{"$f":"IF(P15=TRUE,1,0)","v":0}]
[null,null,"no = 0",null,null,null,"<40000 = 0",null,"<0,2 = 0",null,null,null,null,null,"min 1 oranje ",{"$f":"OR('calc results PHA'!D8=0,'calc results PHA'!H8=0,'calc results PHA'!I8=0)","v":false},{"$f":"IF(P16=TRUE,1,0)","v":0}]
[null,null,null,null,null,null,"40000 - 80000 = 1",null,"0,2 - 0,4 = 1",null,null,null,null,null,"min 1 geel ",{"$f":"OR('calc results PHA'!D8=1,'calc results PHA'!H8=1,'calc results PHA'!I8=1)","v":false},{"$f":"IF(P17=\"WAAR\",1,0)","v":0}]
[null,null,"yes = 2",null,null,null,">80000 = 2",null,">0,4 = 2"]
[]
[null,"LIPIDS",null,null,null,null,{"$f":"IF(AND(#REF!<=20000,#REF!>0),0,IF(#REF!>=50000,2,IF(AND(#REF!>20000,#REF!<=49999),1,\"\")))","v":{"$error":"#REF!"}},null,null,null,{"$f":"IF(AND(#REF!<=450,#REF!>0),0,IF(#REF!>=600,2,IF(AND(#REF!>450,#REF!<=599),1,\"\")))","v":{"$error":"#REF!"}},null,null,null,"alles groen",{"$f":"AND(G20=2,K20=2)","v":{"$error":"#REF!"}},{"$f":"IF(P20=TRUE,1,0)","v":{"$error":"#REF!"}}]
[null,null,null,null,null,null,"<20000 = 0",null,null,null,"<450 mg/l = 0",null,null,null,"min 1 oranje ",{"$f":"OR(G20=0,K20=0)","v":{"$error":"#REF!"}},{"$f":"IF(P21=TRUE,1,0)","v":{"$error":"#REF!"}}]
[null,null,null,null,null,null,"20000 - 50000 = 1",null,null,null,"450-600 mg/l = 1",null,null,null,"min 1 geel ",{"$f":"OR(G20=1,K20=1)","v":{"$error":"#REF!"}},{"$f":"IF(P22=\"WAAR\",1,0)","v":{"$error":"#REF!"}}]
[null,null,null,null,null,null,">50000 = 2",null,null,null,">600 mg/l = 2"]
[]
[null,"CELLULOSE",null,null,{"$f":"IF($D$11=\"<25%\",0,IF($D$11=\">50%\",2,IF($D$11=\"25-50%\",1,\"\")))","v":""},null,{"$f":"IF(AND(#REF!<25000,#REF!>0),0,IF(#REF!>=40000,2,IF(AND(#REF!>=25000,#REF!<=39999),1,\"\")))","v":{"$error":"#REF!"}},{"$f":"IF($Q$15<2,0,IF($Q$15>=3,2,IF($Q$15=2,1,\"\")))","v":0},null,null,null,null,null,null,"alles groen",{"$f":"AND(G25=2,E25=2)","v":{"$error":"#REF!"}},{"$f":"IF(P25=TRUE,1,0)","v":{"$error":"#REF!"}}]
[null,null,null,null,"< 25%",null,"<25000 = 0",{"$f":"E25+G25","v":{"$error":"#VALUE!"}},null,null,null,null,null,null,"min 1 oranje ",{"$f":"OR(G25=0,E25=0)","v":{"$error":"#REF!"}},{"$f":"IF(P26=TRUE,1,0)","v":{"$error":"#REF!"}}]
[null,null,null,null,"25 - 50%",null,"25000 - 40000 = 1",null,null,null,null,null,null,null,"min 1 geel ",{"$f":"OR(G25=1,E25=1)","v":{"$error":"#REF!"}},{"$f":"IF(P27=\"WAAR\",1,0)","v":{"$error":"#REF!"}}]
[null,null,null,null,">50%",null,">40000 = 2"]